BEGIN:VCALENDAR
VERSION:2.0
PRODID:-//www.dnesnivylet.cz                                                                                                                        Tip na výlet pro celou rodinu. - ECPv6.15.13.1//NONSGML v1.0//EN
CALSCALE:GREGORIAN
METHOD:PUBLISH
X-WR-CALNAME:www.dnesnivylet.cz                                                                                                                        Tip na výlet pro celou rodinu.
X-ORIGINAL-URL:https://dnesnivylet.cz
X-WR-CALDESC:Akce na www.dnesnivylet.cz                                                                                                                        Tip na výlet pro celou rodinu.
REFRESH-INTERVAL;VALUE=DURATION:PT1H
X-Robots-Tag:noindex
X-PUBLISHED-TTL:PT1H
BEGIN:VTIMEZONE
TZID:Europe/Prague
BEGIN:DAYLIGHT
TZOFFSETFROM:+0100
TZOFFSETTO:+0200
TZNAME:CEST
DTSTART:20250330T010000
END:DAYLIGHT
BEGIN:STANDARD
TZOFFSETFROM:+0200
TZOFFSETTO:+0100
TZNAME:CET
DTSTART:20251026T010000
END:STANDARD
BEGIN:DAYLIGHT
TZOFFSETFROM:+0100
TZOFFSETTO:+0200
TZNAME:CEST
DTSTART:20260329T010000
END:DAYLIGHT
BEGIN:STANDARD
TZOFFSETFROM:+0200
TZOFFSETTO:+0100
TZNAME:CET
DTSTART:20261025T010000
END:STANDARD
BEGIN:DAYLIGHT
TZOFFSETFROM:+0100
TZOFFSETTO:+0200
TZNAME:CEST
DTSTART:20270328T010000
END:DAYLIGHT
BEGIN:STANDARD
TZOFFSETFROM:+0200
TZOFFSETTO:+0100
TZNAME:CET
DTSTART:20271031T010000
END:STANDARD
END:VTIMEZONE
BEGIN:VEVENT
DTSTART;TZID=Europe/Prague:20260502T163000
DTEND;TZID=Europe/Prague:20260502T193000
DTSTAMP:20260419T133110
CREATED:20260113T192049Z
LAST-MODIFIED:20260113T192049Z
UID:16737-1777739400-1777750200@dnesnivylet.cz
SUMMARY:KarmaFest Pardubice 2026
DESCRIPTION:KarmaFest Pardubice 2026 se uskuteční dne 2026-05-02 v 16:30 v Pardubice\, Music Club Žlutý pes. \n🎟️ Koupit vstupenku \n\nKarmaFest 2026: Reflections of Karma\, Imodium a Post-it dokážou\, že rock žije  \nKarmaFest 2026 je první ročník nového klubového festivalu zaměřeného na současnou rockovou a kytarovou hudbu. Vzniká z iniciativy mezinárodní rockové superskupiny Reflections of Karma a reaguje na dlouhodobý úbytek prostoru pro živý rock v klubovém prostředí. Festival je koncipován jako komorní indoorová akce\, která staví na blízkém kontaktu kapel s publikem\, autentické atmosféře a energii\, jež vzniká pouze při živém hraní. \nReflections of Karma patří k nejvýraznějším novým jménům české rockové scény posledních let. Kapelu tvoří zpěvák Travis O’Neill (ex-Pipes and Pints)\, kytarista Maťo Mišík (ex-Tata Bojs)\, baskytarista Josh Stewart (Gaia Mesiah) a bubeník Tomáš Hajíček Jr. (Krucipüsk). Na podzim 2025 vydala debutové album Venom & Velvet\, byla oceněna jako Objev roku v anketě Žebřík Awards a její první pražský koncert byl zcela vyprodán. Právě zkušenosti z klubové scény a potřeba vytvořit prostor pro živou\, poctivou rockovou hudbu stály u zrodu KarmaFestu. \nV rámci KarmaFestu 2026 se představí také kapely Imodium a Post-it. Imodium se po comebacku v roce 2023 vrátili na pódia ve výborné formě\, což potvrdily recenze na album Horizont i i koncerty ve Forum Karlín či Nové Spirále\, kde se kapela kolem zpěváka a producenta Thoma Frödeho představila akusticky. Post-it navazují na více než dvacetiletou historii české klubové scény a po personálním rozšíření přinášejí hutnější a syrovější zvuk. \nKarmaFest 2026 proběhne formou jarní a podzimní koncertní série v klubech napříč Českou republikou. Na jaře se festival zastaví v Havlíčkově Brodě\, Plzni\, Teplicích\, Českých Budějovicích a Pardubicích\, na podzim pak v Jablonci nad Nisou\, Jihlavě\, Praze\, Litomyšli a Olomouci. Další termíny jsou v jednání. \nRocková hudba nezmizela\, jen potřebuje prostor\, kde může znít naplno.  \nKarmaFest 2026 – JARO4.⁠ ⁠4. Havlíčkův Brod – Klub Oko11.⁠ ⁠4. Plzeň – Buena Vista18.⁠ ⁠4. Teplice – Knak25.⁠ ⁠4. České Budějovice – MC Fabrika2.5. Pardubice – Žlutý Pes \nKarmaFest 2026 – PODZIM3.⁠ ⁠10. Jablonec nad Nisou – Stage klub10.⁠ ⁠10. Jihlava – D-Klub22.⁠ ⁠10. Praha – Futurum Music Bar23.⁠ ⁠10. Litomyšl – Music Club Kotelna (MC Kotelna)31.⁠ ⁠10. Olomouc – S-Klub \n\nTento tip na kulturní akci v Pardubice najdete v přehledu na Dnesnivylet.cz spolu s dalšími koncerty\, festivaly a divadelními představeními.Každý si vybere co se mu líbí. Nezapomeňte koupit vstupenky včas\, stačí kliknout a budete přesměrování na oficiálního prodejce vstupenek.
URL:https://dnesnivylet.cz/event/karmafest-pardubice-2026/
LOCATION:Music Club Žlutý pes\, Pardubice\, Music Club Žlutý pes\, Pardubice\, Česká republika
CATEGORIES:Koncert
ATTACH;FMTTYPE=image/jpeg:https://dnesnivylet.cz/wp-content/uploads/2026/01/320-8776a746698546c583bd0974b00449e5.jpg
END:VEVENT
BEGIN:VEVENT
DTSTART;TZID=Europe/Prague:20260503T180000
DTEND;TZID=Europe/Prague:20260503T210000
DTSTAMP:20260419T133110
CREATED:20260419T120858Z
LAST-MODIFIED:20260419T120858Z
UID:20721-1777831200-1777842000@dnesnivylet.cz
SUMMARY:Léčba smíchem - Talk show / Bubílková\, Pitkin\, Šimůnek
DESCRIPTION:Léčba smíchem – Talk show / Bubílková\, Pitkin\, Šimůnek se uskuteční dne 2026-05-03 v 18:00 v Pardubice\, KD Hronovická. \n🎟️ Koupit vstupenku \n\nLÉČBA SMÍCHEM – ZUZANA BUBÍLKOVÁ\, MILAN PITKIN A MIROSLAV ŠIMŮNEK \n  \nTalkshow Zuzany Bubílkové\, Milana Pitkina a Miroslava Šimůnka.  \nVtipné vyprávění plné historek ze soukromého i profesního života protagonistů\, glosy na aktuální témata současného dění a bezpočet vtipů Milana Pitkina s písničkami Waldemara Matušky.  \nDélka: 110 minut plus autogramiáda \n\nTento tip na kulturní akci v Pardubice najdete v přehledu na Dnesnivylet.cz spolu s dalšími koncerty\, festivaly a divadelními představeními.Každý si vybere co se mu líbí. Nezapomeňte koupit vstupenky včas\, stačí kliknout a budete přesměrování na oficiálního prodejce vstupenek.
URL:https://dnesnivylet.cz/event/lecba-smichem-talk-show-bubilkova-pitkin-simunek-8/
LOCATION:KD Hronovická\, Pardubice\, KD Hronovická\, Pardubice\, Česká republika
CATEGORIES:Zábava
ATTACH;FMTTYPE=image/jpeg:https://dnesnivylet.cz/wp-content/uploads/2026/04/320-eddb6744f3b847a2bcaa6a6e020b94a5.jpg
END:VEVENT
BEGIN:VEVENT
DTSTART;TZID=Europe/Prague:20260512T190000
DTEND;TZID=Europe/Prague:20260512T220000
DTSTAMP:20260419T133110
CREATED:20251129T071557Z
LAST-MODIFIED:20251129T071557Z
UID:14158-1778612400-1778623200@dnesnivylet.cz
SUMMARY:Historky z Tinderu Tour 2026
DESCRIPTION:Historky z Tinderu Tour 2026 se uskuteční dne 2026-05-12 v 19:00 v Pardubice\, Music Club Žlutý pes. \n🎟️ Koupit vstupenku \n\nStand up comedy show s Lucií Macháčkovou\, Kateřinou Haškovou a Alenou Dolákovou. Diváci se ponoří do husté a pořádně peprné show\, ve které komičky prozradí vše\, co (ne)ví o vztazích\, lásce\, sexu a seznamování. NYNÍ VE VAŠEM MĚSTĚ! \n\nTento tip na kulturní akci v Pardubice najdete v přehledu na Dnesnivylet.cz spolu s dalšími koncerty\, festivaly a divadelními představeními.Každý si vybere co se mu líbí. Nezapomeňte koupit vstupenky včas\, stačí kliknout a budete přesměrování na oficiálního prodejce vstupenek.
URL:https://dnesnivylet.cz/event/historky-z-tinderu-tour-2026-24/
LOCATION:Music Club Žlutý pes\, Pardubice\, Music Club Žlutý pes\, Pardubice\, Česká republika
CATEGORIES:Zábava
ATTACH;FMTTYPE=image/jpeg:https://dnesnivylet.cz/wp-content/uploads/2025/11/320-a2e3e1cf091343bcb78e4c67a6907533.jpg
END:VEVENT
BEGIN:VEVENT
DTSTART;TZID=Europe/Prague:20260523T120000
DTEND;TZID=Europe/Prague:20260523T150000
DTSTAMP:20260419T133110
CREATED:20251212T185642Z
LAST-MODIFIED:20251212T185642Z
UID:14939-1779537600-1779548400@dnesnivylet.cz
SUMMARY:KILL FEST open air
DESCRIPTION:KILL FEST open air se uskuteční dne 2026-05-23 v 12:00 v Pardubice\, Music Club Žlutý pes. \n🎟️ Koupit vstupenku \n\nKILL FEST OPEN AIR 2026  \nCEMETERY LEGACY – THRASH DEATH METAL – USA /BAY AREACREPUSCOLO – DEATH METAL – ITALYPLÁN TO KILL – GROOVE THRASH – ARG/CZSYMBTOMY – DEATH METAL – CZFATAL PUNISHMENT – THRASH METAL – CZPROLAPSED – DEATH GRIND – CZTHE BLACK MARY – BLACK DEATH – CZ/PER \n\nTento tip na kulturní akci v Pardubice najdete v přehledu na Dnesnivylet.cz spolu s dalšími koncerty\, festivaly a divadelními představeními.Každý si vybere co se mu líbí. Nezapomeňte koupit vstupenky včas\, stačí kliknout a budete přesměrování na oficiálního prodejce vstupenek.
URL:https://dnesnivylet.cz/event/kill-fest-open-air/
LOCATION:Music Club Žlutý pes\, Pardubice\, Music Club Žlutý pes\, Pardubice\, Česká republika
CATEGORIES:Koncert
ATTACH;FMTTYPE=image/jpeg:https://dnesnivylet.cz/wp-content/uploads/2025/12/320-cb1fde156ec542baa47f5fa8567f8e9e.jpg
END:VEVENT
BEGIN:VEVENT
DTSTART;TZID=Europe/Prague:20260523T190000
DTEND;TZID=Europe/Prague:20260523T220000
DTSTAMP:20260419T133110
CREATED:20260103T095436Z
LAST-MODIFIED:20260103T095436Z
UID:16144-1779562800-1779573600@dnesnivylet.cz
SUMMARY:Hudba Coldplay při svíčkách
DESCRIPTION:Hudba Coldplay při svíčkách se uskuteční dne 2026-05-23 v 19:00 v Pardubice\, Sukova síň Domu hudby. \n🎟️ Koupit vstupenku \n\nNenechte si ujít večer plný energie a emocí\, kde zazní ty největší hity britské kapely Coldplay. Světlo stovky svíček vytvoří nezapomenutelnou atmosféru tohoto jedinečného koncertu. \nProgram v podání smyčcového kvarteta nabídne výběr těch nejznámějších skladeb Coldplay\, včetně hitů jako „Fix You“\, „Yellow“ či „Viva La Vida“\, které si získaly srdce fanoušků po celém světě. \nTento koncert přinese víc než jen hudbu; stovky svíček rozzáří prostor a vytvoří atmosféru plnou emocí\, melancholie a nezapomenutelných melodií\, které vás vezmou na hudební cestu s Coldplay. \nAkce je přístupná od 12 let. Každý účastník musí předložit platnou vstupenku  zakoupenou výhradně v síti  smsticket. \n\nTento tip na kulturní akci v Pardubice najdete v přehledu na Dnesnivylet.cz spolu s dalšími koncerty\, festivaly a divadelními představeními.Každý si vybere co se mu líbí. Nezapomeňte koupit vstupenky včas\, stačí kliknout a budete přesměrování na oficiálního prodejce vstupenek.
URL:https://dnesnivylet.cz/event/hudba-coldplay-pri-svickach-27/
LOCATION:Sukova síň Domu hudby\, Pardubice\, Sukova síň Domu hudby\, Pardubice\, Česká republika
CATEGORIES:Koncert
ATTACH;FMTTYPE=image/jpeg:https://dnesnivylet.cz/wp-content/uploads/2026/01/320-68446476dd0648b49dc1c925aae49cb8.jpg
END:VEVENT
BEGIN:VEVENT
DTSTART;TZID=Europe/Prague:20260525T190000
DTEND;TZID=Europe/Prague:20260525T220000
DTSTAMP:20260419T133110
CREATED:20251027T090821Z
LAST-MODIFIED:20251027T090821Z
UID:10285-1779735600-1779746400@dnesnivylet.cz
SUMMARY:Muzikály Josefa Vojtka v Pardubicích
DESCRIPTION:Muzikály Josefa Vojtka v Pardubicích se uskuteční dne 2026-05-25 v 19:00 v Pardubice\, IDEON. \n🎟️ Koupit vstupenku \n\nPro velký zájem jsme přidali další termín ve Pardubicích! \n„MUZIKÁLY JOSEFA VOJTKA – Tak trochu rockově“ \nNenechte si ujít jedinečnou možnost zažít vystoupení jednoho z nejvýraznějších hlasů české rockové a muzikálové scény. Za doprovodu známé kapely Charlie Band zazní  písně z muzikálů ve kterých Josef Vojtek učinkoval. Tři Mušketýři\, Angelika\, Kleopatra\, Hamlet\, Dracula\, a mnoho dalších. Připravte se na velkolepý zážitek\, kde se srdce rockera potká s vášní pro muzikály.  \n\nTento tip na kulturní akci v Pardubice najdete v přehledu na Dnesnivylet.cz spolu s dalšími koncerty\, festivaly a divadelními představeními.Každý si vybere co se mu líbí. Nezapomeňte koupit vstupenky včas\, stačí kliknout a budete přesměrování na oficiálního prodejce vstupenek.
URL:https://dnesnivylet.cz/event/muzikaly-josefa-vojtka-v-pardubicich/
LOCATION:IDEON\, Pardubice\, IDEON\, Pardubice\, Česká republika
CATEGORIES:Koncert
ATTACH;FMTTYPE=image/jpeg:https://dnesnivylet.cz/wp-content/uploads/2025/10/320-f2c0b18f0908487aa430e65300c32e92.jpg
END:VEVENT
END:VCALENDAR