BEGIN:VCALENDAR
VERSION:2.0
PRODID:-//www.dnesnivylet.cz                                                                                                                        Tip na výlet pro celou rodinu. - ECPv6.15.13.1//NONSGML v1.0//EN
CALSCALE:GREGORIAN
METHOD:PUBLISH
X-WR-CALNAME:www.dnesnivylet.cz                                                                                                                        Tip na výlet pro celou rodinu.
X-ORIGINAL-URL:https://dnesnivylet.cz
X-WR-CALDESC:Akce na www.dnesnivylet.cz                                                                                                                        Tip na výlet pro celou rodinu.
REFRESH-INTERVAL;VALUE=DURATION:PT1H
X-Robots-Tag:noindex
X-PUBLISHED-TTL:PT1H
BEGIN:VTIMEZONE
TZID:Europe/Prague
BEGIN:DAYLIGHT
TZOFFSETFROM:+0100
TZOFFSETTO:+0200
TZNAME:CEST
DTSTART:20250330T010000
END:DAYLIGHT
BEGIN:STANDARD
TZOFFSETFROM:+0200
TZOFFSETTO:+0100
TZNAME:CET
DTSTART:20251026T010000
END:STANDARD
BEGIN:DAYLIGHT
TZOFFSETFROM:+0100
TZOFFSETTO:+0200
TZNAME:CEST
DTSTART:20260329T010000
END:DAYLIGHT
BEGIN:STANDARD
TZOFFSETFROM:+0200
TZOFFSETTO:+0100
TZNAME:CET
DTSTART:20261025T010000
END:STANDARD
BEGIN:DAYLIGHT
TZOFFSETFROM:+0100
TZOFFSETTO:+0200
TZNAME:CEST
DTSTART:20270328T010000
END:DAYLIGHT
BEGIN:STANDARD
TZOFFSETFROM:+0200
TZOFFSETTO:+0100
TZNAME:CET
DTSTART:20271031T010000
END:STANDARD
END:VTIMEZONE
BEGIN:VEVENT
DTSTART;TZID=Europe/Prague:20261114T200000
DTEND;TZID=Europe/Prague:20261114T230000
DTSTAMP:20260420T033551
CREATED:20260405T130853Z
LAST-MODIFIED:20260405T130854Z
UID:20291-1794686400-1794697200@dnesnivylet.cz
SUMMARY:Cocotte Minute - Pardubice
DESCRIPTION:Cocotte Minute – Pardubice se uskuteční dne 2026-11-14 v 20:00 v Pardubice\, Music Club Žlutý pes. \n🎟️ Koupit vstupenku \n\nCocotte minutePražská stálice české alternativní scény se opět předvede ve Žluťáku.  \nPředkapela Šanson Brut \n\nTento tip na kulturní akci v Pardubice najdete v přehledu na Dnesnivylet.cz spolu s dalšími koncerty\, festivaly a divadelními představeními.Každý si vybere co se mu líbí. Nezapomeňte koupit vstupenky včas\, stačí kliknout a budete přesměrování na oficiálního prodejce vstupenek.
URL:https://dnesnivylet.cz/event/cocotte-minute-pardubice/
LOCATION:Music Club Žlutý pes\, Pardubice\, Music Club Žlutý pes\, Pardubice\, Česká republika
CATEGORIES:Koncert
ATTACH;FMTTYPE=image/jpeg:https://dnesnivylet.cz/wp-content/uploads/2026/04/320-042279d152634b93aa3d519ef85cadbc.jpg
END:VEVENT
BEGIN:VEVENT
DTSTART;TZID=Europe/Prague:20261126T190000
DTEND;TZID=Europe/Prague:20261126T220000
DTSTAMP:20260420T033551
CREATED:20260211T114816Z
LAST-MODIFIED:20260211T114816Z
UID:17979-1795719600-1795730400@dnesnivylet.cz
SUMMARY:TUBLATANKA - Pardubice
DESCRIPTION:TUBLATANKA – Pardubice se uskuteční dne 2026-11-26 v 19:00 v Pardubice\, Kulturní a kongresové centrum IDEON. \n🎟️ Koupit vstupenku \n\nPRVNÍ VLNA VYPRODÁNA! \nDRUHÁ VLNA BĚŽÍ.. \n  \nTUBLATANKA \nSkupina sa začala formovať na jeseň v roku 1982\, kedy Maťo Ďurinda (vl. menom Martin Ďurinda) študent prvého ročníka Farmaceutickej fakulty U.K. sa prostredníctvom kamaráta Temerafa zoznámil vo vinárni Veľkí Františkáni s bubeníkom Jurajom Černým\, študentom VŠMU odbor dokumentárna réžia\, ktorý vtedy už mal za sebou niekoľko vystúpení so známou zábavovou big beatovou skupinou YPS. \nV prvom rozhovore pri vínnych strikoch si padli do oka…  \n  \n..a dnes už se těšíme na jejich koncert u Vás! \n\nTento tip na kulturní akci v Pardubice najdete v přehledu na Dnesnivylet.cz spolu s dalšími koncerty\, festivaly a divadelními představeními.Každý si vybere co se mu líbí. Nezapomeňte koupit vstupenky včas\, stačí kliknout a budete přesměrování na oficiálního prodejce vstupenek.
URL:https://dnesnivylet.cz/event/tublatanka-pardubice/
LOCATION:Kulturní a kongresové centrum IDEON\, Pardubice\, Kulturní a kongresové centrum IDEON\, Pardubice\, Česká republika
CATEGORIES:Koncert
ATTACH;FMTTYPE=image/jpeg:https://dnesnivylet.cz/wp-content/uploads/2026/02/320-a033c642f86548829576bfe591846f94.jpg
END:VEVENT
BEGIN:VEVENT
DTSTART;TZID=Europe/Prague:20261126T190000
DTEND;TZID=Europe/Prague:20261126T220000
DTSTAMP:20260420T033551
CREATED:20260211T114816Z
LAST-MODIFIED:20260211T114816Z
UID:17980-1795719600-1795730400@dnesnivylet.cz
SUMMARY:TUBLATANKA - Pardubice
DESCRIPTION:TUBLATANKA – Pardubice se uskuteční dne 2026-11-26 v 19:00 v Pardubice\, Kulturní a kongresové centrum IDEON. \n🎟️ Koupit vstupenku \n\nPRVNÍ VLNA VYPRODÁNA! \nDRUHÁ VLNA BĚŽÍ.. \n  \nTUBLATANKA \nSkupina sa začala formovať na jeseň v roku 1982\, kedy Maťo Ďurinda (vl. menom Martin Ďurinda) študent prvého ročníka Farmaceutickej fakulty U.K. sa prostredníctvom kamaráta Temerafa zoznámil vo vinárni Veľkí Františkáni s bubeníkom Jurajom Černým\, študentom VŠMU odbor dokumentárna réžia\, ktorý vtedy už mal za sebou niekoľko vystúpení so známou zábavovou big beatovou skupinou YPS. \nV prvom rozhovore pri vínnych strikoch si padli do oka…  \n  \n..a dnes už se těšíme na jejich koncert u Vás! \n\nTento tip na kulturní akci v Pardubice najdete v přehledu na Dnesnivylet.cz spolu s dalšími koncerty\, festivaly a divadelními představeními.Každý si vybere co se mu líbí. Nezapomeňte koupit vstupenky včas\, stačí kliknout a budete přesměrování na oficiálního prodejce vstupenek.
URL:https://dnesnivylet.cz/event/tublatanka-pardubice-2/
LOCATION:Kulturní a kongresové centrum IDEON\, Pardubice\, Kulturní a kongresové centrum IDEON\, Pardubice\, Česká republika
CATEGORIES:Koncert
ATTACH;FMTTYPE=image/jpeg:https://dnesnivylet.cz/wp-content/uploads/2026/02/320-a033c642f86548829576bfe591846f94-1.jpg
END:VEVENT
BEGIN:VEVENT
DTSTART;TZID=Europe/Prague:20261203T190000
DTEND;TZID=Europe/Prague:20261203T220000
DTSTAMP:20260420T033551
CREATED:20260211T131419Z
LAST-MODIFIED:20260211T131420Z
UID:18161-1796324400-1796335200@dnesnivylet.cz
SUMMARY:ŠVANCI SHOW - JÁ SU JÁ - Pardubice
DESCRIPTION:ŠVANCI SHOW – JÁ SU JÁ – Pardubice se uskuteční dne 2026-12-03 v 19:00 v Pardubice\, KD Hronovická. \n🎟️ Koupit vstupenku \n\nNová zábavná show „JÁ SU JÁ“ vyráží na TOUR po celé České republice. \nČekají vás vtipné historky\, od kariéry fotbalisty\, velkolepé rozlučky za Lužánkami\, návštěv různých zábavních pořadů\, až po účast v reality show Survivor. Dále se těšte na prostor pro otázky na tělo\, autogramiádu\, focení a mnoho dalšího. \nJak moc dobře mě znáš? Jak vypadá můj život po kariéře fotbalisty? Chceš znát více informací o reality show Surviror? \nNejen to se dozvíš ve zbrusu nové zábavné show „JÁ SU JÁ“. \nPřijď se podívat a užít si legraci\, popovídat si s legendou fotbalu\, moderátorem\, bavičem a dát si třeba fotku\, nebo si nechat cokoliv podepsat. \nPořad není vhodný mladším 15 let! \n\nTento tip na kulturní akci v Pardubice najdete v přehledu na Dnesnivylet.cz spolu s dalšími koncerty\, festivaly a divadelními představeními.Každý si vybere co se mu líbí. Nezapomeňte koupit vstupenky včas\, stačí kliknout a budete přesměrování na oficiálního prodejce vstupenek.
URL:https://dnesnivylet.cz/event/svanci-show-ja-su-ja-pardubice/
LOCATION:KD Hronovická\, Pardubice\, KD Hronovická\, Pardubice\, Česká republika
CATEGORIES:Zábava
ATTACH;FMTTYPE=image/jpeg:https://dnesnivylet.cz/wp-content/uploads/2026/02/320-41fffd98b7a74627995c79ff34d0746b.jpg
END:VEVENT
END:VCALENDAR