BEGIN:VCALENDAR
VERSION:2.0
PRODID:-//www.dnesnivylet.cz                                                                                                                        Tip na výlet pro celou rodinu. - ECPv6.15.13.1//NONSGML v1.0//EN
CALSCALE:GREGORIAN
METHOD:PUBLISH
X-WR-CALNAME:www.dnesnivylet.cz                                                                                                                        Tip na výlet pro celou rodinu.
X-ORIGINAL-URL:https://dnesnivylet.cz
X-WR-CALDESC:Akce na www.dnesnivylet.cz                                                                                                                        Tip na výlet pro celou rodinu.
REFRESH-INTERVAL;VALUE=DURATION:PT1H
X-Robots-Tag:noindex
X-PUBLISHED-TTL:PT1H
BEGIN:VTIMEZONE
TZID:Europe/Prague
BEGIN:DAYLIGHT
TZOFFSETFROM:+0100
TZOFFSETTO:+0200
TZNAME:CEST
DTSTART:20240331T010000
END:DAYLIGHT
BEGIN:STANDARD
TZOFFSETFROM:+0200
TZOFFSETTO:+0100
TZNAME:CET
DTSTART:20241027T010000
END:STANDARD
BEGIN:DAYLIGHT
TZOFFSETFROM:+0100
TZOFFSETTO:+0200
TZNAME:CEST
DTSTART:20250330T010000
END:DAYLIGHT
BEGIN:STANDARD
TZOFFSETFROM:+0200
TZOFFSETTO:+0100
TZNAME:CET
DTSTART:20251026T010000
END:STANDARD
BEGIN:DAYLIGHT
TZOFFSETFROM:+0100
TZOFFSETTO:+0200
TZNAME:CEST
DTSTART:20260329T010000
END:DAYLIGHT
BEGIN:STANDARD
TZOFFSETFROM:+0200
TZOFFSETTO:+0100
TZNAME:CET
DTSTART:20261025T010000
END:STANDARD
END:VTIMEZONE
BEGIN:VEVENT
DTSTART;TZID=Europe/Prague:20251117T190000
DTEND;TZID=Europe/Prague:20251117T220000
DTSTAMP:20260419T220333
CREATED:20251020T153344Z
LAST-MODIFIED:20251020T153345Z
UID:9246-1763406000-1763416800@dnesnivylet.cz
SUMMARY:Hudba Harryho Pottera při svíčkách | Pardubice
DESCRIPTION:Hudba Harryho Pottera při svíčkách | Pardubice se uskuteční dne 2025-11-17 v 19:00 v Pardubice\, Sukova síň Domu hudby. \n🎟️ Koupit vstupenku \n\nNenechte si ujít večer plný magické hudby\, kde zazní ty nejznámější melodie a písně ze všech filmů Harryho Pottera. Světlo stovky svíček vytvoří nezapomenutelnou atmosféru koncertu. \nProgram v jedinečném klavírním provedení představuje výběr filmových skladeb od pětinásobného oscarového skladatele Johna Williamse společně s díly Patricka Doyla\, Nicolase Hoopera a Alexandra Desplata\, držitele Oscara\, a nabízí to nejlepší z hudby Harryho Pottera. \nTento magický koncert nabídne víc než jen hudbu; stovky svíček rozzáří prostor a přidají na tajemné atmosféře plné mystiky a kouzel. \nMůžete se těšit na známé melodie a písně z filmů Harryho Pottera\, upravené pro klavírní koncert a to v podání předního českého klavíristy Tomáše Vrány. \nV rámci Evropské tour alternují také: František Panáček\, Lucie Kubátová a Alexandr Starý.  \nAkce je přístupná od 12 let. Každý účastník musí předložit platnou vstupenku  zakoupenou výhradně v síti smsticket. \n  \n\nTento tip na kulturní akci v Pardubice najdete v přehledu na Dnesnivylet.cz spolu s dalšími koncerty\, festivaly a divadelními představeními.Každý si vybere co se mu líbí. Nezapomeňte koupit vstupenky včas\, stačí kliknout a budete přesměrování na oficiálního prodejce vstupenek.
URL:https://dnesnivylet.cz/event/hudba-harryho-pottera-pri-svickach-pardubice/
LOCATION:Sukova síň Domu hudby\, Pardubice\, Sukova síň Domu hudby\, Pardubice\, Česká republika
CATEGORIES:Koncert
ATTACH;FMTTYPE=image/jpeg:https://dnesnivylet.cz/wp-content/uploads/2025/10/320-9862586a821f4503b77274f47fac766e.jpg
END:VEVENT
BEGIN:VEVENT
DTSTART;TZID=Europe/Prague:20251115T153000
DTEND;TZID=Europe/Prague:20251115T183000
DTSTAMP:20260419T220333
CREATED:20251101T133811Z
LAST-MODIFIED:20251101T133811Z
UID:10839-1763220600-1763231400@dnesnivylet.cz
SUMMARY:Krásný Volant fest 2025 aneb 30 let
DESCRIPTION:Krásný Volant fest 2025 aneb 30 let se uskuteční dne 2025-11-15 v 15:30 v Pardubice\, ABC Klub. \n🎟️ Koupit vstupenku \n\nTradiční akce pořádaná nepřetržitě od roku 2000. Poslední dva ročníky beznadějně vyprodané. \nLine up:Volant – domácí oslava 30 letThe Fialky – nová deskaPunk floid – oslava 25 let a nové písněVision daysNežfalešV.V.ÚBóďa a Skalda z Dukly vozovnya další… \n\nTento tip na kulturní akci v Pardubice najdete v přehledu na Dnesnivylet.cz spolu s dalšími koncerty\, festivaly a divadelními představeními.Každý si vybere co se mu líbí. Nezapomeňte koupit vstupenky včas\, stačí kliknout a budete přesměrování na oficiálního prodejce vstupenek.
URL:https://dnesnivylet.cz/event/krasny-volant-fest-2025-aneb-30-let/
LOCATION:ABC Klub\, Pardubice\, ABC Klub\, Pardubice\, Česká republika
CATEGORIES:Festival
ATTACH;FMTTYPE=image/jpeg:https://dnesnivylet.cz/wp-content/uploads/2025/11/320-3f0908024dc24ce18a9d3a5495497fb1.jpg
END:VEVENT
BEGIN:VEVENT
DTSTART;TZID=Europe/Prague:20251113T200000
DTEND;TZID=Europe/Prague:20251113T230000
DTSTAMP:20260419T220333
CREATED:20251101T133902Z
LAST-MODIFIED:20251101T133902Z
UID:10871-1763064000-1763074800@dnesnivylet.cz
SUMMARY:J.A.R. - Pardubice
DESCRIPTION:J.A.R. – Pardubice se uskuteční dne 2025-11-13 v 20:00 v Pardubice\, Music Club Žlutý pes. \n🎟️ Koupit vstupenku \n\nBude mejdan :-).  \nJ.A.R. nebo též Jednotka Akademického Rapu či Jaromír a Radomír je jedna z předních český hudebních skupin. Byla založena symbolicky 17. listopadu 1989 a její základní sestavu tvořili v té době autor hudby Roman Holý a duo „akademických“ rapperů Oto Klempíř a Michael Viktořík. Zprvu J.A.R. inklinovali spíše k rocku ale později se přiklonili k funku. \n\nTento tip na kulturní akci v Pardubice najdete v přehledu na Dnesnivylet.cz spolu s dalšími koncerty\, festivaly a divadelními představeními.Každý si vybere co se mu líbí. Nezapomeňte koupit vstupenky včas\, stačí kliknout a budete přesměrování na oficiálního prodejce vstupenek.
URL:https://dnesnivylet.cz/event/j-a-r-pardubice/
LOCATION:Music Club Žlutý pes\, Pardubice\, Music Club Žlutý pes\, Pardubice\, Česká republika
CATEGORIES:Koncert
ATTACH;FMTTYPE=image/jpeg:https://dnesnivylet.cz/wp-content/uploads/2025/11/320-887feaea4ac54f82bdc23fea4ac6a5a4.jpg
END:VEVENT
BEGIN:VEVENT
DTSTART;TZID=Europe/Prague:20251110T190000
DTEND;TZID=Europe/Prague:20251110T220000
DTSTAMP:20260419T220333
CREATED:20251027T090748Z
LAST-MODIFIED:20251027T090748Z
UID:10265-1762801200-1762812000@dnesnivylet.cz
SUMMARY:Jarek Nohavica a hosté
DESCRIPTION:Jarek Nohavica a hosté se uskuteční dne 2025-11-10 v 19:00 v Pardubice\, IDEON. \n🎟️ Koupit vstupenku \n\nJAREK NOHAVICA – KONCERT \nSólový recitál jednoho z našich nejznámějších písničkářů s kytarou a heligonkou sestavený nejen ze známých písní\, ale i z aktuálních novinek z posledního alba Máma mi dala na krk klíč. \nFanouškové Jarka Nohavici si již určitě zvykli\, že jeho koncerty jsou samé překvapení\, a vždy naprosto nově dramaturgicky sestavené a rozhodně se mají na co těšit! Na současných koncertech Jarka doprovází na akordeon a piano vynikající muzikant z Varšavy Robert Kusmierski a na perkuse a bicí Pavel Plánka z Plzně:-) \nKoncert je bez přestávky a není vhodný pro děti do 15 let. Je zakázáno konzumovat alkoholické nápoje včetně piva!!! \n  \n\nTento tip na kulturní akci v Pardubice najdete v přehledu na Dnesnivylet.cz spolu s dalšími koncerty\, festivaly a divadelními představeními.Každý si vybere co se mu líbí. Nezapomeňte koupit vstupenky včas\, stačí kliknout a budete přesměrování na oficiálního prodejce vstupenek.
URL:https://dnesnivylet.cz/event/jarek-nohavica-a-hoste-2/
LOCATION:IDEON\, Pardubice\, IDEON\, Pardubice\, Česká republika
CATEGORIES:Koncert
ATTACH;FMTTYPE=image/jpeg:https://dnesnivylet.cz/wp-content/uploads/2025/10/320-48683bd21e7e4aa89623195045f5c985.jpg
END:VEVENT
BEGIN:VEVENT
DTSTART;TZID=Europe/Prague:20251109T190000
DTEND;TZID=Europe/Prague:20251109T220000
DTSTAMP:20260419T220333
CREATED:20251027T090748Z
LAST-MODIFIED:20251027T090748Z
UID:10262-1762714800-1762725600@dnesnivylet.cz
SUMMARY:Jarek Nohavica a hosté
DESCRIPTION:Jarek Nohavica a hosté se uskuteční dne 2025-11-09 v 19:00 v Pardubice\, IDEON. \n🎟️ Koupit vstupenku \n\nJAREK NOHAVICA – KONCERT \nSólový recitál jednoho z našich nejznámějších písničkářů s kytarou a heligonkou sestavený nejen ze známých písní\, ale i z aktuálních novinek z posledního alba Máma mi dala na krk klíč. \nFanouškové Jarka Nohavici si již určitě zvykli\, že jeho koncerty jsou samé překvapení\, a vždy naprosto nově dramaturgicky sestavené a rozhodně se mají na co těšit! Na současných koncertech Jarka doprovází na akordeon a piano vynikající muzikant z Varšavy Robert Kusmierski a na perkuse a bicí Pavel Plánka z Plzně:-) \nKoncert je bez přestávky a není vhodný pro děti do 15 let. Je zakázáno konzumovat alkoholické nápoje včetně piva!!! \n\nTento tip na kulturní akci v Pardubice najdete v přehledu na Dnesnivylet.cz spolu s dalšími koncerty\, festivaly a divadelními představeními.Každý si vybere co se mu líbí. Nezapomeňte koupit vstupenky včas\, stačí kliknout a budete přesměrování na oficiálního prodejce vstupenek.
URL:https://dnesnivylet.cz/event/jarek-nohavica-a-hoste/
LOCATION:IDEON\, Pardubice\, IDEON\, Pardubice\, Česká republika
CATEGORIES:Koncert
ATTACH;FMTTYPE=image/jpeg:https://dnesnivylet.cz/wp-content/uploads/2025/10/320-1b98ea2bf7b446b9a6562ac9ef451a47.jpg
END:VEVENT
BEGIN:VEVENT
DTSTART;TZID=Europe/Prague:20251109T183000
DTEND;TZID=Europe/Prague:20251109T213000
DTSTAMP:20260419T220333
CREATED:20251020T064956Z
LAST-MODIFIED:20251020T064956Z
UID:8162-1762713000-1762723800@dnesnivylet.cz
SUMMARY:Světové muzikály a filmová hudba
DESCRIPTION:Světové muzikály a filmová hudba se uskuteční dne 2025-11-09 v 18:30 v Pardubice\, Evangelický kostel . \n🎟️ Koupit vstupenku \n\nPojďte si užít zbrusu nový koncert plný písniček ze světových muzikálů a filmové hudby v podání kvarteta Musica festiva do Evangelického kostela v Pardubicích (přitápěno z lavic) \n  \nMusica festiva \nOlga Vít-Krumholzová – soprán\, Gabriela Plachá – hoboj\, \nŠárka Trávníčková – housle\, Petr Štěpán – kytara \n. \nPROGRAM: \nWEST SIDE STORY- L. BERNSTEIN: Tonight \nFORREST GUMP – A. SILVESTRI \nPORGY A BESS – L. BERNSTEIN: SUMMER TIME \nKMOTR – N. ROTA: The Godfather theme \nFANTOM OPERY –  A. L. WEBBER: Think of me  \nPEARL HARBOUR – H. ZIMMER: Tennesse \nSNÍDANĚ U TIFFANIHO – H. MANCINI: Moon River \nCATS – A. L. WEBBER: Memory \nJAMES BOND – Adele: Skyfall \nŽIVOT JE KRÁSNÝ -Buongiorno principessa \nLÁSKA NEBESKÁ – L. ARMSTRONG: Portuguese love theme \nJAMES BOND – James Bond Theme \nVELKÝ GETSBY – F. S. FITZERALD: Young and Beatiful \nKRÁL ARTUŠ – H. ZIMMER – Song of exile \nLEGENDA O VÁŠNI – J. HORNER \nCARROUSEL –  R. RODGERS: If I loved you \nMISE – E. MORRICONE: Gabriel´s Oboe \nMAMMA MIA – B. ANDERSON: I do\, I do\, I do \ndélka programu cca 65 minut\, změna programu vyhrazena \n\nTento tip na kulturní akci v Pardubice najdete v přehledu na Dnesnivylet.cz spolu s dalšími koncerty\, festivaly a divadelními představeními.Každý si vybere co se mu líbí. Nezapomeňte koupit vstupenky včas\, stačí kliknout a budete přesměrování na oficiálního prodejce vstupenek.
URL:https://dnesnivylet.cz/event/svetove-muzikaly-a-filmova-hudba/
LOCATION:Evangelický kostel \, Pardubice\, Evangelický kostel \, Pardubice\, Česká republika
CATEGORIES:Koncert
ATTACH;FMTTYPE=image/jpeg:https://dnesnivylet.cz/wp-content/uploads/2025/10/320-24728473f3564017a862fa1612988cbe-1.jpg
END:VEVENT
BEGIN:VEVENT
DTSTART;TZID=Europe/Prague:20251107T190000
DTEND;TZID=Europe/Prague:20251107T220000
DTSTAMP:20260419T220333
CREATED:20251102T124804Z
LAST-MODIFIED:20251102T124804Z
UID:11096-1762542000-1762552800@dnesnivylet.cz
SUMMARY:Slavíme 10 let eNDee: FROP Symphonica
DESCRIPTION:Slavíme 10 let eNDee: FROP Symphonica se uskuteční dne 2025-11-07 v 19:00 v Pardubice\, Congress Centre – Palác. \n🎟️ Koupit vstupenku \n\nSlavíme 10 let! \nNaše hudební rodina vás všechny srdečně zve na výjimečný koncert kapely eNDee s doprovodem Chrudimské komorní filharmonie. \nČeká vás nezapomenutelný hudební zážitek naší FROP tvorby\, speciální host a překvapení jen pro tuto jubilejní show! \nBuďte u toho a oslavte s námi naši desetiletou cestu. \n\nTento tip na kulturní akci v Pardubice najdete v přehledu na Dnesnivylet.cz spolu s dalšími koncerty\, festivaly a divadelními představeními.Každý si vybere co se mu líbí. Nezapomeňte koupit vstupenky včas\, stačí kliknout a budete přesměrování na oficiálního prodejce vstupenek.
URL:https://dnesnivylet.cz/event/slavime-10-let-endee-frop-symphonica/
LOCATION:Congress Centre – Palác\, Pardubice\, Congress Centre - Palác\, Pardubice\, Česká republika
CATEGORIES:Koncert
ATTACH;FMTTYPE=image/jpeg:https://dnesnivylet.cz/wp-content/uploads/2025/11/320-f7f052faf1804c5fa177e452d349f461.jpg
END:VEVENT
BEGIN:VEVENT
DTSTART;TZID=Europe/Prague:20251102T190000
DTEND;TZID=Europe/Prague:20251102T220000
DTSTAMP:20260419T220333
CREATED:20251020T064506Z
LAST-MODIFIED:20251020T064506Z
UID:7997-1762110000-1762120800@dnesnivylet.cz
SUMMARY:ABBA SYMPHONIC SHOW 2025
DESCRIPTION:ABBA SYMPHONIC SHOW 2025 se uskuteční dne 2025-11-02 v 19:00 v Pardubice\, IDEON. \n🎟️ Koupit vstupenku \n\nABBA WORLD REVIVAL – 100% Live in Symphonic Show!!! \nKdyž se hudebníci z ABBA WORLD Revival setkají na jednom pódiu se špičkovými filharmonickými instrumentalisty\, výsledkem je nezapomenutelná hudební i vizuální show nazvaná „ABBA WORLD Revival meets Classic“. \nZazní všechny legendární hity fenomenální švédské skupiny ABBA jako: Waterloo\, Dancing Queen\, Fernando\, Chiquitita\, Mamma Mia nebo Gimme! Gimme! Gimme! a další. Písně zahrané téměř k nerozeznání od originálu a exkluzivně doplněné o unikátní symfonické aranžmá. \nZvuk je 100% živý\, bez playbacků či half-playbacků. Můžete se těšit na repliky originálních kostýmů a choreografií. Pojďte proti proudu hudebního času do světa fenoménu jménem ABBA a užijte si nezapomenutelnou show! \n\nTento tip na kulturní akci v Pardubice najdete v přehledu na Dnesnivylet.cz spolu s dalšími koncerty\, festivaly a divadelními představeními.Každý si vybere co se mu líbí. Nezapomeňte koupit vstupenky včas\, stačí kliknout a budete přesměrování na oficiálního prodejce vstupenek.
URL:https://dnesnivylet.cz/event/abba-symphonic-show-2025/
LOCATION:IDEON\, Pardubice\, IDEON\, Pardubice\, Česká republika
CATEGORIES:Koncert
ATTACH;FMTTYPE=image/jpeg:https://dnesnivylet.cz/wp-content/uploads/2025/10/320-e9b32c09cb7b4d549deec250cee7d924-1.jpg
END:VEVENT
BEGIN:VEVENT
DTSTART;TZID=Europe/Prague:20251101T160000
DTEND;TZID=Europe/Prague:20251101T190000
DTSTAMP:20260419T220333
CREATED:20251020T154956Z
LAST-MODIFIED:20251020T154956Z
UID:9268-1762012800-1762023600@dnesnivylet.cz
SUMMARY:Festival Swingu Dasha & JK Band
DESCRIPTION:Festival Swingu Dasha & JK Band se uskuteční dne 2025-11-01 v 16:00 v Pardubice\, IDEON. \n🎟️ Koupit vstupenku \n\nSrdečně zveme všechny co mají rádi SWING . \nPořádáme II. ročník tohoto festivalu v pardubickém sále IDEON. \nLetos jsme pro vás vybrali populární umělkyni tohoto žánru Dashu\, která vystoupí společně s legendárním orchestrem JK Band.  \nDalšími hosty festivalu jsou ZUŠ Týniště /Orlicí a Big Band Letohrad.  \nRepertoár každého vystoupení bude velmi pestrý a zaručeně uslyšíte ty největší songy světových mistrů a jejich orchestrů od Glenna Millera\, Gustava Broma\, Duka Ellingtona \, Karla Vlacha\, Felixe Slováčka a dalších.  \nTedy nenechte si ujít tento zážitek.  \n\nTento tip na kulturní akci v Pardubice najdete v přehledu na Dnesnivylet.cz spolu s dalšími koncerty\, festivaly a divadelními představeními.Každý si vybere co se mu líbí. Nezapomeňte koupit vstupenky včas\, stačí kliknout a budete přesměrování na oficiálního prodejce vstupenek.
URL:https://dnesnivylet.cz/event/festival-swingu-dasha-jk-band/
LOCATION:IDEON\, Pardubice\, IDEON\, Pardubice\, Česká republika
CATEGORIES:Festival
ATTACH;FMTTYPE=image/jpeg:https://dnesnivylet.cz/wp-content/uploads/2025/10/320-1d36a73fa19246a29caddfda4062742b.jpg
END:VEVENT
END:VCALENDAR