BEGIN:VCALENDAR
VERSION:2.0
PRODID:-//www.dnesnivylet.cz                                                                                                                        Tip na výlet pro celou rodinu. - ECPv6.15.13.1//NONSGML v1.0//EN
CALSCALE:GREGORIAN
METHOD:PUBLISH
X-WR-CALNAME:www.dnesnivylet.cz                                                                                                                        Tip na výlet pro celou rodinu.
X-ORIGINAL-URL:https://dnesnivylet.cz
X-WR-CALDESC:Akce na www.dnesnivylet.cz                                                                                                                        Tip na výlet pro celou rodinu.
REFRESH-INTERVAL;VALUE=DURATION:PT1H
X-Robots-Tag:noindex
X-PUBLISHED-TTL:PT1H
BEGIN:VTIMEZONE
TZID:Europe/Prague
BEGIN:DAYLIGHT
TZOFFSETFROM:+0100
TZOFFSETTO:+0200
TZNAME:CEST
DTSTART:20250330T010000
END:DAYLIGHT
BEGIN:STANDARD
TZOFFSETFROM:+0200
TZOFFSETTO:+0100
TZNAME:CET
DTSTART:20251026T010000
END:STANDARD
BEGIN:DAYLIGHT
TZOFFSETFROM:+0100
TZOFFSETTO:+0200
TZNAME:CEST
DTSTART:20260329T010000
END:DAYLIGHT
BEGIN:STANDARD
TZOFFSETFROM:+0200
TZOFFSETTO:+0100
TZNAME:CET
DTSTART:20261025T010000
END:STANDARD
BEGIN:DAYLIGHT
TZOFFSETFROM:+0100
TZOFFSETTO:+0200
TZNAME:CEST
DTSTART:20270328T010000
END:DAYLIGHT
BEGIN:STANDARD
TZOFFSETFROM:+0200
TZOFFSETTO:+0100
TZNAME:CET
DTSTART:20271031T010000
END:STANDARD
END:VTIMEZONE
BEGIN:VEVENT
DTSTART;TZID=Europe/Prague:20260325T190000
DTEND;TZID=Europe/Prague:20260325T220000
DTSTAMP:20260420T035856
CREATED:20260321T195547Z
LAST-MODIFIED:20260321T195547Z
UID:19735-1774465200-1774476000@dnesnivylet.cz
SUMMARY:DÍVČÍ VÁLKA - divadelní představení
DESCRIPTION:DÍVČÍ VÁLKA – divadelní představení se uskuteční dne 2026-03-25 v 19:00 v Pardubice\, KD Hronovická. \n🎟️ Koupit vstupenku \n\nSlavná komedie Františka Ringo Čecha v podání divadelního souboru ERVÍN! \nDnes již naprosto legendární komedie Františka Ringo Čecha Dívčí válka se za dobu své existence dočkala více než 3000 repríz. Nastudování našeho souboru ctí originál takřka ve všech směrech\, ale přichází na jeviště s novou energii a elánem mladých talentovaných herců. Přijďte se pobavit a užít si s námi hezký večer!  \nO čem komedie je\, vám přiblíží krátký sylabus z Divadelní\, literární\, audiovizualní agentury\, z.s. (Dilia\, z.s.): \n„Mimořádně vtipné\, osobité pojednání o historii starých Slovanů nahlíženo optikou populárního spisovatele\, malíře\, bubeníka\, zpěváka a herce Františka Ringo Čecha. Jiráskovy Staré pověsti české – povinná četba všech českých dítek školou povinných! Takže každý z nás jistě alespoň něco málo tuší o životě našich dávných předků a jistě také o jedné z těch dávných událostí\, jakou byla Dívčí válka – vězte však\, že ne všechno\, co Jirásek napsal a ve školách nás učili musí být pravda! Tato hra je toho důkazem. Úsměvná parodie na známou pověst o dívčí válce.“ \nDélka představení cca 90 minut bez přestávky. \n  \n\nRežie: Pavel Hlaváček\nHrají: Jan Nechvíle\, Adéla Valášková\, Jan Karlík\, Ondřej Štěpán\, Denis Behina\, Vendula Špičková\, Karolína Maixnerová\, Samuel Hejna\, Saša Klíž\nZve vás divadelní soubor ERVÍN z Pardubic \n\n\nTento tip na kulturní akci v Pardubice najdete v přehledu na Dnesnivylet.cz spolu s dalšími koncerty\, festivaly a divadelními představeními.Každý si vybere co se mu líbí. Nezapomeňte koupit vstupenky včas\, stačí kliknout a budete přesměrování na oficiálního prodejce vstupenek.
URL:https://dnesnivylet.cz/event/divci-valka-divadelni-predstaveni/
LOCATION:KD Hronovická\, Pardubice\, KD Hronovická\, Pardubice\, Česká republika
CATEGORIES:Divadlo
ATTACH;FMTTYPE=image/jpeg:https://dnesnivylet.cz/wp-content/uploads/2026/03/320-fe17c7a291294dd997927e020eda6e98.jpg
END:VEVENT
END:VCALENDAR