BEGIN:VCALENDAR
VERSION:2.0
PRODID:-//www.dnesnivylet.cz                                                                                                                        Tip na výlet pro celou rodinu. - ECPv6.15.13.1//NONSGML v1.0//EN
CALSCALE:GREGORIAN
METHOD:PUBLISH
X-WR-CALNAME:www.dnesnivylet.cz                                                                                                                        Tip na výlet pro celou rodinu.
X-ORIGINAL-URL:https://dnesnivylet.cz
X-WR-CALDESC:Akce na www.dnesnivylet.cz                                                                                                                        Tip na výlet pro celou rodinu.
REFRESH-INTERVAL;VALUE=DURATION:PT1H
X-Robots-Tag:noindex
X-PUBLISHED-TTL:PT1H
BEGIN:VTIMEZONE
TZID:Europe/Prague
BEGIN:DAYLIGHT
TZOFFSETFROM:+0100
TZOFFSETTO:+0200
TZNAME:CEST
DTSTART:20250330T010000
END:DAYLIGHT
BEGIN:STANDARD
TZOFFSETFROM:+0200
TZOFFSETTO:+0100
TZNAME:CET
DTSTART:20251026T010000
END:STANDARD
BEGIN:DAYLIGHT
TZOFFSETFROM:+0100
TZOFFSETTO:+0200
TZNAME:CEST
DTSTART:20260329T010000
END:DAYLIGHT
BEGIN:STANDARD
TZOFFSETFROM:+0200
TZOFFSETTO:+0100
TZNAME:CET
DTSTART:20261025T010000
END:STANDARD
BEGIN:DAYLIGHT
TZOFFSETFROM:+0100
TZOFFSETTO:+0200
TZNAME:CEST
DTSTART:20270328T010000
END:DAYLIGHT
BEGIN:STANDARD
TZOFFSETFROM:+0200
TZOFFSETTO:+0100
TZNAME:CET
DTSTART:20271031T010000
END:STANDARD
END:VTIMEZONE
BEGIN:VEVENT
DTSTART;TZID=Europe/Prague:20260410T200000
DTEND;TZID=Europe/Prague:20260410T230000
DTSTAMP:20260419T133345
CREATED:20260206T110152Z
LAST-MODIFIED:20260206T110152Z
UID:17378-1775851200-1775862000@dnesnivylet.cz
SUMMARY:Mňága a Žďorp & Slobodná Európa
DESCRIPTION:Mňága a Žďorp & Slobodná Európa se uskuteční dne 2026-04-10 v 20:00 v Pardubice\, Music Club Žlutý pes. \n🎟️ Koupit vstupenku \n\nDo Pardubic\, do Žluťáku míří dvě legendy česko-slovenské rockové scény. Na jednom pódiu se setkají slovenská punk-rocková kapela Slobodná Európa a česká alternativní skupina Mňága a Žďorp. Fanoušci se mohou těšit na večer plný energie\, chytlavých melodií\, výrazných textů a poctivého rock’n’rollu.Bude to krásné. \n\nTento tip na kulturní akci v Pardubice najdete v přehledu na Dnesnivylet.cz spolu s dalšími koncerty\, festivaly a divadelními představeními.Každý si vybere co se mu líbí. Nezapomeňte koupit vstupenky včas\, stačí kliknout a budete přesměrování na oficiálního prodejce vstupenek.
URL:https://dnesnivylet.cz/event/mnaga-a-zdorp-slobodna-europa-2/
LOCATION:Music Club Žlutý pes\, Pardubice\, Music Club Žlutý pes\, Pardubice\, Česká republika
CATEGORIES:Koncert
ATTACH;FMTTYPE=image/jpeg:https://dnesnivylet.cz/wp-content/uploads/2026/02/320-6e45738cf5dd406691b1de4adc7fdeb6.jpg
END:VEVENT
BEGIN:VEVENT
DTSTART;TZID=Europe/Prague:20260410T200000
DTEND;TZID=Europe/Prague:20260410T230000
DTSTAMP:20260419T133345
CREATED:20260222T142722Z
LAST-MODIFIED:20260222T142723Z
UID:18510-1775851200-1775862000@dnesnivylet.cz
SUMMARY:PUNKROCK ON THE ROAD – TOUR 2026
DESCRIPTION:PUNKROCK ON THE ROAD – TOUR 2026 se uskuteční dne 2026-04-10 v 20:00 v Pardubice\, ABC Klub. \n🎟️ Koupit vstupenku \n\nTOTÁLNÍ NASAZENÍ / THE FIALKY / NEŽFALEŠ – PUNKROCK ON THE ROAD – TOUR 2026 \nSpolečné turné spřízněných punkrockových kapel\, které navazuje na divácky úspěšnou koncertní šňůru z roku 2024. Pro velký zájem je tentokrát celé turné koncipováno jako série vystoupení po kulturních domech a velkých klubech. \nCelé turné odstartuje už 14. 2. 2026 v Plzni v hale Depo 2015.V roli supportu koncertů se střídavě představí kapely Dilemma in Cinema nebo ska-folk-punkoví Deratizéři. \nTotální nasazení a Nežfaleš navíc přivezou i zbrusu nová alba. \nPUNKROCK ON THE ROAD – TOUR 2026 proběhne od února do dubna v jedenácti městech v Čechách na Moravě a na Slovensku. \n14.2. PLZEŇ – Hala Depo 201527.2. VOLYNĚ – KD13.3 TEPLICE – KD14.3. BRATISLAVA – MMC20.3. ČESKÉ BUDĚJOVICE – KD Vltava21.3. PRAHA – MeetFactory27.3. ZLÍN – MoR28.3. BRNO – První Patro10.4 PARDUBICE – ABC11.4. LIBEREC – KD17.4. KARLOVY VARY – Lidový dům \nPředprodej na celé turné:https://www.smsticket.cz/skupiny/743-punkrock-on-the-road-tour-2026 \nDěti do čtrnácti let v doprovodu rodičů a držitelé průkazů TP\, ZTP nebo ZTP/P mají VSTUP ZDARMA  u ZTP/P má pochopitelně VSTUP ZDARMA i PRŮVODCE.  \n\nTento tip na kulturní akci v Pardubice najdete v přehledu na Dnesnivylet.cz spolu s dalšími koncerty\, festivaly a divadelními představeními.Každý si vybere co se mu líbí. Nezapomeňte koupit vstupenky včas\, stačí kliknout a budete přesměrování na oficiálního prodejce vstupenek.
URL:https://dnesnivylet.cz/event/punkrock-on-the-road-tour-2026-8/
LOCATION:ABC Klub\, Pardubice\, ABC Klub\, Pardubice\, Česká republika
CATEGORIES:Koncert
ATTACH;FMTTYPE=image/jpeg:https://dnesnivylet.cz/wp-content/uploads/2026/02/320-d941fbfcf0ac420eb3e3bb54a1b89090.jpg
END:VEVENT
END:VCALENDAR