BEGIN:VCALENDAR
VERSION:2.0
PRODID:-//www.dnesnivylet.cz                                                                                                                        Tip na výlet pro celou rodinu. - ECPv6.15.13.1//NONSGML v1.0//EN
CALSCALE:GREGORIAN
METHOD:PUBLISH
X-ORIGINAL-URL:https://dnesnivylet.cz
X-WR-CALDESC:Akce na www.dnesnivylet.cz                                                                                                                        Tip na výlet pro celou rodinu.
REFRESH-INTERVAL;VALUE=DURATION:PT1H
X-Robots-Tag:noindex
X-PUBLISHED-TTL:PT1H
BEGIN:VTIMEZONE
TZID:Europe/Prague
BEGIN:DAYLIGHT
TZOFFSETFROM:+0100
TZOFFSETTO:+0200
TZNAME:CEST
DTSTART:20250330T010000
END:DAYLIGHT
BEGIN:STANDARD
TZOFFSETFROM:+0200
TZOFFSETTO:+0100
TZNAME:CET
DTSTART:20251026T010000
END:STANDARD
BEGIN:DAYLIGHT
TZOFFSETFROM:+0100
TZOFFSETTO:+0200
TZNAME:CEST
DTSTART:20260329T010000
END:DAYLIGHT
BEGIN:STANDARD
TZOFFSETFROM:+0200
TZOFFSETTO:+0100
TZNAME:CET
DTSTART:20261025T010000
END:STANDARD
BEGIN:DAYLIGHT
TZOFFSETFROM:+0100
TZOFFSETTO:+0200
TZNAME:CEST
DTSTART:20270328T010000
END:DAYLIGHT
BEGIN:STANDARD
TZOFFSETFROM:+0200
TZOFFSETTO:+0100
TZNAME:CET
DTSTART:20271031T010000
END:STANDARD
END:VTIMEZONE
BEGIN:VEVENT
DTSTART;TZID=Europe/Prague:20260413T190000
DTEND;TZID=Europe/Prague:20260413T220000
DTSTAMP:20260420T002718
CREATED:20251026T074304Z
LAST-MODIFIED:20251026T074304Z
UID:10129-1776106800-1776117600@dnesnivylet.cz
SUMMARY:Muzikály Josefa Vojtka v Kladně
DESCRIPTION:Muzikály Josefa Vojtka v Kladně se uskuteční dne 2026-04-13 v 19:00 v Kladno\, Dům kultury. \n🎟️ Koupit vstupenku \n\n „MUZIKÁLY JOSEFA VOJTKA – Tak trochu rockově“ \nNenechte si ujít jedinečnou možnost zažít vystoupení jednoho z nejvýraznějších hlasů české rockové a muzikálové scény. Za doprovodu známé kapely Charlie Band zazní  písně z muzikálů ve kterých Josef Vojtek účinkoval. Tři Mušketýři\, Angelika\, Kleopatra\, Hamlet\, Dracula\, a mnoho dalších. Připravte se na velkolepý zážitek\, kde se srdce rockera potká s vášní pro muzikály.  \n\nTento tip na kulturní akci v Kladno najdete v přehledu na Dnesnivylet.cz spolu s dalšími koncerty\, festivaly a divadelními představeními.Každý si vybere co se mu líbí. Nezapomeňte koupit vstupenky včas\, stačí kliknout a budete přesměrování na oficiálního prodejce vstupenek.
URL:https://dnesnivylet.cz/event/muzikaly-josefa-vojtka-v-kladne/
LOCATION:Dům kultury\, Kladno\, Dům kultury\, Kladno\, Česká republika
CATEGORIES:Koncert
ATTACH;FMTTYPE=image/jpeg:https://dnesnivylet.cz/wp-content/uploads/2025/10/320-d72978c98e0543c3a436d43da02425cc.jpg
END:VEVENT
BEGIN:VEVENT
DTSTART;TZID=Europe/Prague:20260413T190000
DTEND;TZID=Europe/Prague:20260413T220000
DTSTAMP:20260420T002718
CREATED:20251129T071558Z
LAST-MODIFIED:20251129T071559Z
UID:14168-1776106800-1776117600@dnesnivylet.cz
SUMMARY:Osmany Show
DESCRIPTION:Osmany Show se uskuteční dne 2026-04-13 v 19:00 v Soběslav\, Kulturní dům. \n🎟️ Koupit vstupenku \n\nOriginální zábavný pořad populárního módního návrháře kubánského původu Osmanyho Laffity se zbrusu novými historkami a příběhy. \nDevadesát minut nekorektního humoru a zábavy\, která Vás bezesporu pobaví. Osmany Vám dá nahlédnout do svého soukromí a ukáže\, že je také člověk z masa a kostí. I mnohdy smutnou historku dovede podat neodolatelným způsobem\, který pobaví. \nShow\, která polechtá Vaši bránici! \nModeruje: Eva DECASTELO \nÚčinkuje: Osmany LAFFITA \nDélka představení 90 až 120 minut (obvykle + přestávka) \nPředstavení nedoporučujeme divákům mladším 15 let. \n\nTento tip na kulturní akci v Soběslav najdete v přehledu na Dnesnivylet.cz spolu s dalšími koncerty\, festivaly a divadelními představeními.Každý si vybere co se mu líbí. Nezapomeňte koupit vstupenky včas\, stačí kliknout a budete přesměrování na oficiálního prodejce vstupenek.
URL:https://dnesnivylet.cz/event/osmany-show-15/
LOCATION:Kulturní dům\, Soběslav\, Kulturní dům\, Soběslav\, Česká republika
CATEGORIES:Zábava
ATTACH;FMTTYPE=image/jpeg:https://dnesnivylet.cz/wp-content/uploads/2025/11/320-b7831b813b57464aac5a612cf80a309e.jpg
END:VEVENT
END:VCALENDAR