BEGIN:VCALENDAR
VERSION:2.0
PRODID:-//www.dnesnivylet.cz                                                                                                                        Tip na výlet pro celou rodinu. - ECPv6.15.13.1//NONSGML v1.0//EN
CALSCALE:GREGORIAN
METHOD:PUBLISH
X-ORIGINAL-URL:https://dnesnivylet.cz
X-WR-CALDESC:Akce na www.dnesnivylet.cz                                                                                                                        Tip na výlet pro celou rodinu.
REFRESH-INTERVAL;VALUE=DURATION:PT1H
X-Robots-Tag:noindex
X-PUBLISHED-TTL:PT1H
BEGIN:VTIMEZONE
TZID:Europe/Prague
BEGIN:DAYLIGHT
TZOFFSETFROM:+0100
TZOFFSETTO:+0200
TZNAME:CEST
DTSTART:20250330T010000
END:DAYLIGHT
BEGIN:STANDARD
TZOFFSETFROM:+0200
TZOFFSETTO:+0100
TZNAME:CET
DTSTART:20251026T010000
END:STANDARD
BEGIN:DAYLIGHT
TZOFFSETFROM:+0100
TZOFFSETTO:+0200
TZNAME:CEST
DTSTART:20260329T010000
END:DAYLIGHT
BEGIN:STANDARD
TZOFFSETFROM:+0200
TZOFFSETTO:+0100
TZNAME:CET
DTSTART:20261025T010000
END:STANDARD
BEGIN:DAYLIGHT
TZOFFSETFROM:+0100
TZOFFSETTO:+0200
TZNAME:CEST
DTSTART:20270328T010000
END:DAYLIGHT
BEGIN:STANDARD
TZOFFSETFROM:+0200
TZOFFSETTO:+0100
TZNAME:CET
DTSTART:20271031T010000
END:STANDARD
END:VTIMEZONE
BEGIN:VEVENT
DTSTART;TZID=Europe/Prague:20260414T190000
DTEND;TZID=Europe/Prague:20260414T220000
DTSTAMP:20260419T225512
CREATED:20251027T154838Z
LAST-MODIFIED:20251027T154839Z
UID:10405-1776193200-1776204000@dnesnivylet.cz
SUMMARY:Václav Noid Bárta a Bek Bek Clan
DESCRIPTION:Václav Noid Bárta a Bek Bek Clan se uskuteční dne 2026-04-14 v 19:00 v Havlíčkův Brod\, Kulturní dům Ostrov. \n🎟️ Koupit vstupenku \n\nVáclav NOID Bárta v Havlíčkově Brodě! \nOd prvních kroků s kapelami Dolores Clan\, Noid Crew a Dymytry\, přes divadelní svět muzikálů až po jeho současnou sólovou tvorbu. Přijďte si projít dvacetiletou hudební cestu Václava NOIDA Bárty – charizmatického zpěváka\, autora filmové hudby a jedinečného hlasu české hudební scény. \nNa co se můžete těšit?Během večera zazní jak jeho autorské skladby\, tak i oblíbené převzaté songy\, které skvěle doplní energii a atmosféru celého koncertu. Tento výjimečný večer přinese nálož skvělé muziky\, pohody a neuvěřitelné energie\, která vás strhne! \nZažijte hudební show\, na kterou se nezapomíná! \n\nTento tip na kulturní akci v Havlíčkův Brod najdete v přehledu na Dnesnivylet.cz spolu s dalšími koncerty\, festivaly a divadelními představeními.Každý si vybere co se mu líbí. Nezapomeňte koupit vstupenky včas\, stačí kliknout a budete přesměrování na oficiálního prodejce vstupenek.
URL:https://dnesnivylet.cz/event/vaclav-noid-barta-a-bek-bek-clan-13/
LOCATION:Kulturní dům Ostrov\, Havlíčkův Brod\, Kulturní dům Ostrov\, Havlíčkův Brod\, Česká republika
CATEGORIES:Koncert
ATTACH;FMTTYPE=image/jpeg:https://dnesnivylet.cz/wp-content/uploads/2025/10/320-ea603bfca93a4dab9643636031580071.jpg
END:VEVENT
BEGIN:VEVENT
DTSTART;TZID=Europe/Prague:20260414T190000
DTEND;TZID=Europe/Prague:20260414T220000
DTSTAMP:20260419T225512
CREATED:20251105T191934Z
LAST-MODIFIED:20251105T191935Z
UID:12583-1776193200-1776204000@dnesnivylet.cz
SUMMARY:Martin Hranáč - CRAZY SHOW - Litoměrice
DESCRIPTION:Martin Hranáč – CRAZY SHOW – Litoměrice se uskuteční dne 2026-04-14 v 19:00 v Litoměřice\, MKZ. \n🎟️ Koupit vstupenku \n\nChcete vstoupit do světa humoru a improvizace? Tak je CRAZY SHOW právě pro VÁS! Připravte se na nezapomenutelný večer plný smíchu s Martinem Hranáčem – komikem\, hercem\, číšníkem a optimistou\, který svým jedinečným smyslem pro humor baví lidi na sociálních sítích. Martinův příběh číšníka a jeho každodenní zážitky z gastronomie se stávají zábavným vyprávěním\, které osloví naprosto všechny. \nKaždé vystoupení je unikátní a plné improvizace\, protože Martin miluje improvizaci a scénáře mění v průběhu večera\, což občas vykolejí jeho sestru Štěpánku Šmídovou\, která mu dělá skvělou společnost během celé show. Všechny scénky a historky vychází z Martinových zkušeností a zážitků\, jak profesního\, tak soukromého života. Jeho humor je nekorektní\, sebeironický a nebojí se jít na hranu – právě to dělá jeho show nezapomenutelnou! \nNenechte si ujít tento jedinečný zážitek! Vstupenky v prodeji! \nPořad není vhodný mladším 15 let! \n\nTento tip na kulturní akci v Litoměřice najdete v přehledu na Dnesnivylet.cz spolu s dalšími koncerty\, festivaly a divadelními představeními.Každý si vybere co se mu líbí. Nezapomeňte koupit vstupenky včas\, stačí kliknout a budete přesměrování na oficiálního prodejce vstupenek.
URL:https://dnesnivylet.cz/event/martin-hranac-crazy-show-litomerice/
LOCATION:MKZ\, Litoměřice\, MKZ\, Litoměřice\, Česká republika
CATEGORIES:Zábava
ATTACH;FMTTYPE=image/jpeg:https://dnesnivylet.cz/wp-content/uploads/2025/11/320-f7e7ea9429984a78941acf6e27396338.jpg
END:VEVENT
BEGIN:VEVENT
DTSTART;TZID=Europe/Prague:20260414T190000
DTEND;TZID=Europe/Prague:20260414T220000
DTSTAMP:20260419T225512
CREATED:20251114T150236Z
LAST-MODIFIED:20251114T150237Z
UID:13523-1776193200-1776204000@dnesnivylet.cz
SUMMARY:Historky z Tinderu Tour 2026
DESCRIPTION:Historky z Tinderu Tour 2026 se uskuteční dne 2026-04-14 v 19:00 v Strakonice\, Dům kultury. \n🎟️ Koupit vstupenku \n\nStand up comedy show s Lucií Macháčkovou\, Kateřinou Haškovou a Alenou Dolákovou. Diváci se ponoří do husté a pořádně peprné show\, ve které komičky prozradí vše\, co (ne)ví o vztazích\, lásce\, sexu a seznamování. NYNÍ VE VAŠEM MĚSTĚ! \n\nTento tip na kulturní akci v Strakonice najdete v přehledu na Dnesnivylet.cz spolu s dalšími koncerty\, festivaly a divadelními představeními.Každý si vybere co se mu líbí. Nezapomeňte koupit vstupenky včas\, stačí kliknout a budete přesměrování na oficiálního prodejce vstupenek.
URL:https://dnesnivylet.cz/event/historky-z-tinderu-tour-2026-15/
LOCATION:Dům kultury\, Strakonice\, Dům kultury\, Strakonice\, Česká republika
CATEGORIES:Zábava
ATTACH;FMTTYPE=image/jpeg:https://dnesnivylet.cz/wp-content/uploads/2025/11/320-2c7d58e2c2914309a65fe72534512e96.jpg
END:VEVENT
BEGIN:VEVENT
DTSTART;TZID=Europe/Prague:20260414T190000
DTEND;TZID=Europe/Prague:20260414T220000
DTSTAMP:20260419T225512
CREATED:20251129T143014Z
LAST-MODIFIED:20251129T143031Z
UID:14304-1776193200-1776204000@dnesnivylet.cz
SUMMARY:Petr Jablonský - Stand-up imitátor show - Liberec
DESCRIPTION:Petr Jablonský – Stand-up imitátor show – Liberec se uskuteční dne 2026-04-14 v 19:00 v Liberec\, Kulturní centrum VRATISLAVICE 101010. \n🎟️ Koupit vstupenku \n\nPřední český imitátor a bavič Petr Jablonský přichází na pódium se svou první celovečerní Stand-up show\, která vás nenechá v klidu!  \nVstupte do světa brilantních hlasových proměn\, výrazné gestikulace\, výmluvné mimiky a vytříbeného komediálního talentu. Užijte si umění imitace v celé své kráse – naživo a naplno! \nTěšit se můžete na originální vystoupení\, ve kterém se na jevišti objeví plejáda postav z politického\, kulturního i televizního prostředí – ovšem v podání jediného člověka. Hlasy\, které dobře znáte\, zazní s takovou přesností\, že budete mít pocit\, jako by tam skutečně stáli. Chybět nebudou ani legendární filmové postavy – například slavný četník Cruchot a další hrdinové z klasických komedií\, kteří znovu ožívají díky Jablonského energii a dokonalé imitaci. \nRozehraje se šíleně zábavná show\, kde nikdo nezůstane ušetřen – a vy se budete smát od první minuty až do závěrečného potlesku. Petr si nebere servítky a jde přímo na věc. Ostrý jazyk\, přesné trefy a imitace\, které vás rozesmějí do slz. \nNekorektní humor. Desítky známých osobností. A jeden muž\, co to všechno zvládne sám. \nwww.standupshow.cz \n\nTento tip na kulturní akci v Liberec najdete v přehledu na Dnesnivylet.cz spolu s dalšími koncerty\, festivaly a divadelními představeními.Každý si vybere co se mu líbí. Nezapomeňte koupit vstupenky včas\, stačí kliknout a budete přesměrování na oficiálního prodejce vstupenek.
URL:https://dnesnivylet.cz/event/petr-jablonsky-stand-up-imitator-show-liberec/
LOCATION:Kulturní centrum VRATISLAVICE 101010\, Liberec\, Kulturní centrum VRATISLAVICE 101010\, Liberec\, Česká republika
CATEGORIES:Zábava
ATTACH;FMTTYPE=image/jpeg:https://dnesnivylet.cz/wp-content/uploads/2025/11/320-43aaf468e14546129ac3066e85c7f3d2.jpg
END:VEVENT
END:VCALENDAR