BEGIN:VCALENDAR
VERSION:2.0
PRODID:-//www.dnesnivylet.cz                                                                                                                        Tip na výlet pro celou rodinu. - ECPv6.15.13.1//NONSGML v1.0//EN
CALSCALE:GREGORIAN
METHOD:PUBLISH
X-WR-CALNAME:www.dnesnivylet.cz                                                                                                                        Tip na výlet pro celou rodinu.
X-ORIGINAL-URL:https://dnesnivylet.cz
X-WR-CALDESC:Akce na www.dnesnivylet.cz                                                                                                                        Tip na výlet pro celou rodinu.
REFRESH-INTERVAL;VALUE=DURATION:PT1H
X-Robots-Tag:noindex
X-PUBLISHED-TTL:PT1H
BEGIN:VTIMEZONE
TZID:Europe/Prague
BEGIN:DAYLIGHT
TZOFFSETFROM:+0100
TZOFFSETTO:+0200
TZNAME:CEST
DTSTART:20250330T010000
END:DAYLIGHT
BEGIN:STANDARD
TZOFFSETFROM:+0200
TZOFFSETTO:+0100
TZNAME:CET
DTSTART:20251026T010000
END:STANDARD
BEGIN:DAYLIGHT
TZOFFSETFROM:+0100
TZOFFSETTO:+0200
TZNAME:CEST
DTSTART:20260329T010000
END:DAYLIGHT
BEGIN:STANDARD
TZOFFSETFROM:+0200
TZOFFSETTO:+0100
TZNAME:CET
DTSTART:20261025T010000
END:STANDARD
BEGIN:DAYLIGHT
TZOFFSETFROM:+0100
TZOFFSETTO:+0200
TZNAME:CEST
DTSTART:20270328T010000
END:DAYLIGHT
BEGIN:STANDARD
TZOFFSETFROM:+0200
TZOFFSETTO:+0100
TZNAME:CET
DTSTART:20271031T010000
END:STANDARD
END:VTIMEZONE
BEGIN:VEVENT
DTSTART;TZID=Europe/Prague:20260416T180000
DTEND;TZID=Europe/Prague:20260416T210000
DTSTAMP:20260419T154610
CREATED:20251129T054705Z
LAST-MODIFIED:20251129T054706Z
UID:13922-1776362400-1776373200@dnesnivylet.cz
SUMMARY:Koncert Duo Jamaha - Hit Tour 2026 - Rýmařov
DESCRIPTION:Koncert Duo Jamaha – Hit Tour 2026 – Rýmařov se uskuteční dne 2026-04-16 v 18:00 v Rýmařov\, Velký sál Střediska volného času. \n🎟️ Koupit vstupenku \n\nZveme Vás na hudebně-zábavný program pro všechny generace! \nHudební skupina DUO JAMAHA přichází s HIT Tour – koncert složený z největších hitů hudební skupiny namíchaný s humorným slovem a to i záhoráckým Stand-Up vystoupením\, o které se postará právě jeden z členů hudební skupiny. \nSkupina je známá hlavně z televizních obrazovek a rádií. Získala za prodej nosiče zlaté a platinové desky\, Oscara Smago Awards\, a jiná ocenění… přichází Vás opět zabavit a připravili si nezapomenutelný zážitek plný hudby a humoru. Přijďte si zazpívat\, odreagovat se a načerpat tu správnou energii. Na koncertě zazní rytmické melodické písně\, starší a novější hity! \nTisíce lidí a fanoušků vidělo poslední turné po České a Slovenské republice. \nTěšíme se opět na Vás! Bude to skvělá jízda! \nDUO JAMAHA  \nYOUTUBE \nFACEBOOK \nINSTAGRAM \nTIKTOK \nCena vstupenky 350\,-Kč a v den konání akce na místě 390\,-Kč. \nZačátek koncertu: 18:00 hodin. \n\nTento tip na kulturní akci v Rýmařov najdete v přehledu na Dnesnivylet.cz spolu s dalšími koncerty\, festivaly a divadelními představeními.Každý si vybere co se mu líbí. Nezapomeňte koupit vstupenky včas\, stačí kliknout a budete přesměrování na oficiálního prodejce vstupenek.
URL:https://dnesnivylet.cz/event/koncert-duo-jamaha-hit-tour-2026-rymarov/
LOCATION:Velký sál Střediska volného času\, Rýmařov\, Velký sál Střediska volného času\, Rýmařov\, Česká republika
CATEGORIES:Koncert
ATTACH;FMTTYPE=image/jpeg:https://dnesnivylet.cz/wp-content/uploads/2025/11/320-c526b29e723448538a2d19e6021f67ef.jpg
END:VEVENT
BEGIN:VEVENT
DTSTART;TZID=Europe/Prague:20260416T190000
DTEND;TZID=Europe/Prague:20260416T220000
DTSTAMP:20260419T154610
CREATED:20251105T193402Z
LAST-MODIFIED:20251105T193403Z
UID:12727-1776366000-1776376800@dnesnivylet.cz
SUMMARY:BALET V KINĚ - Giselle
DESCRIPTION:BALET V KINĚ – Giselle se uskuteční dne 2026-04-16 v 19:00 v Humpolec\, Kino. \n🎟️ Koupit vstupenku \n\nVesnická dívka Giselle se zamiluje do Albrechta. Když však zjistí\, že on je ve skutečnosti šlechtic zaslíbený jiné\, propadne zoufalství a vezme si život. Její duch se připojí k vílám\, pomstychtivým přízrakům mladých žen\, které k smrti utancují každého muže\, který jim zkříží cestu. Albrecht je sžíraný vinou a navštěvuje její hrob\, kde musí čelit vílám – včetně přízraku mrtvé Giselle. \nTato romantická baletní klasika v inscenaci Petera Wrighta z roku 1985 patří k pilířům repertoáru Královského baletu. V sugestivní hudbě Adolpha Adama a atmosférické scénografii Johna Macfarlanea ožívá příběh lásky\, zrady a vykoupení mezi světem živých a nadpřirozenem. \n  \nPředstavení je uváděno v rámci cyklu Balet v kině 2025/2026 včetně možnosti předplatného. \nJedná se o záznam promítaný na plátno kina. \n\nTento tip na kulturní akci v Humpolec najdete v přehledu na Dnesnivylet.cz spolu s dalšími koncerty\, festivaly a divadelními představeními.Každý si vybere co se mu líbí. Nezapomeňte koupit vstupenky včas\, stačí kliknout a budete přesměrování na oficiálního prodejce vstupenek.
URL:https://dnesnivylet.cz/event/balet-v-kine-giselle/
LOCATION:Kino\, Humpolec\, Kino\, Humpolec\, Česká republika
CATEGORIES:Zábava
ATTACH;FMTTYPE=image/jpeg:https://dnesnivylet.cz/wp-content/uploads/2025/11/320-84d30cb3614f42b2b604bfd08e6d4fb3.jpg
END:VEVENT
BEGIN:VEVENT
DTSTART;TZID=Europe/Prague:20260416T190000
DTEND;TZID=Europe/Prague:20260416T220000
DTSTAMP:20260419T154610
CREATED:20251108T171301Z
LAST-MODIFIED:20251108T171301Z
UID:13028-1776366000-1776376800@dnesnivylet.cz
SUMMARY:ŠVANCI SHOW - JÁ SU JÁ - Kolín
DESCRIPTION:ŠVANCI SHOW – JÁ SU JÁ – Kolín se uskuteční dne 2026-04-16 v 19:00 v Kolín\, MSD. \n🎟️ Koupit vstupenku \n\nNová zábavná show „JÁ SU JÁ“ vyráží na TOUR po celé České republice. \nČekají vás vtipné historky\, od kariéry fotbalisty\, velkolepé rozlučky za Lužánkami\, návštěv různých zábavních pořadů\, až po účast v reality show Survivor. Dále se těšte na prostor pro otázky na tělo\, autogramiádu\, focení a mnoho dalšího. \nJak moc dobře mě znáš? Jak vypadá můj život po kariéře fotbalisty? Chceš znát více informací o reality show Surviror? \nNejen to se dozvíš ve zbrusu nové zábavné show „JÁ SU JÁ“. \nPřijď se podívat a užít si legraci\, popovídat si s legendou fotbalu\, moderátorem\, bavičem a dát si třeba fotku\, nebo si nechat cokoliv podepsat. \nPořad není vhodný mladším 15 let! \n\nTento tip na kulturní akci v Kolín najdete v přehledu na Dnesnivylet.cz spolu s dalšími koncerty\, festivaly a divadelními představeními.Každý si vybere co se mu líbí. Nezapomeňte koupit vstupenky včas\, stačí kliknout a budete přesměrování na oficiálního prodejce vstupenek.
URL:https://dnesnivylet.cz/event/svanci-show-ja-su-ja-kolin/
LOCATION:MSD\, Kolín\, MSD\, Kolín\, Česká republika
CATEGORIES:Zábava
ATTACH;FMTTYPE=image/jpeg:https://dnesnivylet.cz/wp-content/uploads/2025/11/320-4c19cf794f4e4a93b774e88676fe6e0e.jpg
END:VEVENT
BEGIN:VEVENT
DTSTART;TZID=Europe/Prague:20260416T190000
DTEND;TZID=Europe/Prague:20260416T220000
DTSTAMP:20260419T154610
CREATED:20251129T071555Z
LAST-MODIFIED:20251129T071557Z
UID:14154-1776366000-1776376800@dnesnivylet.cz
SUMMARY:Historky z Tinderu Tour 2026
DESCRIPTION:Historky z Tinderu Tour 2026 se uskuteční dne 2026-04-16 v 19:00 v Hořice\, KD Koruna. \n🎟️ Koupit vstupenku \n\nStand up comedy show s Lucií Macháčkovou\, Kateřinou Haškovou a Alenou Dolákovou. Diváci se ponoří do husté a pořádně peprné show\, ve které komičky prozradí vše\, co (ne)ví o vztazích\, lásce\, sexu a seznamování. NYNÍ VE VAŠEM MĚSTĚ! \n\nTento tip na kulturní akci v Hořice najdete v přehledu na Dnesnivylet.cz spolu s dalšími koncerty\, festivaly a divadelními představeními.Každý si vybere co se mu líbí. Nezapomeňte koupit vstupenky včas\, stačí kliknout a budete přesměrování na oficiálního prodejce vstupenek.
URL:https://dnesnivylet.cz/event/historky-z-tinderu-tour-2026-23/
LOCATION:KD Koruna\, Hořice\, KD Koruna\, Hořice\, Česká republika
CATEGORIES:Zábava
ATTACH;FMTTYPE=image/jpeg:https://dnesnivylet.cz/wp-content/uploads/2025/11/320-1e80f40cb14f4d848b6a873306c20ea4.jpg
END:VEVENT
END:VCALENDAR