BEGIN:VCALENDAR
VERSION:2.0
PRODID:-//www.dnesnivylet.cz                                                                                                                        Tip na výlet pro celou rodinu. - ECPv6.15.13.1//NONSGML v1.0//EN
CALSCALE:GREGORIAN
METHOD:PUBLISH
X-WR-CALNAME:www.dnesnivylet.cz                                                                                                                        Tip na výlet pro celou rodinu.
X-ORIGINAL-URL:https://dnesnivylet.cz
X-WR-CALDESC:Akce na www.dnesnivylet.cz                                                                                                                        Tip na výlet pro celou rodinu.
REFRESH-INTERVAL;VALUE=DURATION:PT1H
X-Robots-Tag:noindex
X-PUBLISHED-TTL:PT1H
BEGIN:VTIMEZONE
TZID:Europe/Prague
BEGIN:DAYLIGHT
TZOFFSETFROM:+0100
TZOFFSETTO:+0200
TZNAME:CEST
DTSTART:20250330T010000
END:DAYLIGHT
BEGIN:STANDARD
TZOFFSETFROM:+0200
TZOFFSETTO:+0100
TZNAME:CET
DTSTART:20251026T010000
END:STANDARD
BEGIN:DAYLIGHT
TZOFFSETFROM:+0100
TZOFFSETTO:+0200
TZNAME:CEST
DTSTART:20260329T010000
END:DAYLIGHT
BEGIN:STANDARD
TZOFFSETFROM:+0200
TZOFFSETTO:+0100
TZNAME:CET
DTSTART:20261025T010000
END:STANDARD
BEGIN:DAYLIGHT
TZOFFSETFROM:+0100
TZOFFSETTO:+0200
TZNAME:CEST
DTSTART:20270328T010000
END:DAYLIGHT
BEGIN:STANDARD
TZOFFSETFROM:+0200
TZOFFSETTO:+0100
TZNAME:CET
DTSTART:20271031T010000
END:STANDARD
END:VTIMEZONE
BEGIN:VEVENT
DTSTART;TZID=Europe/Prague:20260421T190000
DTEND;TZID=Europe/Prague:20260421T220000
DTSTAMP:20260419T154615
CREATED:20251020T153302Z
LAST-MODIFIED:20251020T153306Z
UID:9198-1776798000-1776808800@dnesnivylet.cz
SUMMARY:Travesti show Divoké kočky v Přešticích
DESCRIPTION:Travesti show Divoké kočky v Přešticích se uskuteční dne 2026-04-21 v 19:00 v Přeštice\, KKC Přeštice. \n🎟️ Koupit vstupenku \n\nTravesti skupina Divoké kočky z Ostravy přijíždí se svým novým programem do KKC Přeštice\, kde vystoupí 21.4.2026 v 19:00 pro své věrné publikum a diváky ze širokého okolí na sále kulturního a komunitního centra Přeštice. Skupina Divoké kočky do západních Čech jezdí od roku 2010 a pravidelně vystupují ve městech v okolí Plzně. Celovečerní zábavný program je plný nezapomenutelných legračních scének\, písniček\, známých zpěvaček\, krásných kostýmů\, situačního humoru\, smíchu a je vhodný jak pro ženské tak pánské publikum. Jejich vystoupení se těší stálé větší oblibě a tak si každý divák přijde na své. Přijdte se sami přesvědčit\, že na travesti představení není nic špatného a v podání ostravských umělců se budete určitě dobře bavit. Divoké kočky v Přešticích již několikrát učinkovali se svým celovečerním programem\, a proto se těší opět na úžasné místní publikum\, atmosféru a skvělý večer\, který vždy zaplněný sál diváků vytvoří. Přijďte se pobavit i Vy. Na závěr programu Vám členové souboru ukážou svou pravou tvář. \n\nTento tip na kulturní akci v Přeštice najdete v přehledu na Dnesnivylet.cz spolu s dalšími koncerty\, festivaly a divadelními představeními.Každý si vybere co se mu líbí. Nezapomeňte koupit vstupenky včas\, stačí kliknout a budete přesměrování na oficiálního prodejce vstupenek.
URL:https://dnesnivylet.cz/event/travesti-show-divoke-kocky-v-presticich/
LOCATION:KKC Přeštice\, Přeštice\, KKC Přeštice\, Přeštice\, Česká republika
CATEGORIES:Zábava
ATTACH;FMTTYPE=image/jpeg:https://dnesnivylet.cz/wp-content/uploads/2025/10/320-179fb409fedf4e11ae95a5006aa0a3eb.jpg
END:VEVENT
BEGIN:VEVENT
DTSTART;TZID=Europe/Prague:20260421T190000
DTEND;TZID=Europe/Prague:20260421T220000
DTSTAMP:20260419T154615
CREATED:20251105T191707Z
LAST-MODIFIED:20251105T191708Z
UID:12522-1776798000-1776808800@dnesnivylet.cz
SUMMARY:Martin Hranáč - CRAZY SHOW - Mladá Boleslav
DESCRIPTION:Martin Hranáč – CRAZY SHOW – Mladá Boleslav se uskuteční dne 2026-04-21 v 19:00 v Mladá Boleslav\, Dům kultury. \n🎟️ Koupit vstupenku \n\nChcete vstoupit do světa humoru a improvizace? Tak je CRAZY SHOW právě pro VÁS! Připravte se na nezapomenutelný večer plný smíchu s Martinem Hranáčem – komikem\, hercem\, číšníkem a optimistou\, který svým jedinečným smyslem pro humor baví lidi na sociálních sítích. Martinův příběh číšníka a jeho každodenní zážitky z gastronomie se stávají zábavným vyprávěním\, které osloví naprosto všechny. \nKaždé vystoupení je unikátní a plné improvizace\, protože Martin miluje improvizaci a scénáře mění v průběhu večera\, což občas vykolejí jeho sestru Štěpánku Šmídovou\, která mu dělá skvělou společnost během celé show. Všechny scénky a historky vychází z Martinových zkušeností a zážitků\, jak profesního\, tak soukromého života. Jeho humor je nekorektní\, sebeironický a nebojí se jít na hranu – právě to dělá jeho show nezapomenutelnou! \nNenechte si ujít tento jedinečný zážitek! Vstupenky v prodeji! \nPořad není vhodný mladším 15 let! \n\nTento tip na kulturní akci v Mladá Boleslav najdete v přehledu na Dnesnivylet.cz spolu s dalšími koncerty\, festivaly a divadelními představeními.Každý si vybere co se mu líbí. Nezapomeňte koupit vstupenky včas\, stačí kliknout a budete přesměrování na oficiálního prodejce vstupenek.
URL:https://dnesnivylet.cz/event/martin-hranac-crazy-show-mlada-boleslav/
LOCATION:Dům kultury\, Mladá Boleslav\, Dům kultury\, Mladá Boleslav\, Česká republika
CATEGORIES:Zábava
ATTACH;FMTTYPE=image/jpeg:https://dnesnivylet.cz/wp-content/uploads/2025/11/320-a4b17b69c2c44a40bd2fb78e7f89fc0d.jpg
END:VEVENT
BEGIN:VEVENT
DTSTART;TZID=Europe/Prague:20260421T190000
DTEND;TZID=Europe/Prague:20260421T220000
DTSTAMP:20260419T154615
CREATED:20251129T065837Z
LAST-MODIFIED:20251129T065837Z
UID:14151-1776798000-1776808800@dnesnivylet.cz
SUMMARY:Historky z Tinderu Tour 2026
DESCRIPTION:Historky z Tinderu Tour 2026 se uskuteční dne 2026-04-21 v 19:00 v Chrudim\, Divadlo Karla Pippicha. \n🎟️ Koupit vstupenku \n\nStand up comedy show s Lucií Macháčkovou\, Kateřinou Haškovou a Alenou Dolákovou. Diváci se ponoří do husté a pořádně peprné show\, ve které komičky prozradí vše\, co (ne)ví o vztazích\, lásce\, sexu a seznamování. NYNÍ VE VAŠEM MĚSTĚ! \n\nTento tip na kulturní akci v Chrudim najdete v přehledu na Dnesnivylet.cz spolu s dalšími koncerty\, festivaly a divadelními představeními.Každý si vybere co se mu líbí. Nezapomeňte koupit vstupenky včas\, stačí kliknout a budete přesměrování na oficiálního prodejce vstupenek.
URL:https://dnesnivylet.cz/event/historky-z-tinderu-tour-2026-22/
LOCATION:Divadlo Karla Pippicha\, Chrudim\, Divadlo Karla Pippicha\, Chrudim\, Česká republika
CATEGORIES:Zábava
ATTACH;FMTTYPE=image/jpeg:https://dnesnivylet.cz/wp-content/uploads/2025/11/320-248ce353d8ee4ec68a6a101eb436d42c.jpg
END:VEVENT
END:VCALENDAR