BEGIN:VCALENDAR
VERSION:2.0
PRODID:-//www.dnesnivylet.cz                                                                                                                        Tip na výlet pro celou rodinu. - ECPv6.15.13.1//NONSGML v1.0//EN
CALSCALE:GREGORIAN
METHOD:PUBLISH
X-ORIGINAL-URL:https://dnesnivylet.cz
X-WR-CALDESC:Akce na www.dnesnivylet.cz                                                                                                                        Tip na výlet pro celou rodinu.
REFRESH-INTERVAL;VALUE=DURATION:PT1H
X-Robots-Tag:noindex
X-PUBLISHED-TTL:PT1H
BEGIN:VTIMEZONE
TZID:Europe/Prague
BEGIN:DAYLIGHT
TZOFFSETFROM:+0100
TZOFFSETTO:+0200
TZNAME:CEST
DTSTART:20250330T010000
END:DAYLIGHT
BEGIN:STANDARD
TZOFFSETFROM:+0200
TZOFFSETTO:+0100
TZNAME:CET
DTSTART:20251026T010000
END:STANDARD
BEGIN:DAYLIGHT
TZOFFSETFROM:+0100
TZOFFSETTO:+0200
TZNAME:CEST
DTSTART:20260329T010000
END:DAYLIGHT
BEGIN:STANDARD
TZOFFSETFROM:+0200
TZOFFSETTO:+0100
TZNAME:CET
DTSTART:20261025T010000
END:STANDARD
BEGIN:DAYLIGHT
TZOFFSETFROM:+0100
TZOFFSETTO:+0200
TZNAME:CEST
DTSTART:20270328T010000
END:DAYLIGHT
BEGIN:STANDARD
TZOFFSETFROM:+0200
TZOFFSETTO:+0100
TZNAME:CET
DTSTART:20271031T010000
END:STANDARD
END:VTIMEZONE
BEGIN:VEVENT
DTSTART;TZID=Europe/Prague:20260423T190000
DTEND;TZID=Europe/Prague:20260423T220000
DTSTAMP:20260419T225511
CREATED:20251026T124409Z
LAST-MODIFIED:20251026T124409Z
UID:10187-1776970800-1776981600@dnesnivylet.cz
SUMMARY:Václav Noid Bárta a Bek Bek Clan
DESCRIPTION:Václav Noid Bárta a Bek Bek Clan se uskuteční dne 2026-04-23 v 19:00 v Uherské Hradiště\, Klub kultury. \n🎟️ Koupit vstupenku \n\nVáclav NOID Bárta v Uherském Hradišti! \nOd prvních kroků s kapelami Dolores Clan\, Noid Crew a Dymytry\, přes divadelní svět muzikálů až po jeho současnou sólovou tvorbu. Přijďte si projít dvacetiletou hudební cestu Václava NOIDA Bárty – charizmatického zpěváka\, autora filmové hudby a jedinečného hlasu české hudební scény. \nNa co se můžete těšit?Během večera zazní jak jeho autorské skladby\, tak i oblíbené převzaté songy\, které skvěle doplní energii a atmosféru celého koncertu. Tento výjimečný večer přinese nálož skvělé muziky\, pohody a neuvěřitelné energie\, která vás strhne! \nZažijte hudební show\, na kterou se nezapomíná! \n\nTento tip na kulturní akci v Uherské Hradiště najdete v přehledu na Dnesnivylet.cz spolu s dalšími koncerty\, festivaly a divadelními představeními.Každý si vybere co se mu líbí. Nezapomeňte koupit vstupenky včas\, stačí kliknout a budete přesměrování na oficiálního prodejce vstupenek.
URL:https://dnesnivylet.cz/event/vaclav-noid-barta-a-bek-bek-clan-10/
LOCATION:Klub kultury\, Uherské Hradiště\, Klub kultury\, Uherské Hradiště\, Česká republika
CATEGORIES:Koncert
ATTACH;FMTTYPE=image/jpeg:https://dnesnivylet.cz/wp-content/uploads/2025/10/320-894d3129f38a4d82a1919edaf6497420.jpg
END:VEVENT
BEGIN:VEVENT
DTSTART;TZID=Europe/Prague:20260423T190000
DTEND;TZID=Europe/Prague:20260423T220000
DTSTAMP:20260419T225512
CREATED:20251107T093001Z
LAST-MODIFIED:20251107T093001Z
UID:12831-1776970800-1776981600@dnesnivylet.cz
SUMMARY:Filmová hudba Hanse Zimmera při svíčkách
DESCRIPTION:Filmová hudba Hanse Zimmera při svíčkách se uskuteční dne 2026-04-23 v 19:00 v Hradec Králové\, Petrof Gallery. \n🎟️ Koupit vstupenku \n\nKoncert filmové hudby Hanse Zimmera při svíčkách! \nNenechte si ujít nezapomenutelný večer plný nejkrásnější filmové hudby\, během kterého zazní melodie jednoho z nejvýznamnějších skladatelů filmové hudby na světě\, Hanse Zimmera\, v podání mezinárodně uznávaného pianisty Alexandra Starého. Záře stovek svíček vytvoří nezapomenutelnou atmosféru koncertu. \nHans Zimmer je známý svou emocionální a dojemnou filmovou hudbou\, která dokonale podtrhuje děj na plátně. Během své téměř čtyřicetileté kariéry vytvořil ikonické soundtracky k mnoha slavným filmům\, jako jsou Gladiátor\, Počátek\, Interstellar\, Piráti z Karibiku\, Lví král a mnoho dalších. Jeho kompozice si získaly srdce milionů fanoušků po celém světě a jeho koncerty vyprodávají nejprestižnější koncertní sály. \nTento výjimečný koncert nabízí mnohem více než jen hudbu. Stovky mihotajících se svíček rozzáří celý prostor a vytvoří tajemnou a magickou atmosféru. Každá z nich přispěje k vytvoření nezapomenutelného hudebního zážitku. \nV rámci Evropské tour alternují také: František Panáček a Lucie Kubátová.  \nAkce je přístupná od 12 let. Každý účastník musí předložit platnou vstupenku  zakoupenou výhradně v síti smsticket. \n\nTento tip na kulturní akci v Hradec Králové najdete v přehledu na Dnesnivylet.cz spolu s dalšími koncerty\, festivaly a divadelními představeními.Každý si vybere co se mu líbí. Nezapomeňte koupit vstupenky včas\, stačí kliknout a budete přesměrování na oficiálního prodejce vstupenek.
URL:https://dnesnivylet.cz/event/filmova-hudba-hanse-zimmera-pri-svickach-8/
LOCATION:Petrof Gallery\, Hradec Králové\, Petrof Gallery\, Hradec Králové\, Česká republika
CATEGORIES:Koncert
ATTACH;FMTTYPE=image/jpeg:https://dnesnivylet.cz/wp-content/uploads/2025/11/320-a4a4fa1e0bdf4b219eabf799e249ef00.jpg
END:VEVENT
BEGIN:VEVENT
DTSTART;TZID=Europe/Prague:20260423T190000
DTEND;TZID=Europe/Prague:20260423T220000
DTSTAMP:20260419T225512
CREATED:20251113T091049Z
LAST-MODIFIED:20251113T091050Z
UID:13361-1776970800-1776981600@dnesnivylet.cz
SUMMARY:ŠVANCI SHOW - JÁ SU JÁ - Hranice
DESCRIPTION:ŠVANCI SHOW – JÁ SU JÁ – Hranice se uskuteční dne 2026-04-23 v 19:00 v Hranice\, Sokolovna Hranice. \n🎟️ Koupit vstupenku \n\nNová zábavná show „JÁ SU JÁ“ vyráží na TOUR po celé České republice. \nČekají vás vtipné historky\, od kariéry fotbalisty\, velkolepé rozlučky za Lužánkami\, návštěv různých zábavních pořadů\, až po účast v reality show Survivor. Dále se těšte na prostor pro otázky na tělo\, autogramiádu\, focení a mnoho dalšího. \nJak moc dobře mě znáš? Jak vypadá můj život po kariéře fotbalisty? Chceš znát více informací o reality show Surviror? \nNejen to se dozvíš ve zbrusu nové zábavné show „JÁ SU JÁ“. \nPřijď se podívat a užít si legraci\, popovídat si s legendou fotbalu\, moderátorem\, bavičem a dát si třeba fotku\, nebo si nechat cokoliv podepsat. \nPořad není vhodný mladším 15 let! \n\nTento tip na kulturní akci v Hranice najdete v přehledu na Dnesnivylet.cz spolu s dalšími koncerty\, festivaly a divadelními představeními.Každý si vybere co se mu líbí. Nezapomeňte koupit vstupenky včas\, stačí kliknout a budete přesměrování na oficiálního prodejce vstupenek.
URL:https://dnesnivylet.cz/event/svanci-show-ja-su-ja-hranice/
LOCATION:Sokolovna Hranice\, Hranice\, Sokolovna Hranice\, Hranice\, Česká republika
CATEGORIES:Zábava
ATTACH;FMTTYPE=image/jpeg:https://dnesnivylet.cz/wp-content/uploads/2025/11/320-c5769496c8f64f2e8ce4fe043fe1e02a.jpg
END:VEVENT
BEGIN:VEVENT
DTSTART;TZID=Europe/Prague:20260423T190000
DTEND;TZID=Europe/Prague:20260423T220000
DTSTAMP:20260419T225512
CREATED:20251113T091052Z
LAST-MODIFIED:20251113T091052Z
UID:13384-1776970800-1776981600@dnesnivylet.cz
SUMMARY:Vysočina sobě - Skvosty romantismu
DESCRIPTION:Vysočina sobě – Skvosty romantismu se uskuteční dne 2026-04-23 v 19:00 v Jihlava\, DKO. \n🎟️ Koupit vstupenku \n\nKoncertní agentura ARS/KONCERT\, spol. s r.o. uvádí: \nKoncert Filharmonie Brno – Brahms\, Dvořák\, Schubert a Liszt. \nProgram: Johannes Brahms (Variace na Haydnovo téma op. 56)\, Antonín Dvořák (Slovanská rapsodie č. 1 D dur op. 45)\, Franz Schubert (Rosamunda\, předehra)\, Ferenc Liszt (Preludia\, symfonická báseň) \nVystupující: Filharmonie Brno \nDirigent: Robert Kružík \nKoncert moderuje: Jaromír Javůrek \n\nTento tip na kulturní akci v Jihlava najdete v přehledu na Dnesnivylet.cz spolu s dalšími koncerty\, festivaly a divadelními představeními.Každý si vybere co se mu líbí. Nezapomeňte koupit vstupenky včas\, stačí kliknout a budete přesměrování na oficiálního prodejce vstupenek.
URL:https://dnesnivylet.cz/event/vysocina-sobe-skvosty-romantismu/
LOCATION:DKO\, Jihlava\, DKO\, Jihlava\, Česká republika
CATEGORIES:Koncert
ATTACH;FMTTYPE=image/jpeg:https://dnesnivylet.cz/wp-content/uploads/2025/11/320-b21299832958448bab1502b954c1db1f.jpg
END:VEVENT
BEGIN:VEVENT
DTSTART;TZID=Europe/Prague:20260423T190000
DTEND;TZID=Europe/Prague:20260423T220000
DTSTAMP:20260419T225512
CREATED:20251123T112551Z
LAST-MODIFIED:20251123T112552Z
UID:13768-1776970800-1776981600@dnesnivylet.cz
SUMMARY:Historky z Tinderu Tour 2026
DESCRIPTION:Historky z Tinderu Tour 2026 se uskuteční dne 2026-04-23 v 19:00 v Česká Lípa\, Kulturní dům Crystal. \n🎟️ Koupit vstupenku \n\nStand up comedy show s Lucií Macháčkovou\, Kateřinou Haškovou a Alenou Dolákovou. Diváci se ponoří do husté a pořádně peprné show\, ve které komičky prozradí vše\, co (ne)ví o vztazích\, lásce\, sexu a seznamování. NYNÍ VE VAŠEM MĚSTĚ! \n\nTento tip na kulturní akci v Česká Lípa najdete v přehledu na Dnesnivylet.cz spolu s dalšími koncerty\, festivaly a divadelními představeními.Každý si vybere co se mu líbí. Nezapomeňte koupit vstupenky včas\, stačí kliknout a budete přesměrování na oficiálního prodejce vstupenek.
URL:https://dnesnivylet.cz/event/historky-z-tinderu-tour-2026-21/
LOCATION:Kulturní dům Crystal\, Česká Lípa\, Kulturní dům Crystal\, Česká Lípa\, Česká republika
CATEGORIES:Zábava
ATTACH;FMTTYPE=image/jpeg:https://dnesnivylet.cz/wp-content/uploads/2025/11/320-5eef0956b9d146c0b2e966166795b72d.jpg
END:VEVENT
BEGIN:VEVENT
DTSTART;TZID=Europe/Prague:20260423T190000
DTEND;TZID=Europe/Prague:20260423T220000
DTSTAMP:20260419T225512
CREATED:20251129T145048Z
LAST-MODIFIED:20251129T145048Z
UID:14411-1776970800-1776981600@dnesnivylet.cz
SUMMARY:7 pádů Honzy Dědka ve Zbýšově
DESCRIPTION:7 pádů Honzy Dědka ve Zbýšově  se uskuteční dne 2026-04-23 v 19:00 v Zbýšov\, Kino Horník. \n🎟️ Koupit vstupenku \n\nTalk show 7 pádů Honzy Dědka ve Zbýšově. \n\nTento tip na kulturní akci v Zbýšov najdete v přehledu na Dnesnivylet.cz spolu s dalšími koncerty\, festivaly a divadelními představeními.Každý si vybere co se mu líbí. Nezapomeňte koupit vstupenky včas\, stačí kliknout a budete přesměrování na oficiálního prodejce vstupenek.
URL:https://dnesnivylet.cz/event/7-padu-honzy-dedka-ve-zbysove/
LOCATION:Kino Horník\, Zbýšov\, Kino Horník\, Zbýšov\, Česká republika
CATEGORIES:Zábava
ATTACH;FMTTYPE=image/jpeg:https://dnesnivylet.cz/wp-content/uploads/2025/11/320-353df8dd655940218f7a1c9f8b9173ba.jpg
END:VEVENT
BEGIN:VEVENT
DTSTART;TZID=Europe/Prague:20260423T200000
DTEND;TZID=Europe/Prague:20260423T230000
DTSTAMP:20260419T225512
CREATED:20251108T170446Z
LAST-MODIFIED:20251108T170446Z
UID:12938-1776974400-1776985200@dnesnivylet.cz
SUMMARY:Blue Pleasure Show V: večer věnovaný umění erotiky
DESCRIPTION:Blue Pleasure Show V: večer věnovaný umění erotiky se uskuteční dne 2026-04-23 v 20:00 v Brno\, Cabaret des Péchés. \n🎟️ Koupit vstupenku \n\nShow pro milovníky umění s nádechem erotiky a jedinečné atmosféry dekadentního večera. Výjimečný koncept Blue Pleasure Show produkuje burleska Zorya Blue. \nČeká Tě: \nProgram \n\n\nshow dominy Uniquitty Queen \n\n\nDari Sabotage – řetězy a sex-appeal \n\n\nshibari od riggerky Alex in Ropes \n\n\nfashion show NORA URBAN \n\n\nsexy zpěv Kristy Budišové \n\n\ntajemný chair dance a akrobacie od Luce with Love \n\n\nburleska Zorya Blue \n\n\n\n\nsmyslný merch a fashion stánek \n\n\nsexkvíz o sexscény \n\n\n Pro koho je show?Představení Blue Pleasure Show je stvořené pro muže a ženy\, kteří/ré mají rádi/y umění erotiky\, chtějí objevovat a přejí si strávit večer v dekadentní atmosféře plného erotické energie kabaretu. \nShow doplňují prezentace projektů týkajících se těla a intimity. \nDress code:Červená! Stačí doplněk nebo klidně i celý outfit. Na místě je dostupná šatna. \nBar je otevřen od 18h.Show začíná ve 20h. \nTěšíme se na Vás.Tým Cabaretu \n\nTento tip na kulturní akci v Brno najdete v přehledu na Dnesnivylet.cz spolu s dalšími koncerty\, festivaly a divadelními představeními.Každý si vybere co se mu líbí. Nezapomeňte koupit vstupenky včas\, stačí kliknout a budete přesměrování na oficiálního prodejce vstupenek.
URL:https://dnesnivylet.cz/event/blue-pleasure-show-v-vecer-venovany-umeni-erotiky/
LOCATION:Cabaret des Péchés\, Brno\, Cabaret des Péchés\, Brno\, Česká republika
CATEGORIES:Zábava
ATTACH;FMTTYPE=image/jpeg:https://dnesnivylet.cz/wp-content/uploads/2025/11/320-f5be5c6f542546fe8d59375f4df95a1d.jpg
END:VEVENT
END:VCALENDAR