BEGIN:VCALENDAR
VERSION:2.0
PRODID:-//www.dnesnivylet.cz                                                                                                                        Tip na výlet pro celou rodinu. - ECPv6.15.13.1//NONSGML v1.0//EN
CALSCALE:GREGORIAN
METHOD:PUBLISH
X-WR-CALNAME:www.dnesnivylet.cz                                                                                                                        Tip na výlet pro celou rodinu.
X-ORIGINAL-URL:https://dnesnivylet.cz
X-WR-CALDESC:Akce na www.dnesnivylet.cz                                                                                                                        Tip na výlet pro celou rodinu.
REFRESH-INTERVAL;VALUE=DURATION:PT1H
X-Robots-Tag:noindex
X-PUBLISHED-TTL:PT1H
BEGIN:VTIMEZONE
TZID:Europe/Prague
BEGIN:DAYLIGHT
TZOFFSETFROM:+0100
TZOFFSETTO:+0200
TZNAME:CEST
DTSTART:20240331T010000
END:DAYLIGHT
BEGIN:STANDARD
TZOFFSETFROM:+0200
TZOFFSETTO:+0100
TZNAME:CET
DTSTART:20241027T010000
END:STANDARD
BEGIN:DAYLIGHT
TZOFFSETFROM:+0100
TZOFFSETTO:+0200
TZNAME:CEST
DTSTART:20250330T010000
END:DAYLIGHT
BEGIN:STANDARD
TZOFFSETFROM:+0200
TZOFFSETTO:+0100
TZNAME:CET
DTSTART:20251026T010000
END:STANDARD
BEGIN:DAYLIGHT
TZOFFSETFROM:+0100
TZOFFSETTO:+0200
TZNAME:CEST
DTSTART:20260329T010000
END:DAYLIGHT
BEGIN:STANDARD
TZOFFSETFROM:+0200
TZOFFSETTO:+0100
TZNAME:CET
DTSTART:20261025T010000
END:STANDARD
END:VTIMEZONE
BEGIN:VEVENT
DTSTART;TZID=Europe/Prague:20251230T183000
DTEND;TZID=Europe/Prague:20251230T213000
DTSTAMP:20260419T170344
CREATED:20251021T054704Z
LAST-MODIFIED:20251021T054704Z
UID:9488-1767119400-1767130200@dnesnivylet.cz
SUMMARY:Beatles\, ABBA a Queen den před Silvestrem
DESCRIPTION:Beatles\, ABBA a Queen den před Silvestrem se uskuteční dne 2025-12-30 v 18:30 v Praha\, Secesní sál na Marjánce. \n🎟️ Koupit vstupenku \n\nV krásném secesním tanečním sále historické budově Na Marjánce si přijďte užít den před Silvestrem ty nejkrásnější písničky skupin ABBA a Beatles a Queen v unikátních aranžích pro smyčcové kvarteto \n  \nKLÁROVO KVARTETO \nPavel Hrda – I. housle\,    Tom Klár – II. housle\,                                                      Libor Kaňka – viola\,  Václav Fleissig – violoncello \n  \nPROGRAM: \nBEATLES:I should have known betterYESTERDAYHoney\, don´tJudy in disguiseGirlHelpKansas CityMichelleLet it beThe Night beforeHold me tightEleanor RigbyPlease\, please meLittle ChildEight days a week \nABBA:Dancing QueenLay all your Love on meChiquittita \nQUEEN:BarcelonaCrazy little thing called LoveWe are the Champions \nDÉLKA cca 65 minut \n  \n\nTento tip na kulturní akci v Praha najdete v přehledu na Dnesnivylet.cz spolu s dalšími koncerty\, festivaly a divadelními představeními.Každý si vybere co se mu líbí. Nezapomeňte koupit vstupenky včas\, stačí kliknout a budete přesměrování na oficiálního prodejce vstupenek.
URL:https://dnesnivylet.cz/event/beatles-abba-a-queen-den-pred-silvestrem/
LOCATION:Secesní sál na Marjánce\, Praha\, Secesní sál na Marjánce\, Praha\, Česká republika
CATEGORIES:Koncert
ATTACH;FMTTYPE=image/jpeg:https://dnesnivylet.cz/wp-content/uploads/2025/10/320-03a9d60e057549e68e100122ffe38eac.jpg
END:VEVENT
BEGIN:VEVENT
DTSTART;TZID=Europe/Prague:20251230T190000
DTEND;TZID=Europe/Prague:20251230T220000
DTSTAMP:20260419T170344
CREATED:20251108T171655Z
LAST-MODIFIED:20251108T171655Z
UID:13084-1767121200-1767132000@dnesnivylet.cz
SUMMARY:Orange
DESCRIPTION:Orange se uskuteční dne 2025-12-30 v 19:00 v Zlín\, Zelenáčova Šopa. \n🎟️ Koupit vstupenku \n\nOrange není živou reklamou mobilního operátora ani sborem přívrženců tropického ovoce! Pod kůrou tohoto plodu se skrývá hudební formace\, která vám naservíruje známé i méně známé skladby od Joe Cockera\, Petera Gabriela\, Seala\, Johna Mayalla\, Dusty Springfield\, Lennyho Kravitze\, Freak Power a dalších na talíři ozdobeném tříčlennou dechovou sekcí\, bohatými vokály\, foukací harmonikou\, šlapající rytmikou a perkusemi. „Chceme pobavit hlavně sami sebe a doufáme\, že náladou vznikající na pódiu se podaří nakazit i posluchače.“ \n\nTento tip na kulturní akci v Zlín najdete v přehledu na Dnesnivylet.cz spolu s dalšími koncerty\, festivaly a divadelními představeními.Každý si vybere co se mu líbí. Nezapomeňte koupit vstupenky včas\, stačí kliknout a budete přesměrování na oficiálního prodejce vstupenek.
URL:https://dnesnivylet.cz/event/orange/
LOCATION:Zelenáčova Šopa\, Zlín\, Zelenáčova Šopa\, Zlín\, Česká republika
CATEGORIES:Koncert
ATTACH;FMTTYPE=image/jpeg:https://dnesnivylet.cz/wp-content/uploads/2025/11/320-5109411d54004a17bda9ba0a560510a0.jpg
END:VEVENT
END:VCALENDAR