BEGIN:VCALENDAR
VERSION:2.0
PRODID:-//www.dnesnivylet.cz                                                                                                                        Tip na výlet pro celou rodinu. - ECPv6.15.13.1//NONSGML v1.0//EN
CALSCALE:GREGORIAN
METHOD:PUBLISH
X-WR-CALNAME:www.dnesnivylet.cz                                                                                                                        Tip na výlet pro celou rodinu.
X-ORIGINAL-URL:https://dnesnivylet.cz
X-WR-CALDESC:Akce na www.dnesnivylet.cz                                                                                                                        Tip na výlet pro celou rodinu.
REFRESH-INTERVAL;VALUE=DURATION:PT1H
X-Robots-Tag:noindex
X-PUBLISHED-TTL:PT1H
BEGIN:VTIMEZONE
TZID:Europe/Prague
BEGIN:DAYLIGHT
TZOFFSETFROM:+0100
TZOFFSETTO:+0200
TZNAME:CEST
DTSTART:20240331T010000
END:DAYLIGHT
BEGIN:STANDARD
TZOFFSETFROM:+0200
TZOFFSETTO:+0100
TZNAME:CET
DTSTART:20241027T010000
END:STANDARD
BEGIN:DAYLIGHT
TZOFFSETFROM:+0100
TZOFFSETTO:+0200
TZNAME:CEST
DTSTART:20250330T010000
END:DAYLIGHT
BEGIN:STANDARD
TZOFFSETFROM:+0200
TZOFFSETTO:+0100
TZNAME:CET
DTSTART:20251026T010000
END:STANDARD
BEGIN:DAYLIGHT
TZOFFSETFROM:+0100
TZOFFSETTO:+0200
TZNAME:CEST
DTSTART:20260329T010000
END:DAYLIGHT
BEGIN:STANDARD
TZOFFSETFROM:+0200
TZOFFSETTO:+0100
TZNAME:CET
DTSTART:20261025T010000
END:STANDARD
END:VTIMEZONE
BEGIN:VEVENT
DTSTART;TZID=Europe/Prague:20251231T170000
DTEND;TZID=Europe/Prague:20251231T200000
DTSTAMP:20260419T170343
CREATED:20251226T111222Z
LAST-MODIFIED:20251226T111223Z
UID:15978-1767200400-1767211200@dnesnivylet.cz
SUMMARY:Silvestrovský koncert v kostele sv. Jindřicha
DESCRIPTION:Silvestrovský koncert v kostele sv. Jindřicha se uskuteční dne 2025-12-31 v 17:00 v Staré Hamry\, Kostel sv. Jindřicha. \n🎟️ Koupit vstupenku \n\nPísničkářka Kaczi (akordeon\, kytara\, ukulele\, piano) vystoupí v kamenném kostele sv. Jindřicha ve Starých Hamrech nad Šancí. Kdy? Ve středu 31.12. od 17:00h. \nPřijďte společně oslavit konec roku hudbou v kouzelném prostředí beskydských hor. \nTento koncert je určen především pro milovníky nevšedních zážitků\, hudby\, děti a dobrodruhy. \nČekat můžete skvělou atmosféru plné pozitivní energie v kostele u Maryčky Magdonové . \nTěšíme se na vás! \nKaczi se svým týmem a farností Ostravice \n\nTento tip na kulturní akci v Staré Hamry najdete v přehledu na Dnesnivylet.cz spolu s dalšími koncerty\, festivaly a divadelními představeními.Každý si vybere co se mu líbí. Nezapomeňte koupit vstupenky včas\, stačí kliknout a budete přesměrování na oficiálního prodejce vstupenek.
URL:https://dnesnivylet.cz/event/silvestrovsky-koncert-v-kostele-sv-jindricha/
LOCATION:Kostel sv. Jindřicha\, Staré Hamry\, Kostel sv. Jindřicha\, Staré Hamry\, Česká republika
CATEGORIES:Koncert
ATTACH;FMTTYPE=image/jpeg:https://dnesnivylet.cz/wp-content/uploads/2025/12/320-340ee47a942448ac89cc0ad55ad7f2c1.jpg
END:VEVENT
BEGIN:VEVENT
DTSTART;TZID=Europe/Prague:20251231T180000
DTEND;TZID=Europe/Prague:20251231T210000
DTSTAMP:20260419T170343
CREATED:20251103T192906Z
LAST-MODIFIED:20251103T192906Z
UID:12008-1767204000-1767214800@dnesnivylet.cz
SUMMARY:Silvestr La Fiesta Grande
DESCRIPTION:Silvestr La Fiesta Grande se uskuteční dne 2025-12-31 v 18:00 v Olomouc\, Asado grill. \n🎟️ Koupit vstupenku \n\nSilvestr La Fiesta Grande – noc\, na kterou nezapomenete \nZapomeňte na obyčejné oslavy a vstupte do nového roku ve stylu Netflixových seriálů – dramatické\, luxusní a plné překvapení. Restaurace Asado Grill v centru Olomouce promění poslední noc roku v jedinečnou show\, kde se potkává nezkrotná energie\, prvotřídní gastronomie a dechberoucí vystoupení. \nCo vás čeká? \n\n\nBohatý raut s velkými šťavnatými kusy masa z grilu Mibrasa Parrilla\, čerstvými rybami\, mořskými plody\, saláty a přílohami. \n\n\nWelcome drink na přivítanou od našich barmanů. \n\n\nStrhující pole dance show od tanečnic z Vertigo pole fitness. \n\n\nAdrenalinová ohnivá barmanská show v podání Kuby Orla z Barmani Zlín. \n\n\nExkluzivní vinná degustace od Vino Markuzzi i rumový bar. \n\n\nHudební doprovod DJ Allana Galla\, který roztančí parket až do ranních hodin. \n\n\nTento Silvestr bude La Fiesta Grande – velká oslava\, kde se jídlo\, tanec a show spojují v nezapomenutelný zážitek. \nKapacita je omezená – zajistěte si své místo včas a vstupte do nového roku stylově. \n\nTento tip na kulturní akci v Olomouc najdete v přehledu na Dnesnivylet.cz spolu s dalšími koncerty\, festivaly a divadelními představeními.Každý si vybere co se mu líbí. Nezapomeňte koupit vstupenky včas\, stačí kliknout a budete přesměrování na oficiálního prodejce vstupenek.
URL:https://dnesnivylet.cz/event/silvestr-la-fiesta-grande/
LOCATION:Asado grill\, Olomouc\, Asado grill\, Olomouc\, Česká republika
CATEGORIES:Zábava
ATTACH;FMTTYPE=image/jpeg:https://dnesnivylet.cz/wp-content/uploads/2025/11/320-02e7b4e3a5ea4593b418629c17a28003.jpg
END:VEVENT
BEGIN:VEVENT
DTSTART;TZID=Europe/Prague:20251231T200000
DTEND;TZID=Europe/Prague:20251231T230000
DTSTAMP:20260419T170343
CREATED:20251212T185234Z
LAST-MODIFIED:20251212T185234Z
UID:14837-1767211200-1767222000@dnesnivylet.cz
SUMMARY:Silvestr
DESCRIPTION:Silvestr se uskuteční dne 2025-12-31 v 20:00 v Praha\, Heaven club. \n🎟️ Koupit vstupenku \n\nSilvestr v Heaven clubu. \nPředprodej: \nod 15.10.25 do 9.11.25 –  199\,- Kč \nod 10.11.25 do 5.15.25   –  299\,- Kč \nod 6.12.25 do 24.12.25  –  349\,-Kč \nod 25.12.25 do 30.12.25  –  399\,-Kč \nNa místě:  500\,- Kč \nDoors open – 19:00 \nKapacita klubu omezena!!!! \nV ceně vstupenky: \n\n    welcome drink prosecco\n    raut ( řízečky\, obložené mísy\, tapasy) k dospozici bez omezení až do půlnoci\n    půlnoční přípitek Bohemia sekt\n    a hodně zábavy..\n\n  \nZábavný program: \n\n    soutěže o drinky\n    DJ Tiffa Silvestr set   \n    gogo dancer Fiesto\n    drag show\n    Finiji DarkAngel (miss drag CZ/SK 2023)\n    Miss Cute (drag queen)\n    půlnoční přípitek\n    tombola\n    0:30  Novoroční párty až do rána\n    DJ Vilém New Yers Eve set\n\nO zábavu se budou starat: \n\n    Finiji DarkAngel\n    Miss Cute\n    DJ Tiffa\n    DJ Vilém\n    gogo dancer Fiesto\n    a samozřejmě celý skvělý Heaven tým\n    David\, Mirka\, Gabriel\, Jarda\n\nen \nNew Years Eve party in Heaven club \nPresale: \nod 15.10.25 do 9.11.25 –  199\,- Kč \nod 10.11.25 do 5.15.25   –  299\,- Kč \nod 6.12.25 do 24.12.25  –  349\,-Kč \nod 25.12.25 do 30.12.25  –  399\,-Kč \nOn door:  500\,- Kč \nDoors open from 19:00 \nClub capacity limited!!! \n  \nTicket price includes: \n\n    welcome drink prosecco\n    buffet (schnitzels\, platters\, tapas) available without restrictions until midnight\n    midnight toast Bohemia sparkling wine\n    and lots of fun..\n\nEntertainment program: \n\n    drinking games\n    DJ Tiffa Silvestre set\n    gogo dancer Fiesto\n    drag show\n    Finiji DarkAngel (miss drag CZ/SK 2023)\n    Miss Cute (drag queen)\n    midnight toast\n    raffle\n    0:30 New Year’s party until dawn\n    DJ Vilém New Yers Eve set\n\nEntertainment will be provided by: \n\nFiniji DarkAngel\nMiss Cute\nDJ Tiffa\nDJ Vilém\ngogo dancer Fiesto\nand of course all Heaven team\nDavid\, Mirka\, Gabriel\, Jarda\, Adam\n\n\nTento tip na kulturní akci v Praha najdete v přehledu na Dnesnivylet.cz spolu s dalšími koncerty\, festivaly a divadelními představeními.Každý si vybere co se mu líbí. Nezapomeňte koupit vstupenky včas\, stačí kliknout a budete přesměrování na oficiálního prodejce vstupenek.
URL:https://dnesnivylet.cz/event/silvestr-3/
LOCATION:Heaven club\, Praha\, Heaven club\, Praha\, Česká republika
CATEGORIES:Zábava
ATTACH;FMTTYPE=image/jpeg:https://dnesnivylet.cz/wp-content/uploads/2025/12/320-b1fa20abfec848af9d66b618f7d74315.jpg
END:VEVENT
END:VCALENDAR