BEGIN:VCALENDAR
VERSION:2.0
PRODID:-//www.dnesnivylet.cz                                                                                                                        Tip na výlet pro celou rodinu. - ECPv6.15.13.1//NONSGML v1.0//EN
CALSCALE:GREGORIAN
METHOD:PUBLISH
X-WR-CALNAME:www.dnesnivylet.cz                                                                                                                        Tip na výlet pro celou rodinu.
X-ORIGINAL-URL:https://dnesnivylet.cz
X-WR-CALDESC:Akce na www.dnesnivylet.cz                                                                                                                        Tip na výlet pro celou rodinu.
REFRESH-INTERVAL;VALUE=DURATION:PT1H
X-Robots-Tag:noindex
X-PUBLISHED-TTL:PT1H
BEGIN:VTIMEZONE
TZID:Europe/Prague
BEGIN:DAYLIGHT
TZOFFSETFROM:+0100
TZOFFSETTO:+0200
TZNAME:CEST
DTSTART:20250330T010000
END:DAYLIGHT
BEGIN:STANDARD
TZOFFSETFROM:+0200
TZOFFSETTO:+0100
TZNAME:CET
DTSTART:20251026T010000
END:STANDARD
BEGIN:DAYLIGHT
TZOFFSETFROM:+0100
TZOFFSETTO:+0200
TZNAME:CEST
DTSTART:20260329T010000
END:DAYLIGHT
BEGIN:STANDARD
TZOFFSETFROM:+0200
TZOFFSETTO:+0100
TZNAME:CET
DTSTART:20261025T010000
END:STANDARD
BEGIN:DAYLIGHT
TZOFFSETFROM:+0100
TZOFFSETTO:+0200
TZNAME:CEST
DTSTART:20270328T010000
END:DAYLIGHT
BEGIN:STANDARD
TZOFFSETFROM:+0200
TZOFFSETTO:+0100
TZNAME:CET
DTSTART:20271031T010000
END:STANDARD
END:VTIMEZONE
BEGIN:VEVENT
DTSTART;TZID=Europe/Prague:20260114T190000
DTEND;TZID=Europe/Prague:20260114T220000
DTSTAMP:20260419T170257
CREATED:20251020T071016Z
LAST-MODIFIED:20251020T071016Z
UID:8585-1768417200-1768428000@dnesnivylet.cz
SUMMARY:HANKA - je naprosto nezbytné
DESCRIPTION:HANKA – je naprosto nezbytné se uskuteční dne 2026-01-14 v 19:00 v Zbýšov\, Kino Horník. \n🎟️ Koupit vstupenku \n\nKoncert naplněný hity úžasné zpěvačky Hany Zagorové! \nUslyšíte Hančiny nezapomenutelné písně v aranžích\, v jakých je zpívala nejraději. Hity jako je Studánko stříbrná nebo Maluj zase obrázky uslyšíte za doprovodu kapely Boom!Band Jiřího Dvořáka\, která Hanku od roku 2010 doprovázela na všech koncertech.V podání zpěvačky Evy Kleinové zazní Hančiny nejoblíbenější skladby\, které si české publikum zamilovalo.Nenechte si ujít tento jedinečný hudební zážitek! \n\nTento tip na kulturní akci v Zbýšov najdete v přehledu na Dnesnivylet.cz spolu s dalšími koncerty\, festivaly a divadelními představeními.Každý si vybere co se mu líbí. Nezapomeňte koupit vstupenky včas\, stačí kliknout a budete přesměrování na oficiálního prodejce vstupenek.
URL:https://dnesnivylet.cz/event/hanka-je-naprosto-nezbytne/
LOCATION:Kino Horník\, Zbýšov\, Kino Horník\, Zbýšov\, Česká republika
CATEGORIES:Koncert
ATTACH;FMTTYPE=image/jpeg:https://dnesnivylet.cz/wp-content/uploads/2025/10/320-3755e53f86ee43249418712b27e38511.jpg
END:VEVENT
BEGIN:VEVENT
DTSTART;TZID=Europe/Prague:20260114T190000
DTEND;TZID=Europe/Prague:20260114T220000
DTSTAMP:20260419T170257
CREATED:20251030T150030Z
LAST-MODIFIED:20251030T150031Z
UID:10690-1768417200-1768428000@dnesnivylet.cz
SUMMARY:Ludovico Einaudi Music | Svitavy
DESCRIPTION:Ludovico Einaudi Music | Svitavy se uskuteční dne 2026-01-14 v 19:00 v Svitavy\, Fabrika. \n🎟️ Koupit vstupenku \n\nNenechte si ujít nezapomenutelný večer krásné hudby\, kde zazní melodie jednoho z nejlepších pianistů a skladatelů na světe\, Ludovica Einaudiho v podání předního české klavírstky Lucii Kubátové. \nEinaudi je známý svými jednoduchými\, ale strašidelně krásnými minimalistickými díly pro klavír a ohromující filmovou hudbou. Za téměř třicet let své činnosti vydal řadu alb\, která se dostala na přední příčky poslechovosti\, vyprodává nejprestižnější koncertní sály po celém světě a jeho hudba zazněla v mnoha slavných filmech (Nedotknutelní\, Doktor Živago\, To je Anglie\, Nomadland a další). \nTento jedinečný koncert nabídne více než jen hudbu. Symfonie třpytivých svíček rozsvítí celý prostor a přidá na mystičnu a kouzlu večera. Každá svíčka přispěje k vytvoření kouzelného prostředí\, které dokonale doplní hudební zážitek. \nV rámci Evropské tour alternují také: František Panáček a Alexandr Starý.  \nAkce je přístupná od 12 let. Každý účastník musí předložit platnou vstupenku  zakoupenou výhradně v síti SMS ticket. \n\nTento tip na kulturní akci v Svitavy najdete v přehledu na Dnesnivylet.cz spolu s dalšími koncerty\, festivaly a divadelními představeními.Každý si vybere co se mu líbí. Nezapomeňte koupit vstupenky včas\, stačí kliknout a budete přesměrování na oficiálního prodejce vstupenek.
URL:https://dnesnivylet.cz/event/ludovico-einaudi-music-svitavy/
LOCATION:Fabrika\, Svitavy\, Fabrika\, Svitavy\, Česká republika
CATEGORIES:Koncert
ATTACH;FMTTYPE=image/jpeg:https://dnesnivylet.cz/wp-content/uploads/2025/10/320-a0c1cbf3ac5345088dd06c7f8d986c98.jpg
END:VEVENT
BEGIN:VEVENT
DTSTART;TZID=Europe/Prague:20260114T190000
DTEND;TZID=Europe/Prague:20260114T220000
DTSTAMP:20260419T170257
CREATED:20251104T185057Z
LAST-MODIFIED:20251104T185057Z
UID:12382-1768417200-1768428000@dnesnivylet.cz
SUMMARY:Hudba Bridgerton při svíčkách
DESCRIPTION:Hudba Bridgerton při svíčkách se uskuteční dne 2026-01-14 v 19:00 v Jaroměř\, Městské divadlo. \n🎟️ Koupit vstupenku \n\nNenechte si ujít večer plný romantiky a elegance\, kde zazní ty nejznámější melodie a písně z oblíbeného seriálu Bridgerton. Světlo stovky svíček vytvoří okouzlující atmosféru koncertu. \nProgram v jedinečném provedení smyčcového kvarteta představí výběr hudebních skladeb z tohoto populárního seriálu\, inspirovaných klasickými díly i moderními popovými melodiemi\, které si získaly srdce diváků po celém světě. \nTento koncert nabídne víc než jen hudbu; stovky svíček rozzáří prostor a vytvoří atmosféru plnou noblesy\, romantiky a neodolatelného kouzla historické doby. \nAkce je přístupná od 12 let. Každý účastník musí předložit platnou vstupenku  zakoupenou výhradně v síti smsticket. \n\nTento tip na kulturní akci v Jaroměř najdete v přehledu na Dnesnivylet.cz spolu s dalšími koncerty\, festivaly a divadelními představeními.Každý si vybere co se mu líbí. Nezapomeňte koupit vstupenky včas\, stačí kliknout a budete přesměrování na oficiálního prodejce vstupenek.
URL:https://dnesnivylet.cz/event/hudba-bridgerton-pri-svickach-8/
LOCATION:Městské divadlo\, Jaroměř\, Městské divadlo\, Jaroměř\, Česká republika
CATEGORIES:Koncert
ATTACH;FMTTYPE=image/jpeg:https://dnesnivylet.cz/wp-content/uploads/2025/11/320-f74d48da513b4f08821141ed50ba75fa.jpg
END:VEVENT
BEGIN:VEVENT
DTSTART;TZID=Europe/Prague:20260114T200000
DTEND;TZID=Europe/Prague:20260114T230000
DTSTAMP:20260419T170257
CREATED:20260106T121318Z
LAST-MODIFIED:20260106T121319Z
UID:16496-1768420800-1768431600@dnesnivylet.cz
SUMMARY:Pocta Haně Hegerové
DESCRIPTION:Pocta Haně Hegerové se uskuteční dne 2026-01-14 v 20:00 v Kladno\, Dundee Jam. \n🎟️ Koupit vstupenku \n\nHudební zážitek\, na který jen tak nezapomenete. Budete plakat\, smát se\, a mít husí kůži po těle. \nLegendární dílo Hany Hegerové v podání Zuzany Němcové Šmejkalové. Zpěvačka s hlubokým\, sametovým hlasem a intenzivním hereckým projevem přináší osobitou interpretaci ikonických písní první dámy československého šansonu. \nVečer plný mistrovské klavírní hry Doubravky Linhartové a rafinovaných bubenických rytmů Jakuba Němce slibuje výjimečný umělecký zážitek\, který s úctou nahlédne do díla Hany Hegerové a zasáhne i ty nejcitlivější struny vaší duše. \nPřijďte vzdát hold legendě a prožít znovu její písně. \n„Ať žije Hegerová!“ \nDélka představení je 120 minut včetně přestávky.  \nPředprodej vstupenek: Music club Dundee Jam Kladno\, nám. Svobody 1626 a on-line smsticket.cz. \n\nTento tip na kulturní akci v Kladno najdete v přehledu na Dnesnivylet.cz spolu s dalšími koncerty\, festivaly a divadelními představeními.Každý si vybere co se mu líbí. Nezapomeňte koupit vstupenky včas\, stačí kliknout a budete přesměrování na oficiálního prodejce vstupenek.
URL:https://dnesnivylet.cz/event/pocta-hane-hegerove/
LOCATION:Dundee Jam\, Kladno\, Dundee Jam\, Kladno\, Česká republika
CATEGORIES:Koncert
ATTACH;FMTTYPE=image/jpeg:https://dnesnivylet.cz/wp-content/uploads/2026/01/320-5717f2bdb795430193638e98e84f20ba.jpg
END:VEVENT
END:VCALENDAR