BEGIN:VCALENDAR
VERSION:2.0
PRODID:-//www.dnesnivylet.cz                                                                                                                        Tip na výlet pro celou rodinu. - ECPv6.15.13.1//NONSGML v1.0//EN
CALSCALE:GREGORIAN
METHOD:PUBLISH
X-WR-CALNAME:www.dnesnivylet.cz                                                                                                                        Tip na výlet pro celou rodinu.
X-ORIGINAL-URL:https://dnesnivylet.cz
X-WR-CALDESC:Akce na www.dnesnivylet.cz                                                                                                                        Tip na výlet pro celou rodinu.
REFRESH-INTERVAL;VALUE=DURATION:PT1H
X-Robots-Tag:noindex
X-PUBLISHED-TTL:PT1H
BEGIN:VTIMEZONE
TZID:Europe/Prague
BEGIN:DAYLIGHT
TZOFFSETFROM:+0100
TZOFFSETTO:+0200
TZNAME:CEST
DTSTART:20250330T010000
END:DAYLIGHT
BEGIN:STANDARD
TZOFFSETFROM:+0200
TZOFFSETTO:+0100
TZNAME:CET
DTSTART:20251026T010000
END:STANDARD
BEGIN:DAYLIGHT
TZOFFSETFROM:+0100
TZOFFSETTO:+0200
TZNAME:CEST
DTSTART:20260329T010000
END:DAYLIGHT
BEGIN:STANDARD
TZOFFSETFROM:+0200
TZOFFSETTO:+0100
TZNAME:CET
DTSTART:20261025T010000
END:STANDARD
BEGIN:DAYLIGHT
TZOFFSETFROM:+0100
TZOFFSETTO:+0200
TZNAME:CEST
DTSTART:20270328T010000
END:DAYLIGHT
BEGIN:STANDARD
TZOFFSETFROM:+0200
TZOFFSETTO:+0100
TZNAME:CET
DTSTART:20271031T010000
END:STANDARD
END:VTIMEZONE
BEGIN:VEVENT
DTSTART;TZID=Europe/Prague:20260120T190000
DTEND;TZID=Europe/Prague:20260120T220000
DTSTAMP:20260419T170241
CREATED:20251020T064119Z
LAST-MODIFIED:20251020T064120Z
UID:7928-1768935600-1768946400@dnesnivylet.cz
SUMMARY:Koncert filmové hudby Hanse Zimmera
DESCRIPTION:Koncert filmové hudby Hanse Zimmera se uskuteční dne 2026-01-20 v 19:00 v Kolín\, MSD. \n🎟️ Koupit vstupenku \n\nPřipravte se na jedinečný večer\, který vás zavede do světa nejikoničtější filmové hudby. Městský společenský dům Kolín přivítá symfonický orchestr Grande Orchestra\, který představí mistrovská díla slavného skladatele Hansa Zimmera v rámci exkluzivního koncertu. \nTento koncert je povinností pro všechny milovníky filmové hudby! Přijďte si užít nezapomenutelný večer plný emocí a hudebních skvostů\, které definovaly moderní kinematografii. \nHans Zimmer je německý hudební skladatel\, který se proslavil díky své práci na filmových soundtrackech. Je známý svou schopností přinést intenzitu a emocionální hloubku do filmového vyprávění prostřednictvím hudby. Mezi jeho nejúspěšnější filmy patří Počátek\, Interstellar\, Duna či Gladiátor\, které získaly srdce publika po celém světě. Zimmerova tvorba mu vynesla řadu ocenění\, včetně dvou oscarů\, tří zlatých glóbů\, čtyř Grammy – celkem 37 ocenění. \nNenechte si ujít tuto jedinečnou příležitost prožít hudbu Hansa Zimmera naživo v podání skvělého orchestru GRANDE ORCHESTRA! Vstupenky jsou již v prodeji. Zajistěte si svá místa a připravte se na hudební zážitek\, který nikdy nezapomenete. \nAkce je přístupná od 12 let. Každý účastník musí předložit platnou vstupenku  zakoupenou výhradně v síti SMS ticket. \n\nTento tip na kulturní akci v Kolín najdete v přehledu na Dnesnivylet.cz spolu s dalšími koncerty\, festivaly a divadelními představeními.Každý si vybere co se mu líbí. Nezapomeňte koupit vstupenky včas\, stačí kliknout a budete přesměrování na oficiálního prodejce vstupenek.
URL:https://dnesnivylet.cz/event/koncert-filmove-hudby-hanse-zimmera/
LOCATION:MSD\, Kolín\, MSD\, Kolín\, Česká republika
CATEGORIES:Koncert
ATTACH;FMTTYPE=image/jpeg:https://dnesnivylet.cz/wp-content/uploads/2025/10/320-02ac4513f49b449f98eeed422c8d166f-1.jpg
END:VEVENT
BEGIN:VEVENT
DTSTART;TZID=Europe/Prague:20260120T190000
DTEND;TZID=Europe/Prague:20260120T220000
DTSTAMP:20260419T170241
CREATED:20251105T191857Z
LAST-MODIFIED:20251105T191858Z
UID:12570-1768935600-1768946400@dnesnivylet.cz
SUMMARY:Hudba Bridgerton při svíčkách
DESCRIPTION:Hudba Bridgerton při svíčkách se uskuteční dne 2026-01-20 v 19:00 v Chomutov\, Městské divadlo. \n🎟️ Koupit vstupenku \n\nNenechte si ujít večer plný romantiky a elegance\, kde zazní ty nejznámější melodie a písně z oblíbeného seriálu Bridgerton. Světlo stovky svíček vytvoří okouzlující atmosféru koncertu. \nProgram v jedinečném provedení smyčcového kvarteta představí výběr hudebních skladeb z tohoto populárního seriálu\, inspirovaných klasickými díly i moderními popovými melodiemi\, které si získaly srdce diváků po celém světě. \nTento koncert nabídne víc než jen hudbu; stovky svíček rozzáří prostor a vytvoří atmosféru plnou noblesy\, romantiky a neodolatelného kouzla historické doby. \nAkce je přístupná od 12 let. Každý účastník musí předložit platnou vstupenku  zakoupenou výhradně v síti SMS ticket. \n\nTento tip na kulturní akci v Chomutov najdete v přehledu na Dnesnivylet.cz spolu s dalšími koncerty\, festivaly a divadelními představeními.Každý si vybere co se mu líbí. Nezapomeňte koupit vstupenky včas\, stačí kliknout a budete přesměrování na oficiálního prodejce vstupenek.
URL:https://dnesnivylet.cz/event/hudba-bridgerton-pri-svickach-9/
LOCATION:Městské divadlo\, Chomutov\, Městské divadlo\, Chomutov\, Česká republika
CATEGORIES:Koncert
ATTACH;FMTTYPE=image/jpeg:https://dnesnivylet.cz/wp-content/uploads/2025/11/320-1c8a2733fcd94aefa96ec3a736e16f8d.jpg
END:VEVENT
BEGIN:VEVENT
DTSTART;TZID=Europe/Prague:20260120T190000
DTEND;TZID=Europe/Prague:20260120T220000
DTSTAMP:20260419T170241
CREATED:20251107T093000Z
LAST-MODIFIED:20251107T093000Z
UID:12825-1768935600-1768946400@dnesnivylet.cz
SUMMARY:Filmová hudba Hanse Zimmera při svíčkách
DESCRIPTION:Filmová hudba Hanse Zimmera při svíčkách se uskuteční dne 2026-01-20 v 19:00 v Brno\, Sál Milosrdných bratří. \n🎟️ Koupit vstupenku \n\nKoncert filmové hudby Hanse Zimmera při svíčkách! \nNenechte si ujít nezapomenutelný večer plný nejkrásnější filmové hudby\, během kterého zazní melodie jednoho z nejvýznamnějších skladatelů filmové hudby na světě\, Hanse Zimmera\, v podání mezinárodně uznávaného pianisty Alexandra Starého. Záře stovek svíček vytvoří nezapomenutelnou atmosféru koncertu. \nHans Zimmer je známý svou emocionální a dojemnou filmovou hudbou\, která dokonale podtrhuje děj na plátně. Během své téměř čtyřicetileté kariéry vytvořil ikonické soundtracky k mnoha slavným filmům\, jako jsou Gladiátor\, Počátek\, Interstellar\, Piráti z Karibiku\, Lví král a mnoho dalších. Jeho kompozice si získaly srdce milionů fanoušků po celém světě a jeho koncerty vyprodávají nejprestižnější koncertní sály. \nTento výjimečný koncert nabízí mnohem více než jen hudbu. Stovky mihotajících se svíček rozzáří celý prostor a vytvoří tajemnou a magickou atmosféru. Každá z nich přispěje k vytvoření nezapomenutelného hudebního zážitku. \nV rámci Evropské tour alternují také: František Panáček a Lucie Kubátová.  \nAkce je přístupná od 12 let. Každý účastník musí předložit platnou vstupenku  zakoupenou výhradně v síti smsticket. \n\nTento tip na kulturní akci v Brno najdete v přehledu na Dnesnivylet.cz spolu s dalšími koncerty\, festivaly a divadelními představeními.Každý si vybere co se mu líbí. Nezapomeňte koupit vstupenky včas\, stačí kliknout a budete přesměrování na oficiálního prodejce vstupenek.
URL:https://dnesnivylet.cz/event/filmova-hudba-hanse-zimmera-pri-svickach-6/
LOCATION:Sál Milosrdných bratří\, Brno\, Sál Milosrdných bratří\, Brno\, Česká republika
CATEGORIES:Koncert
ATTACH;FMTTYPE=image/jpeg:https://dnesnivylet.cz/wp-content/uploads/2025/11/320-50e39a5e78a7455a9c014ebe77971524.jpg
END:VEVENT
BEGIN:VEVENT
DTSTART;TZID=Europe/Prague:20260120T190000
DTEND;TZID=Europe/Prague:20260120T220000
DTSTAMP:20260419T170241
CREATED:20251114T145943Z
LAST-MODIFIED:20251114T145943Z
UID:13454-1768935600-1768946400@dnesnivylet.cz
SUMMARY:Hudba Bridgerton při svíčkách
DESCRIPTION:Hudba Bridgerton při svíčkách se uskuteční dne 2026-01-20 v 19:00 v Bohumín\, K3 Bohumín – Kino. \n🎟️ Koupit vstupenku \n\nNenechte si ujít večer plný romantiky a elegance\, kde zazní ty nejznámější melodie a písně z oblíbeného seriálu Bridgerton. Světlo stovky svíček vytvoří okouzlující atmosféru koncertu. \nProgram v jedinečném provedení smyčcového kvarteta představí výběr hudebních skladeb z tohoto populárního seriálu\, inspirovaných klasickými díly i moderními popovými melodiemi\, které si získaly srdce diváků po celém světě. \nTento koncert nabídne víc než jen hudbu; stovky svíček rozzáří prostor a vytvoří atmosféru plnou noblesy\, romantiky a neodolatelného kouzla historické doby. \nAkce je přístupná od 12 let. Každý účastník musí předložit platnou vstupenku  zakoupenou výhradně v síti smsticket. \n\nTento tip na kulturní akci v Bohumín najdete v přehledu na Dnesnivylet.cz spolu s dalšími koncerty\, festivaly a divadelními představeními.Každý si vybere co se mu líbí. Nezapomeňte koupit vstupenky včas\, stačí kliknout a budete přesměrování na oficiálního prodejce vstupenek.
URL:https://dnesnivylet.cz/event/hudba-bridgerton-pri-svickach-13/
LOCATION:K3 Bohumín – Kino\, Bohumín\, K3 Bohumín - Kino\, Bohumín\, Česká republika
CATEGORIES:Koncert
ATTACH;FMTTYPE=image/jpeg:https://dnesnivylet.cz/wp-content/uploads/2025/11/320-e6647da1e48c4358ba93d284be72be9c.jpg
END:VEVENT
END:VCALENDAR