BEGIN:VCALENDAR
VERSION:2.0
PRODID:-//www.dnesnivylet.cz                                                                                                                        Tip na výlet pro celou rodinu. - ECPv6.15.13.1//NONSGML v1.0//EN
CALSCALE:GREGORIAN
METHOD:PUBLISH
X-ORIGINAL-URL:https://dnesnivylet.cz
X-WR-CALDESC:Akce na www.dnesnivylet.cz                                                                                                                        Tip na výlet pro celou rodinu.
REFRESH-INTERVAL;VALUE=DURATION:PT1H
X-Robots-Tag:noindex
X-PUBLISHED-TTL:PT1H
BEGIN:VTIMEZONE
TZID:Europe/Prague
BEGIN:DAYLIGHT
TZOFFSETFROM:+0100
TZOFFSETTO:+0200
TZNAME:CEST
DTSTART:20250330T010000
END:DAYLIGHT
BEGIN:STANDARD
TZOFFSETFROM:+0200
TZOFFSETTO:+0100
TZNAME:CET
DTSTART:20251026T010000
END:STANDARD
BEGIN:DAYLIGHT
TZOFFSETFROM:+0100
TZOFFSETTO:+0200
TZNAME:CEST
DTSTART:20260329T010000
END:DAYLIGHT
BEGIN:STANDARD
TZOFFSETFROM:+0200
TZOFFSETTO:+0100
TZNAME:CET
DTSTART:20261025T010000
END:STANDARD
BEGIN:DAYLIGHT
TZOFFSETFROM:+0100
TZOFFSETTO:+0200
TZNAME:CEST
DTSTART:20270328T010000
END:DAYLIGHT
BEGIN:STANDARD
TZOFFSETFROM:+0200
TZOFFSETTO:+0100
TZNAME:CET
DTSTART:20271031T010000
END:STANDARD
END:VTIMEZONE
BEGIN:VEVENT
DTSTART;TZID=Europe/Prague:20260122T193000
DTEND;TZID=Europe/Prague:20260122T223000
DTSTAMP:20260419T170418
CREATED:20251020T064611Z
LAST-MODIFIED:20251020T064611Z
UID:8054-1769110200-1769121000@dnesnivylet.cz
SUMMARY:Bratři Ebenové v Boskovicích
DESCRIPTION:Bratři Ebenové v Boskovicích se uskuteční dne 2026-01-22 v 19:30 v Boskovice\, Sokolovna. \n🎟️ Koupit vstupenku \n\nvstup do foyer od 18:30 / šatna a bary k dispozici \n19:30 začátek koncertu \n21:30 konec akce \n  \nKAPELA: Bratři Ebenové \n1. 9. 2023 vydala kapela již 6. řadové album s názvem „Co my víme“. Album obsahuje 13 nových skladeb (LP pak o jednu méně). Autorem všech (hudby i textu) je Marek Eben. Výjimku tvoří instrumentální skladba Clafoutis\, jejímž autorem je nejmladší z bratrů David. Album bylo natočeno ve studiu Birdland studios (Povážská Bystrica) kmenovým zvukařem kapely Tomášem Jaklem a za dozoru producenta a kytaristy kapely Pavla Skály. Kromě Marka\, Kryštofa a Davida Ebenových kapelu tvoří Pavel Skála (kytary)\, Jiří Zelenka (bicí a perkuse) a Jaromír Honzák (kontrabas a basová kytara). Na albu se objeví také několik hostů – Pavel Fischer na housle nebo dětský pěvecký sbor Radost Praha se sbormistrem Janem Pirnerem. Mixu alba se ujal legendární britský zvukař Phill Brown. Ten je v hudební branži velmi známou osobností – z výčtu ikon hudebního průmyslu\, pro které pracoval jmenujme Led Zeppelin\, David Bowie\, Cat Stevens\, Bob Marley\, Jimi Hendrix\, Pink Floyd nebo Dido a celá řada dalších. Mastering byl svěřen neméně slavnému britskému inženýrovi Denisovi Blackhamovi. Grafiky se ujal dlouholetý spolupracovník kapely\, Karel Haloun s Luďkem Kubíkem. Fotografie k albu pořídil Dušan Tománek. \n\nTento tip na kulturní akci v Boskovice najdete v přehledu na Dnesnivylet.cz spolu s dalšími koncerty\, festivaly a divadelními představeními.Každý si vybere co se mu líbí. Nezapomeňte koupit vstupenky včas\, stačí kliknout a budete přesměrování na oficiálního prodejce vstupenek.
URL:https://dnesnivylet.cz/event/bratri-ebenove-v-boskovicich/
LOCATION:Sokolovna\, Boskovice\, Sokolovna\, Boskovice\, Česká republika
CATEGORIES:Koncert
ATTACH;FMTTYPE=image/jpeg:https://dnesnivylet.cz/wp-content/uploads/2025/10/320-f618b422e31b42bebe28107c03e9e30e-1.jpg
END:VEVENT
BEGIN:VEVENT
DTSTART;TZID=Europe/Prague:20260122T200000
DTEND;TZID=Europe/Prague:20260122T230000
DTSTAMP:20260419T170418
CREATED:20251105T193601Z
LAST-MODIFIED:20251105T193601Z
UID:12760-1769112000-1769122800@dnesnivylet.cz
SUMMARY:Hudba Coldplay při svíčkách
DESCRIPTION:Hudba Coldplay při svíčkách se uskuteční dne 2026-01-22 v 20:00 v Plzeň\, Měšťanská beseda. \n🎟️ Koupit vstupenku \n\nNenechte si ujít večer plný energie a emocí\, kde zazní ty největší hity britské kapely Coldplay. Světlo stovky svíček vytvoří nezapomenutelnou atmosféru tohoto jedinečného koncertu. \nProgram v podání smyčcového kvarteta nabídne výběr těch nejznámějších skladeb Coldplay\, včetně hitů jako „Fix You“\, „Yellow“ či „Viva La Vida“\, které si získaly srdce fanoušků po celém světě. \nTento koncert přinese víc než jen hudbu; stovky svíček rozzáří prostor a vytvoří atmosféru plnou emocí\, melancholie a nezapomenutelných melodií\, které vás vezmou na hudební cestu s Coldplay. \nAkce je přístupná od 12 let. Každý účastník musí předložit platnou vstupenku  zakoupenou výhradně v síti SMS ticket. \n\nTento tip na kulturní akci v Plzeň najdete v přehledu na Dnesnivylet.cz spolu s dalšími koncerty\, festivaly a divadelními představeními.Každý si vybere co se mu líbí. Nezapomeňte koupit vstupenky včas\, stačí kliknout a budete přesměrování na oficiálního prodejce vstupenek.
URL:https://dnesnivylet.cz/event/hudba-coldplay-pri-svickach-11/
LOCATION:Měšťanská beseda\, Plzeň\, Měšťanská beseda\, Plzeň\, Česká republika
CATEGORIES:Koncert
ATTACH;FMTTYPE=image/jpeg:https://dnesnivylet.cz/wp-content/uploads/2025/11/320-ab69067e76424d3a9259f56ab341ae61.jpg
END:VEVENT
END:VCALENDAR