BEGIN:VCALENDAR
VERSION:2.0
PRODID:-//www.dnesnivylet.cz                                                                                                                        Tip na výlet pro celou rodinu. - ECPv6.15.13.1//NONSGML v1.0//EN
CALSCALE:GREGORIAN
METHOD:PUBLISH
X-ORIGINAL-URL:https://dnesnivylet.cz
X-WR-CALDESC:Akce na www.dnesnivylet.cz                                                                                                                        Tip na výlet pro celou rodinu.
REFRESH-INTERVAL;VALUE=DURATION:PT1H
X-Robots-Tag:noindex
X-PUBLISHED-TTL:PT1H
BEGIN:VTIMEZONE
TZID:Europe/Prague
BEGIN:DAYLIGHT
TZOFFSETFROM:+0100
TZOFFSETTO:+0200
TZNAME:CEST
DTSTART:20250330T010000
END:DAYLIGHT
BEGIN:STANDARD
TZOFFSETFROM:+0200
TZOFFSETTO:+0100
TZNAME:CET
DTSTART:20251026T010000
END:STANDARD
BEGIN:DAYLIGHT
TZOFFSETFROM:+0100
TZOFFSETTO:+0200
TZNAME:CEST
DTSTART:20260329T010000
END:DAYLIGHT
BEGIN:STANDARD
TZOFFSETFROM:+0200
TZOFFSETTO:+0100
TZNAME:CET
DTSTART:20261025T010000
END:STANDARD
BEGIN:DAYLIGHT
TZOFFSETFROM:+0100
TZOFFSETTO:+0200
TZNAME:CEST
DTSTART:20270328T010000
END:DAYLIGHT
BEGIN:STANDARD
TZOFFSETFROM:+0200
TZOFFSETTO:+0100
TZNAME:CET
DTSTART:20271031T010000
END:STANDARD
END:VTIMEZONE
BEGIN:VEVENT
DTSTART;TZID=Europe/Prague:20260129T200000
DTEND;TZID=Europe/Prague:20260129T230000
DTSTAMP:20260419T153917
CREATED:20260124T191814Z
LAST-MODIFIED:20260124T191815Z
UID:17117-1769716800-1769727600@dnesnivylet.cz
SUMMARY:Kayapa (křest debutu)\, Tříkolka génia
DESCRIPTION:Kayapa (křest debutu)\, Tříkolka génia se uskuteční dne 2026-01-29 v 20:00 v Praha\, Kaštan – Scéna Unijazzu . \n🎟️ Koupit vstupenku \n\nPražská KAYAPA textaře a básníka Pavla Sobka\, jeho dcery Karolíny Sobkové a spřátelených muzikantů\, pokřtí debutové album Když se zeptáš. Žánrová otevřenost alba odráží radost z hudby a ze spolupráce. Za bicími se objevil Jan Chalupa\, na basu Jaromír Honzák\, na perkuse Vít Halška\, na klávesy Robin Galia a Filip Baader. Na saxofon Ondřej Pechar\, na violoncello Vojtěch Nejedlý. Vokály obohatila Nela Stránská. Sám Sobek pak na albu nahrál všechny kytary. \nÚvodní singl alba s názvem 4 ráno doprovází videoklip s herečkou Lucií Černou:„Ze skladeb na albu vyčnívá mimo jiné Loukou a Padá\, v nichž hlavní vokál patří Karolíně. V písni Většinu času pak otec a dcera vedou jakýsi dialog o životě – s přirozeností\, která překvapí i dojme.“ Zdeněk Neusar\, Frontman.cz Album se nahrávalo v pražském studiu TdB\, mastering proběhl v Little M Records Studiu\, grafiku připravil Daniel Kurz. \nna úvod večera vystoupí Tříkolka génia\, trio se záhadným názvem\, které vzniklo spojením tří muzikantů a kamarádů: Jany Věnečkové (housle\, syntezátory\, zpěv)\, Václava Pumra (kytara\, zpěv) a Jana Špalku (kytara\, zpěv).  Hraje převážně autorské písně z díly všech tří členů. \n\nTento tip na kulturní akci v Praha najdete v přehledu na Dnesnivylet.cz spolu s dalšími koncerty\, festivaly a divadelními představeními.Každý si vybere co se mu líbí. Nezapomeňte koupit vstupenky včas\, stačí kliknout a budete přesměrování na oficiálního prodejce vstupenek.
URL:https://dnesnivylet.cz/event/kayapa-krest-debutu-trikolka-genia/
LOCATION:Kaštan – Scéna Unijazzu \, Praha\, Kaštan - Scéna Unijazzu \, Praha\, Česká republika
CATEGORIES:Koncert
ATTACH;FMTTYPE=image/jpeg:https://dnesnivylet.cz/wp-content/uploads/2026/01/320-ad70f2d1858b4caebf1770cb37e512fc.jpg
END:VEVENT
END:VCALENDAR