BEGIN:VCALENDAR
VERSION:2.0
PRODID:-//www.dnesnivylet.cz                                                                                                                        Tip na výlet pro celou rodinu. - ECPv6.15.13.1//NONSGML v1.0//EN
CALSCALE:GREGORIAN
METHOD:PUBLISH
X-ORIGINAL-URL:https://dnesnivylet.cz
X-WR-CALDESC:Akce na www.dnesnivylet.cz                                                                                                                        Tip na výlet pro celou rodinu.
REFRESH-INTERVAL;VALUE=DURATION:PT1H
X-Robots-Tag:noindex
X-PUBLISHED-TTL:PT1H
BEGIN:VTIMEZONE
TZID:Europe/Prague
BEGIN:DAYLIGHT
TZOFFSETFROM:+0100
TZOFFSETTO:+0200
TZNAME:CEST
DTSTART:20250330T010000
END:DAYLIGHT
BEGIN:STANDARD
TZOFFSETFROM:+0200
TZOFFSETTO:+0100
TZNAME:CET
DTSTART:20251026T010000
END:STANDARD
BEGIN:DAYLIGHT
TZOFFSETFROM:+0100
TZOFFSETTO:+0200
TZNAME:CEST
DTSTART:20260329T010000
END:DAYLIGHT
BEGIN:STANDARD
TZOFFSETFROM:+0200
TZOFFSETTO:+0100
TZNAME:CET
DTSTART:20261025T010000
END:STANDARD
BEGIN:DAYLIGHT
TZOFFSETFROM:+0100
TZOFFSETTO:+0200
TZNAME:CEST
DTSTART:20270328T010000
END:DAYLIGHT
BEGIN:STANDARD
TZOFFSETFROM:+0200
TZOFFSETTO:+0100
TZNAME:CET
DTSTART:20271031T010000
END:STANDARD
END:VTIMEZONE
BEGIN:VEVENT
DTSTART;TZID=Europe/Prague:20260212T190000
DTEND;TZID=Europe/Prague:20260212T220000
DTSTAMP:20260419T153954
CREATED:20251030T145327Z
LAST-MODIFIED:20251030T145327Z
UID:10594-1770922800-1770933600@dnesnivylet.cz
SUMMARY:Václav Noid Bárta a Bek Bek Clan
DESCRIPTION:Václav Noid Bárta a Bek Bek Clan se uskuteční dne 2026-02-12 v 19:00 v Zábřeh\, Kulturní dům. \n🎟️ Koupit vstupenku \n\nVáclav NOID Bárta v Zábřehu! \nOd prvních kroků s kapelami Dolores Clan\, Noid Crew a Dymytry\, přes divadelní svět muzikálů až po jeho současnou sólovou tvorbu. Přijďte si projít dvacetiletou hudební cestu Václava NOIDA Bárty – charizmatického zpěváka\, autora filmové hudby a jedinečného hlasu české hudební scény. \nNa co se můžete těšit?Během večera zazní jak jeho autorské skladby\, tak i oblíbené převzaté songy\, které skvěle doplní energii a atmosféru celého koncertu. Tento výjimečný večer přinese nálož skvělé muziky\, pohody a neuvěřitelné energie\, která vás strhne! \nZažijte hudební show\, na kterou se nezapomíná! \n\nTento tip na kulturní akci v Zábřeh najdete v přehledu na Dnesnivylet.cz spolu s dalšími koncerty\, festivaly a divadelními představeními.Každý si vybere co se mu líbí. Nezapomeňte koupit vstupenky včas\, stačí kliknout a budete přesměrování na oficiálního prodejce vstupenek.
URL:https://dnesnivylet.cz/event/vaclav-noid-barta-a-bek-bek-clan-15/
LOCATION:Kulturní dům\, Zábřeh\, Kulturní dům\, Zábřeh\, Česká republika
CATEGORIES:Koncert
ATTACH;FMTTYPE=image/jpeg:https://dnesnivylet.cz/wp-content/uploads/2025/10/320-6b6a1fa36d9d41ea8f90a2cb2f00a59b.jpg
END:VEVENT
BEGIN:VEVENT
DTSTART;TZID=Europe/Prague:20260212T190000
DTEND;TZID=Europe/Prague:20260212T220000
DTSTAMP:20260419T153954
CREATED:20251209T180125Z
LAST-MODIFIED:20251209T180125Z
UID:14562-1770922800-1770933600@dnesnivylet.cz
SUMMARY:Pocta Karlu Gottovi
DESCRIPTION:Pocta Karlu Gottovi se uskuteční dne 2026-02-12 v 19:00 v Drnovice\, KD Drnovice u Vyškova. \n🎟️ Koupit vstupenku \n\nKoncert Pocta Karlu Gottovi  \nZveme vás na výjimečný večer plný emocí\, vzpomínek a nezapomenutelných melodií\, který se uskuteční za svitu stovek svíček.  \nPísně legendárního Karla Gotta zazní v podání charismatického zpěváka Miloslava Hartmana\, jehož hlas a projev nesou pokoru i hluboký obdiv k odkazu našeho „zlatého slavíka“. Na klavír jej doprovodí Radim Linhart\, uznávaný pianista a skladatel\, který dodá celému večeru jemnost a eleganci. \nKoncert bude proložen povídáním Františka Jiráska\, dlouholetého přítele a dvorního fotografa Karla Gotta. Jeho vyprávění a osobní vzpomínky vás zavedou do zákulisí života i umělecké dráhy muže\, který ovlivnil generace posluchačů. \nAtmosféru koncertu umocní světlo svíček\, které vytvoří kouzelnou\, až komorní náladu plnou klidu a emocí. \nPřijďte si s námi připomenout písně\, které se staly symbolem české hudby\, i příběhy\, které zůstávají v srdcích všech\, kdo Karla Gotta milovali. \n\nTento tip na kulturní akci v Drnovice najdete v přehledu na Dnesnivylet.cz spolu s dalšími koncerty\, festivaly a divadelními představeními.Každý si vybere co se mu líbí. Nezapomeňte koupit vstupenky včas\, stačí kliknout a budete přesměrování na oficiálního prodejce vstupenek.
URL:https://dnesnivylet.cz/event/pocta-karlu-gottovi/
LOCATION:KD Drnovice u Vyškova\, Drnovice\, KD Drnovice u Vyškova\, Drnovice\, Česká republika
CATEGORIES:Koncert
ATTACH;FMTTYPE=image/jpeg:https://dnesnivylet.cz/wp-content/uploads/2025/12/320-e4f151b578b6484694187655d463f5f7.jpg
END:VEVENT
BEGIN:VEVENT
DTSTART;TZID=Europe/Prague:20260212T190000
DTEND;TZID=Europe/Prague:20260212T220000
DTSTAMP:20260419T153954
CREATED:20251212T185723Z
LAST-MODIFIED:20251212T185724Z
UID:14956-1770922800-1770933600@dnesnivylet.cz
SUMMARY:Hudba Bridgerton při svíčkách
DESCRIPTION:Hudba Bridgerton při svíčkách se uskuteční dne 2026-02-12 v 19:00 v Nymburk\, Obecní dům Kokos. \n🎟️ Koupit vstupenku \n\nNenechte si ujít večer plný romantiky a elegance\, kde zazní ty nejznámější melodie a písně z oblíbeného seriálu Bridgerton. Světlo stovky svíček vytvoří okouzlující atmosféru koncertu. \nProgram v jedinečném provedení smyčcového kvarteta představí výběr hudebních skladeb z tohoto populárního seriálu\, inspirovaných klasickými díly i moderními popovými melodiemi\, které si získaly srdce diváků po celém světě. \nTento koncert nabídne víc než jen hudbu; stovky svíček rozzáří prostor a vytvoří atmosféru plnou noblesy\, romantiky a neodolatelného kouzla historické doby. \nAkce je přístupná od 12 let. Každý účastník musí předložit platnou vstupenku  zakoupenou výhradně v síti smsticket. \n\nTento tip na kulturní akci v Nymburk najdete v přehledu na Dnesnivylet.cz spolu s dalšími koncerty\, festivaly a divadelními představeními.Každý si vybere co se mu líbí. Nezapomeňte koupit vstupenky včas\, stačí kliknout a budete přesměrování na oficiálního prodejce vstupenek.
URL:https://dnesnivylet.cz/event/hudba-bridgerton-pri-svickach-20/
LOCATION:Obecní dům Kokos\, Nymburk\, Obecní dům Kokos\, Nymburk\, Česká republika
CATEGORIES:Koncert
ATTACH;FMTTYPE=image/jpeg:https://dnesnivylet.cz/wp-content/uploads/2025/12/320-c4bcf210d2ea4bc19db7344aaab03b48.jpg
END:VEVENT
BEGIN:VEVENT
DTSTART;TZID=Europe/Prague:20260212T200000
DTEND;TZID=Europe/Prague:20260212T230000
DTSTAMP:20260419T153954
CREATED:20251222T144542Z
LAST-MODIFIED:20251222T144543Z
UID:15810-1770926400-1770937200@dnesnivylet.cz
SUMMARY:Andrea Kalousová
DESCRIPTION:Andrea Kalousová se uskuteční dne 2026-02-12 v 20:00 v Brno\, Metro Music Bar. \n🎟️ Koupit vstupenku \n\nDoraž na jeden z koncertů první tour  – Jsem to já. \nShow nejen o hudbě. Je o odvaze být sám sebou\, o emocích\, o tom\, co cítíme\, ale často neříkáme nahlas. \n  \nAutentická hudební show\, která je pro interpretku splněným snem. Ostatně\, jak Andrea sama říká – každý z nás by si měl plnit svoje sny – a k tomu\, abyste pomohli splnit jí ten její\, stačí\, když přijdete na koncert a podpoříte ji. \n  \nTalentovanou a odvážnou krásku můžete znát i z populární soutěže krásy\, kde získala titul Česká Miss World 2015\, nebo z  televizní soutěže Tvoje tvář má známý hlas. Na koncertě uslyšíte nové písničky\, zažijete atmosféru plnou energie a určitě si to společně všichni užijete!  \n\nTento tip na kulturní akci v Brno najdete v přehledu na Dnesnivylet.cz spolu s dalšími koncerty\, festivaly a divadelními představeními.Každý si vybere co se mu líbí. Nezapomeňte koupit vstupenky včas\, stačí kliknout a budete přesměrování na oficiálního prodejce vstupenek.
URL:https://dnesnivylet.cz/event/andrea-kalousova/
LOCATION:Metro Music Bar\, Brno\, Metro Music Bar\, Brno\, Česká republika
CATEGORIES:Koncert
ATTACH;FMTTYPE=image/jpeg:https://dnesnivylet.cz/wp-content/uploads/2025/12/320-ec7bb6c2f0764570a99e4e10266b36a9.jpg
END:VEVENT
END:VCALENDAR