BEGIN:VCALENDAR
VERSION:2.0
PRODID:-//www.dnesnivylet.cz                                                                                                                        Tip na výlet pro celou rodinu. - ECPv6.15.13.1//NONSGML v1.0//EN
CALSCALE:GREGORIAN
METHOD:PUBLISH
X-ORIGINAL-URL:https://dnesnivylet.cz
X-WR-CALDESC:Akce na www.dnesnivylet.cz                                                                                                                        Tip na výlet pro celou rodinu.
REFRESH-INTERVAL;VALUE=DURATION:PT1H
X-Robots-Tag:noindex
X-PUBLISHED-TTL:PT1H
BEGIN:VTIMEZONE
TZID:Europe/Prague
BEGIN:DAYLIGHT
TZOFFSETFROM:+0100
TZOFFSETTO:+0200
TZNAME:CEST
DTSTART:20250330T010000
END:DAYLIGHT
BEGIN:STANDARD
TZOFFSETFROM:+0200
TZOFFSETTO:+0100
TZNAME:CET
DTSTART:20251026T010000
END:STANDARD
BEGIN:DAYLIGHT
TZOFFSETFROM:+0100
TZOFFSETTO:+0200
TZNAME:CEST
DTSTART:20260329T010000
END:DAYLIGHT
BEGIN:STANDARD
TZOFFSETFROM:+0200
TZOFFSETTO:+0100
TZNAME:CET
DTSTART:20261025T010000
END:STANDARD
BEGIN:DAYLIGHT
TZOFFSETFROM:+0100
TZOFFSETTO:+0200
TZNAME:CEST
DTSTART:20270328T010000
END:DAYLIGHT
BEGIN:STANDARD
TZOFFSETFROM:+0200
TZOFFSETTO:+0100
TZNAME:CET
DTSTART:20271031T010000
END:STANDARD
END:VTIMEZONE
BEGIN:VEVENT
DTSTART;TZID=Europe/Prague:20260221T190000
DTEND;TZID=Europe/Prague:20260221T220000
DTSTAMP:20260419T153917
CREATED:20251214T073656Z
LAST-MODIFIED:20251214T073657Z
UID:15219-1771700400-1771711200@dnesnivylet.cz
SUMMARY:Nesmrtelné skladby o lásce
DESCRIPTION:Nesmrtelné skladby o lásce se uskuteční dne 2026-02-21 v 19:00 v Brno\, Červený kostel. \n🎟️ Koupit vstupenku \n\nNesmrtelné skladby o lásce – Koncert při svíčkách \nNechte se unést těmi nejkrásnějšími milostnými melodiemi všech dob v podání smyčcového kvarteta. V kouzelné atmosféře stovek svíček zazní nesmrtelné skladby\, které vyprávějí příběhy lásky – něžné\, vášnivé i osudové. \nProgram propojuje klasickou hudbu s filmovými melodiemi a popovými hity\, které spojuje jediné téma – láska. \nProgram večera: \n\n\nLabutí jezero – Petr Iljič Čajkovskij \n\n\nOur Last Summer – ABBA \n\n\nI Will Always Love You – Whitney Houston \n\n\nCan You Feel the Love Tonight – Elton John \n\n\nSalut d’amour – Edward Elgar \n\n\nTennessee – Hans Zimmer \n\n\nGirls Like You – Maroon 5 \n\n\nRomeo & Julie – Henry Mancini \n\n\nDeborah’s Theme – Ennio Morricone \n\n\nPor una cabeza – Carlos Gardel \n\n\nWe Have All the Time – James Bond \n\n\nMaria\, West Side Story – Leonard Bernstein \n\n\nBeauty and the Beast – Ariana Grande \n\n\n& více! \n\n\nPřijďte si vychutnat večer plný emocí\, krásné hudby a jedinečné atmosféry\, která Vás zahřeje u srdce. \nDélka koncertu: 65 minutHraje: Olomouc Quartet  \n  \n  \n\nTento tip na kulturní akci v Brno najdete v přehledu na Dnesnivylet.cz spolu s dalšími koncerty\, festivaly a divadelními představeními.Každý si vybere co se mu líbí. Nezapomeňte koupit vstupenky včas\, stačí kliknout a budete přesměrování na oficiálního prodejce vstupenek.
URL:https://dnesnivylet.cz/event/nesmrtelne-skladby-o-lasce/
LOCATION:Červený kostel\, Brno\, Červený kostel\, Brno\, Česká republika
CATEGORIES:Koncert
ATTACH;FMTTYPE=image/jpeg:https://dnesnivylet.cz/wp-content/uploads/2025/12/320-f043caec750043f382b87961cdb7256c.jpg
END:VEVENT
BEGIN:VEVENT
DTSTART;TZID=Europe/Prague:20260221T190000
DTEND;TZID=Europe/Prague:20260221T220000
DTSTAMP:20260419T153917
CREATED:20251214T074636Z
LAST-MODIFIED:20251214T074636Z
UID:15225-1771700400-1771711200@dnesnivylet.cz
SUMMARY:Nesmrtelné skladby o lásce
DESCRIPTION:Nesmrtelné skladby o lásce se uskuteční dne 2026-02-21 v 19:00 v Praha\, Kostel U Salvátora. \n🎟️ Koupit vstupenku \n\nNesmrtelné skladby o lásce – Koncert při svíčkách \nNechte se unést těmi nejkrásnějšími milostnými melodiemi všech dob v podání smyčcového kvarteta. V kouzelné atmosféře stovek svíček zazní nesmrtelné skladby\, které vyprávějí příběhy lásky – něžné\, vášnivé i osudové. \nProgram propojuje klasickou hudbu s filmovými melodiemi a popovými hity\, které spojuje jediné téma – láska. \nProgram večera: \n\n\nLabutí jezero – Petr Iljič Čajkovskij \n\n\nOur Last Summer – ABBA \n\n\nI Will Always Love You – Whitney Houston \n\n\nCan You Feel the Love Tonight – Elton John \n\n\nSalut d’amour – Edward Elgar \n\n\nTennessee – Hans Zimmer \n\n\nGirls Like You – Maroon 5 \n\n\nRomeo & Julie – Henry Mancini \n\n\nDeborah’s Theme – Ennio Morricone \n\n\nPor una cabeza – Carlos Gardel \n\n\nWe Have All the Time – James Bond \n\n\nMaria\, West Side Story – Leonard Bernstein \n\n\nBeauty and the Beast – Ariana Grande \n\n\n& více! \n\n\nPřijďte si vychutnat večer plný emocí\, krásné hudby a jedinečné atmosféry\, která Vás zahřeje u srdce. \nDélka koncertu: 65 minutHraje: Krása Quartet  \n\nTento tip na kulturní akci v Praha najdete v přehledu na Dnesnivylet.cz spolu s dalšími koncerty\, festivaly a divadelními představeními.Každý si vybere co se mu líbí. Nezapomeňte koupit vstupenky včas\, stačí kliknout a budete přesměrování na oficiálního prodejce vstupenek.
URL:https://dnesnivylet.cz/event/nesmrtelne-skladby-o-lasce-2/
LOCATION:Kostel U Salvátora\, Praha\, Kostel U Salvátora\, Praha\, Česká republika
CATEGORIES:Koncert
ATTACH;FMTTYPE=image/jpeg:https://dnesnivylet.cz/wp-content/uploads/2025/12/320-0521d4cb014e49109ae662dae6f2d615.jpg
END:VEVENT
BEGIN:VEVENT
DTSTART;TZID=Europe/Prague:20260221T190000
DTEND;TZID=Europe/Prague:20260221T220000
DTSTAMP:20260419T153917
CREATED:20251222T145100Z
LAST-MODIFIED:20251222T145100Z
UID:15849-1771700400-1771711200@dnesnivylet.cz
SUMMARY:TATA BOJS
DESCRIPTION:TATA BOJS se uskuteční dne 2026-02-21 v 19:00 v Dačice\, KD Beseda. \n🎟️ Koupit vstupenku \n\nSrdečně vás zveme na legendární kapelu Tata Bojs do DAČIC! \nTata Bojs jsou na domácí hudební scéně pojem nezávisle na příslušnosti k žánru. V jejich tvorbě se už od prvopočátků snoubí důraz nejen na stránku hudební\, ale také na tu vizuální. O kvalitách i svébytnosti kapely leccos vypovídá deset vydaných řadových alb\, několik DVD\, dvě knihy\, více než dvacet výrazných videoklipů a dokumentární film tata_bojs.doc (2024) držitele čtyř Českých lvů Marka Najbrta. V neposlední řadě také jejich živá vystoupení. Ta se vždy\, kromě pohlcující energie\, vyznačují osobitým designem a nákladnou scénou dle návrhů zpěváka a bubeníka skupiny Milana Caise\, jinak absolventa Akademie výtvarných umění a renomovaného vizuálního umělce. \nDlouhodobě jedna z nejpopulárnějších současných českých hudebních skupin\, která vznikla už v roce 1988 na pražské Hanspaulce a která je známá svými energií nabitými koncerty. Založili ji dva spolužáci ze základní školy Milan Cais a Marek Huňát alias Mardoša. \nTata Bojs jsou: Milan Cais\, Mardoša\, Vladimír Bár\, Matěj Belko\, Dušan Neuwerth \nČasový harmonogram akce:19:00   otevření sálu21:00   začátek koncertu TATA BOJS                                                                        23:00   After Party klub Béčko  \nNadčasová\, česká kapela oceněná hned několikrát cenou Anděl! \nCena vstupenek\, 1. vlna (100 ks) – 590\,- Kč  \n\nTento tip na kulturní akci v Dačice najdete v přehledu na Dnesnivylet.cz spolu s dalšími koncerty\, festivaly a divadelními představeními.Každý si vybere co se mu líbí. Nezapomeňte koupit vstupenky včas\, stačí kliknout a budete přesměrování na oficiálního prodejce vstupenek.
URL:https://dnesnivylet.cz/event/tata-bojs-3/
LOCATION:KD Beseda\, Dačice\, KD Beseda\, Dačice\, Česká republika
CATEGORIES:Koncert
ATTACH;FMTTYPE=image/jpeg:https://dnesnivylet.cz/wp-content/uploads/2025/12/320-2a1205b8037e436ba4189737bd727958.jpg
END:VEVENT
BEGIN:VEVENT
DTSTART;TZID=Europe/Prague:20260221T200000
DTEND;TZID=Europe/Prague:20260221T230000
DTSTAMP:20260419T153917
CREATED:20260211T130209Z
LAST-MODIFIED:20260211T130210Z
UID:18065-1771704000-1771714800@dnesnivylet.cz
SUMMARY:Studentský ples Pirate Ball
DESCRIPTION:Studentský ples Pirate Ball se uskuteční dne 2026-02-21 v 20:00 v Třinec\, Kulturní dům TRISIA. \n🎟️ Koupit vstupenku \n\nSrdečně vás zveme na náš již tradiční studentský ples\, který se ponese v duchu pirátské dobrodružné atmosféry. \nNaloď se s partnertkou nebo přateli\, nahoď oblek\, šaty a nějaké ty šperky nebo pásku přes oko a zakotvěte společně s námi v KD Trisia v Třinci! \nVydáme se společně na nezapomenutelné DOBRODRUŽSTVÍ!!!  \nNa co se můžete těšit:* Fotobudka * Tématická výzdoba * Bohatá tombola * Bar s občerstvením * Míchané drinky * Hudební program * Světelná show  \nMinulé ročníky našich plesů byly zcela a rychle vyprodány už v předprodeji. Pevně věříme\, že tomu tak bude i tento ročník! \n\nTento tip na kulturní akci v Třinec najdete v přehledu na Dnesnivylet.cz spolu s dalšími koncerty\, festivaly a divadelními představeními.Každý si vybere co se mu líbí. Nezapomeňte koupit vstupenky včas\, stačí kliknout a budete přesměrování na oficiálního prodejce vstupenek.
URL:https://dnesnivylet.cz/event/studentsky-ples-pirate-ball/
LOCATION:Kulturní dům TRISIA\, Třinec\, Kulturní dům TRISIA\, Třinec\, Česká republika
CATEGORIES:Zábava
ATTACH;FMTTYPE=image/jpeg:https://dnesnivylet.cz/wp-content/uploads/2026/02/320-fd4d7ecd6e4449db924ca122df16a58d.jpg
END:VEVENT
BEGIN:VEVENT
DTSTART;TZID=Europe/Prague:20260221T200000
DTEND;TZID=Europe/Prague:20260221T230000
DTSTAMP:20260419T153917
CREATED:20260211T130209Z
LAST-MODIFIED:20260211T130210Z
UID:18066-1771704000-1771714800@dnesnivylet.cz
SUMMARY:Studentský ples Pirate Ball
DESCRIPTION:Studentský ples Pirate Ball se uskuteční dne 2026-02-21 v 20:00 v Třinec\, Kulturní dům TRISIA. \n🎟️ Koupit vstupenku \n\nSrdečně vás zveme na náš již tradiční studentský ples\, který se ponese v duchu pirátské dobrodružné atmosféry. \nNaloď se s partnertkou nebo přateli\, nahoď oblek\, šaty a nějaké ty šperky nebo pásku přes oko a zakotvěte společně s námi v KD Trisia v Třinci! \nVydáme se společně na nezapomenutelné DOBRODRUŽSTVÍ!!!  \nNa co se můžete těšit:* Fotobudka * Tématická výzdoba * Bohatá tombola * Bar s občerstvením * Míchané drinky * Hudební program * Světelná show  \nMinulé ročníky našich plesů byly zcela a rychle vyprodány už v předprodeji. Pevně věříme\, že tomu tak bude i tento ročník! \n\nTento tip na kulturní akci v Třinec najdete v přehledu na Dnesnivylet.cz spolu s dalšími koncerty\, festivaly a divadelními představeními.Každý si vybere co se mu líbí. Nezapomeňte koupit vstupenky včas\, stačí kliknout a budete přesměrování na oficiálního prodejce vstupenek.
URL:https://dnesnivylet.cz/event/studentsky-ples-pirate-ball-2/
LOCATION:Kulturní dům TRISIA\, Třinec\, Kulturní dům TRISIA\, Třinec\, Česká republika
CATEGORIES:Zábava
ATTACH;FMTTYPE=image/jpeg:https://dnesnivylet.cz/wp-content/uploads/2026/02/320-fd4d7ecd6e4449db924ca122df16a58d-1.jpg
END:VEVENT
END:VCALENDAR