BEGIN:VCALENDAR
VERSION:2.0
PRODID:-//www.dnesnivylet.cz                                                                                                                        Tip na výlet pro celou rodinu. - ECPv6.15.13.1//NONSGML v1.0//EN
CALSCALE:GREGORIAN
METHOD:PUBLISH
X-WR-CALNAME:www.dnesnivylet.cz                                                                                                                        Tip na výlet pro celou rodinu.
X-ORIGINAL-URL:https://dnesnivylet.cz
X-WR-CALDESC:Akce na www.dnesnivylet.cz                                                                                                                        Tip na výlet pro celou rodinu.
REFRESH-INTERVAL;VALUE=DURATION:PT1H
X-Robots-Tag:noindex
X-PUBLISHED-TTL:PT1H
BEGIN:VTIMEZONE
TZID:Europe/Prague
BEGIN:DAYLIGHT
TZOFFSETFROM:+0100
TZOFFSETTO:+0200
TZNAME:CEST
DTSTART:20250330T010000
END:DAYLIGHT
BEGIN:STANDARD
TZOFFSETFROM:+0200
TZOFFSETTO:+0100
TZNAME:CET
DTSTART:20251026T010000
END:STANDARD
BEGIN:DAYLIGHT
TZOFFSETFROM:+0100
TZOFFSETTO:+0200
TZNAME:CEST
DTSTART:20260329T010000
END:DAYLIGHT
BEGIN:STANDARD
TZOFFSETFROM:+0200
TZOFFSETTO:+0100
TZNAME:CET
DTSTART:20261025T010000
END:STANDARD
BEGIN:DAYLIGHT
TZOFFSETFROM:+0100
TZOFFSETTO:+0200
TZNAME:CEST
DTSTART:20270328T010000
END:DAYLIGHT
BEGIN:STANDARD
TZOFFSETFROM:+0200
TZOFFSETTO:+0100
TZNAME:CET
DTSTART:20271031T010000
END:STANDARD
END:VTIMEZONE
BEGIN:VEVENT
DTSTART;TZID=Europe/Prague:20260224T180000
DTEND;TZID=Europe/Prague:20260224T210000
DTSTAMP:20260419T141124
CREATED:20251108T171533Z
LAST-MODIFIED:20251108T171533Z
UID:13068-1771956000-1771966800@dnesnivylet.cz
SUMMARY:Koncert DUO JAMAHA - HIT TOUR 2026 - Opava
DESCRIPTION:Koncert DUO JAMAHA – HIT TOUR 2026 – Opava se uskuteční dne 2026-02-24 v 18:00 v Opava\, Kulturní dům Na Rybníčku. \n🎟️ Koupit vstupenku \n\nZveme Vás na hudebně-zábavný program pro všechny generace! \nHudební skupina DUO JAMAHA přichází s HIT Tour – koncert složený z největších hitů hudební skupiny namíchaný s humorným slovem a to i záhoráckým Stand-Up vystoupením\, o které se postará právě jeden z členů hudební skupiny. \nSkupina je známá hlavně z televizních obrazovek a rádií. Získala za prodej nosiče zlaté a platinové desky\, Oscara Smago Awards\, a jiná ocenění… přichází Vás opět zabavit a připravili si nezapomenutelný zážitek plný hudby a humoru. Přijďte si zazpívat\, odreagovat se a načerpat tu správnou energii. Na koncertě zazní rytmické melodické písně\, starší a novější hity! \nTisíce lidí a fanoušků vidělo poslední turné po České a Slovenské republice. \nTěšíme se opět na Vás! Bude to skvělá jízda! \n  \nCena vstupenky 350\,- Kč a v den konání akce na místě 390\,- Kč. \nZačátek koncertu: 18:00 hodin. \n\nTento tip na kulturní akci v Opava najdete v přehledu na Dnesnivylet.cz spolu s dalšími koncerty\, festivaly a divadelními představeními.Každý si vybere co se mu líbí. Nezapomeňte koupit vstupenky včas\, stačí kliknout a budete přesměrování na oficiálního prodejce vstupenek.
URL:https://dnesnivylet.cz/event/koncert-duo-jamaha-hit-tour-2026-opava/
LOCATION:Kulturní dům Na Rybníčku\, Opava\, Kulturní dům Na Rybníčku\, Opava\, Česká republika
CATEGORIES:Koncert
ATTACH;FMTTYPE=image/jpeg:https://dnesnivylet.cz/wp-content/uploads/2025/11/320-b84020a59e2a45eeaafa08dd2753d1e3.jpg
END:VEVENT
BEGIN:VEVENT
DTSTART;TZID=Europe/Prague:20260224T190000
DTEND;TZID=Europe/Prague:20260224T220000
DTSTAMP:20260419T141124
CREATED:20251025T142654Z
LAST-MODIFIED:20251025T142658Z
UID:9937-1771959600-1771970400@dnesnivylet.cz
SUMMARY:Václav Noid Bárta a Bek Bek Clan
DESCRIPTION:Václav Noid Bárta a Bek Bek Clan se uskuteční dne 2026-02-24 v 19:00 v Chomutov\, Městské divadlo. \n🎟️ Koupit vstupenku \n\nVáclav NOID Bárta v Chomutově! \nOd prvních kroků s kapelami Dolores Clan\, Noid Crew a Dymytry\, přes divadelní svět muzikálů až po jeho současnou sólovou tvorbu. Přijďte si projít dvacetiletou hudební cestu Václava NOIDA Bárty – charizmatického zpěváka\, autora filmové hudby a jedinečného hlasu české hudební scény. \nNa co se můžete těšit?Během večera zazní jak jeho autorské skladby\, tak i oblíbené převzaté songy\, které skvěle doplní energii a atmosféru celého koncertu. Tento výjimečný večer přinese nálož skvělé muziky\, pohody a neuvěřitelné energie\, která vás strhne! \nZažijte hudební show\, na kterou se nezapomíná! \n\nTento tip na kulturní akci v Chomutov najdete v přehledu na Dnesnivylet.cz spolu s dalšími koncerty\, festivaly a divadelními představeními.Každý si vybere co se mu líbí. Nezapomeňte koupit vstupenky včas\, stačí kliknout a budete přesměrování na oficiálního prodejce vstupenek.
URL:https://dnesnivylet.cz/event/vaclav-noid-barta-a-bek-bek-clan-5/
LOCATION:Městské divadlo\, Chomutov\, Městské divadlo\, Chomutov\, Česká republika
CATEGORIES:Koncert
ATTACH;FMTTYPE=image/jpeg:https://dnesnivylet.cz/wp-content/uploads/2025/10/320-c0ad502fee714d319c0a030ed1134781.jpg
END:VEVENT
BEGIN:VEVENT
DTSTART;TZID=Europe/Prague:20260224T190000
DTEND;TZID=Europe/Prague:20260224T220000
DTSTAMP:20260419T141124
CREATED:20260122T123859Z
LAST-MODIFIED:20260122T123900Z
UID:16962-1771959600-1771970400@dnesnivylet.cz
SUMMARY:Václav Noid Bárta a Bek Bek Clan
DESCRIPTION:Václav Noid Bárta a Bek Bek Clan se uskuteční dne 2026-02-24 v 19:00 v Chomutov\, Městské divadlo. \n🎟️ Koupit vstupenku \n\nVáclav NOID Bárta v Chomutově! \nDo Divadla B. Němcové v Chomutově míří aktuální Zlatý slavík – Václav Noid Bárta. Jeho výrazný hlas\, přirozená energie a silné charisma budou hlavními prvky večera\, který nabídne nezapomenutelnou atmosféru v podání jednoho z nejvýraznějších interpretů současné české hudební scény. \nOd prvních kroků s kapelami Dolores Clan\, Noid Crew a Dymytry\, přes divadelní svět muzikálů až po jeho současnou sólovou tvorbu. Přijďte si projít dvacetiletou hudební cestu Václava NOIDA Bárty – charizmatického zpěváka\, autora filmové hudby a jedinečného hlasu české hudební scény. \nNa co se můžete těšit?Během večera zazní jak jeho autorské skladby\, tak i oblíbené převzaté songy\, které skvěle doplní energii a atmosféru celého koncertu. Tento výjimečný večer přinese nálož skvělé muziky\, pohody a neuvěřitelné energie\, která vás strhne! \nZažijte hudební show\, na kterou se nezapomíná! \n\nTento tip na kulturní akci v Chomutov najdete v přehledu na Dnesnivylet.cz spolu s dalšími koncerty\, festivaly a divadelními představeními.Každý si vybere co se mu líbí. Nezapomeňte koupit vstupenky včas\, stačí kliknout a budete přesměrování na oficiálního prodejce vstupenek.
URL:https://dnesnivylet.cz/event/vaclav-noid-barta-a-bek-bek-clan-22/
LOCATION:Městské divadlo\, Chomutov\, Městské divadlo\, Chomutov\, Česká republika
CATEGORIES:Koncert
ATTACH;FMTTYPE=image/jpeg:https://dnesnivylet.cz/wp-content/uploads/2026/01/320-28fdbfc1456645f48223bc876baf13d9.jpg
END:VEVENT
END:VCALENDAR