BEGIN:VCALENDAR
VERSION:2.0
PRODID:-//www.dnesnivylet.cz                                                                                                                        Tip na výlet pro celou rodinu. - ECPv6.15.13.1//NONSGML v1.0//EN
CALSCALE:GREGORIAN
METHOD:PUBLISH
X-WR-CALNAME:www.dnesnivylet.cz                                                                                                                        Tip na výlet pro celou rodinu.
X-ORIGINAL-URL:https://dnesnivylet.cz
X-WR-CALDESC:Akce na www.dnesnivylet.cz                                                                                                                        Tip na výlet pro celou rodinu.
REFRESH-INTERVAL;VALUE=DURATION:PT1H
X-Robots-Tag:noindex
X-PUBLISHED-TTL:PT1H
BEGIN:VTIMEZONE
TZID:Europe/Prague
BEGIN:DAYLIGHT
TZOFFSETFROM:+0100
TZOFFSETTO:+0200
TZNAME:CEST
DTSTART:20250330T010000
END:DAYLIGHT
BEGIN:STANDARD
TZOFFSETFROM:+0200
TZOFFSETTO:+0100
TZNAME:CET
DTSTART:20251026T010000
END:STANDARD
BEGIN:DAYLIGHT
TZOFFSETFROM:+0100
TZOFFSETTO:+0200
TZNAME:CEST
DTSTART:20260329T010000
END:DAYLIGHT
BEGIN:STANDARD
TZOFFSETFROM:+0200
TZOFFSETTO:+0100
TZNAME:CET
DTSTART:20261025T010000
END:STANDARD
BEGIN:DAYLIGHT
TZOFFSETFROM:+0100
TZOFFSETTO:+0200
TZNAME:CEST
DTSTART:20270328T010000
END:DAYLIGHT
BEGIN:STANDARD
TZOFFSETFROM:+0200
TZOFFSETTO:+0100
TZNAME:CET
DTSTART:20271031T010000
END:STANDARD
END:VTIMEZONE
BEGIN:VEVENT
DTSTART;TZID=Europe/Prague:20260304T180000
DTEND;TZID=Europe/Prague:20260304T210000
DTSTAMP:20260419T141124
CREATED:20251108T170123Z
LAST-MODIFIED:20251108T170123Z
UID:12902-1772647200-1772658000@dnesnivylet.cz
SUMMARY:Duo Jamaha - HIT TOUR 2026
DESCRIPTION:Duo Jamaha – HIT TOUR 2026 se uskuteční dne 2026-03-04 v 18:00 v Svitavy\, Fabrika. \n🎟️ Koupit vstupenku \n\nZveme Vás na hudebně-zábavný program pro všechny generace! \nHudební skupina DUO JAMAHA přichází s HIT Tour – koncert složený z největších hitů hudební skupiny namíchaný s humorným slovem a to i záhoráckým Stand-Up vystoupením\, o které se postará právě jeden z členů hudební skupiny.  \nSkupina je známá hlavně z televizních obrazovek a rádií. Získala za prodej nosiče zlaté a platinové desky\, Oscara Smago Awards\, a jiná ocenění… přichází Vás opět zabavit a připravili si nezapomenutelný zážitek plný hudby a humoru. Přijďte si zazpívat\, odreagovat se a načerpat tu správnou energii. \nNa koncertě zazní rytmické melodické písně\, starší a novější hity! \n  \nTisíce lidí a fanoušků vidělo poslední turné po České a Slovenské republice. \nTěšíme se opět na Vás! Bude to skvělá jízda \n  \n﻿Cena vstupenky: 350\,-Kč\, den konání akce na místě 390\,-Kč. \n\nTento tip na kulturní akci v Svitavy najdete v přehledu na Dnesnivylet.cz spolu s dalšími koncerty\, festivaly a divadelními představeními.Každý si vybere co se mu líbí. Nezapomeňte koupit vstupenky včas\, stačí kliknout a budete přesměrování na oficiálního prodejce vstupenek.
URL:https://dnesnivylet.cz/event/duo-jamaha-hit-tour-2026-2/
LOCATION:Fabrika\, Svitavy\, Fabrika\, Svitavy\, Česká republika
CATEGORIES:Koncert
ATTACH;FMTTYPE=image/jpeg:https://dnesnivylet.cz/wp-content/uploads/2025/11/320-64d6591ce0e141f294ef78a4ac72cbf7.jpg
END:VEVENT
BEGIN:VEVENT
DTSTART;TZID=Europe/Prague:20260304T190000
DTEND;TZID=Europe/Prague:20260304T220000
DTSTAMP:20260419T141124
CREATED:20251108T171533Z
LAST-MODIFIED:20251108T171534Z
UID:13074-1772650800-1772661600@dnesnivylet.cz
SUMMARY:Galakoncert Štefan Margita a Moravské klavírní trio
DESCRIPTION:Galakoncert Štefan Margita a Moravské klavírní trio se uskuteční dne 2026-03-04 v 19:00 v Zbýšov\, Kino Horník. \n🎟️ Koupit vstupenku \nTento tip na kulturní akci v Zbýšov najdete v přehledu na Dnesnivylet.cz spolu s dalšími koncerty\, festivaly a divadelními představeními.Každý si vybere co se mu líbí. Nezapomeňte koupit vstupenky včas\, stačí kliknout a budete přesměrování na oficiálního prodejce vstupenek.
URL:https://dnesnivylet.cz/event/galakoncert-stefan-margita-a-moravske-klavirni-trio/
LOCATION:Kino Horník\, Zbýšov\, Kino Horník\, Zbýšov\, Česká republika
CATEGORIES:Koncert
ATTACH;FMTTYPE=image/jpeg:https://dnesnivylet.cz/wp-content/uploads/2025/11/320-84e9faf4c4a94541a633acd05bac4a46.jpg
END:VEVENT
BEGIN:VEVENT
DTSTART;TZID=Europe/Prague:20260304T190000
DTEND;TZID=Europe/Prague:20260304T220000
DTSTAMP:20260419T141124
CREATED:20251209T183831Z
LAST-MODIFIED:20251209T183831Z
UID:14586-1772650800-1772661600@dnesnivylet.cz
SUMMARY:Hudba Bridgerton při svíčkách
DESCRIPTION:Hudba Bridgerton při svíčkách se uskuteční dne 2026-03-04 v 19:00 v Liberec\, Kulturní centrum VRATISLAVICE 101010. \n🎟️ Koupit vstupenku \n\nNenechte si ujít večer plný romantiky a elegance\, kde zazní ty nejznámější melodie a písně z oblíbeného seriálu Bridgerton. Světlo stovky svíček vytvoří okouzlující atmosféru koncertu. \nProgram v jedinečném provedení smyčcového kvarteta představí výběr hudebních skladeb z tohoto populárního seriálu\, inspirovaných klasickými díly i moderními popovými melodiemi\, které si získaly srdce diváků po celém světě. \nTento koncert nabídne víc než jen hudbu; stovky svíček rozzáří prostor a vytvoří atmosféru plnou noblesy\, romantiky a neodolatelného kouzla historické doby. \nAkce je přístupná od 12 let. Každý účastník musí předložit platnou vstupenku  zakoupenou výhradně v síti smsticket. \n\nTento tip na kulturní akci v Liberec najdete v přehledu na Dnesnivylet.cz spolu s dalšími koncerty\, festivaly a divadelními představeními.Každý si vybere co se mu líbí. Nezapomeňte koupit vstupenky včas\, stačí kliknout a budete přesměrování na oficiálního prodejce vstupenek.
URL:https://dnesnivylet.cz/event/hudba-bridgerton-pri-svickach-16/
LOCATION:Kulturní centrum VRATISLAVICE 101010\, Liberec\, Kulturní centrum VRATISLAVICE 101010\, Liberec\, Česká republika
CATEGORIES:Koncert
ATTACH;FMTTYPE=image/jpeg:https://dnesnivylet.cz/wp-content/uploads/2025/12/320-1980934dc1e3497988d393b55264a6d1.jpg
END:VEVENT
BEGIN:VEVENT
DTSTART;TZID=Europe/Prague:20260304T190000
DTEND;TZID=Europe/Prague:20260304T220000
DTSTAMP:20260419T141124
CREATED:20251212T185843Z
LAST-MODIFIED:20251212T185844Z
UID:14963-1772650800-1772661600@dnesnivylet.cz
SUMMARY:Ludovico Einaudi Music | Varnsdorf
DESCRIPTION:Ludovico Einaudi Music | Varnsdorf se uskuteční dne 2026-03-04 v 19:00 v Varnsdorf\, Městské divadlo. \n🎟️ Koupit vstupenku \n\nNenechte si ujít nezapomenutelný večer krásné hudby\, kde zazní melodie jednoho z nejlepších pianistů a skladatelů na světe\, Ludovica Einaudiho v podání předního české klavíristky Lucie Kubátové. \nEinaudi je známý svými jednoduchými\, ale strašidelně krásnými minimalistickými díly pro klavír a ohromující filmovou hudbou. Za téměř třicet let své činnosti vydal řadu alb\, která se dostala na přední příčky poslechovosti\, vyprodává nejprestižnější koncertní sály po celém světě a jeho hudba zazněla v mnoha slavných filmech (Nedotknutelní\, Doktor Živago\, To je Anglie\, Nomadland a další). \nTento jedinečný koncert nabídne více než jen hudbu. Symfonie třpytivých svíček rozsvítí celý prostor a přidá na mystičnu a kouzlu večera. Každá svíčka přispěje k vytvoření kouzelného prostředí\, které dokonale doplní hudební zážitek. \nV rámci Evropské tour alternují také: František Panáček a Alexand Starý.  \nAkce je přístupná od 12 let. Každý účastník musí předložit platnou vstupenku  zakoupenou výhradně v síti smsticket. \n\nTento tip na kulturní akci v Varnsdorf najdete v přehledu na Dnesnivylet.cz spolu s dalšími koncerty\, festivaly a divadelními představeními.Každý si vybere co se mu líbí. Nezapomeňte koupit vstupenky včas\, stačí kliknout a budete přesměrování na oficiálního prodejce vstupenek.
URL:https://dnesnivylet.cz/event/ludovico-einaudi-music-varnsdorf/
LOCATION:Městské divadlo\, Varnsdorf\, Městské divadlo\, Varnsdorf\, Česká republika
CATEGORIES:Koncert
ATTACH;FMTTYPE=image/jpeg:https://dnesnivylet.cz/wp-content/uploads/2025/12/320-b874c0291f774b9caecbf6f0359dd5d2.jpg
END:VEVENT
END:VCALENDAR