BEGIN:VCALENDAR
VERSION:2.0
PRODID:-//www.dnesnivylet.cz                                                                                                                        Tip na výlet pro celou rodinu. - ECPv6.15.13.1//NONSGML v1.0//EN
CALSCALE:GREGORIAN
METHOD:PUBLISH
X-ORIGINAL-URL:https://dnesnivylet.cz
X-WR-CALDESC:Akce na www.dnesnivylet.cz                                                                                                                        Tip na výlet pro celou rodinu.
REFRESH-INTERVAL;VALUE=DURATION:PT1H
X-Robots-Tag:noindex
X-PUBLISHED-TTL:PT1H
BEGIN:VTIMEZONE
TZID:Europe/Prague
BEGIN:DAYLIGHT
TZOFFSETFROM:+0100
TZOFFSETTO:+0200
TZNAME:CEST
DTSTART:20250330T010000
END:DAYLIGHT
BEGIN:STANDARD
TZOFFSETFROM:+0200
TZOFFSETTO:+0100
TZNAME:CET
DTSTART:20251026T010000
END:STANDARD
BEGIN:DAYLIGHT
TZOFFSETFROM:+0100
TZOFFSETTO:+0200
TZNAME:CEST
DTSTART:20260329T010000
END:DAYLIGHT
BEGIN:STANDARD
TZOFFSETFROM:+0200
TZOFFSETTO:+0100
TZNAME:CET
DTSTART:20261025T010000
END:STANDARD
BEGIN:DAYLIGHT
TZOFFSETFROM:+0100
TZOFFSETTO:+0200
TZNAME:CEST
DTSTART:20270328T010000
END:DAYLIGHT
BEGIN:STANDARD
TZOFFSETFROM:+0200
TZOFFSETTO:+0100
TZNAME:CET
DTSTART:20271031T010000
END:STANDARD
END:VTIMEZONE
BEGIN:VEVENT
DTSTART;TZID=Europe/Prague:20260313T190000
DTEND;TZID=Europe/Prague:20260313T220000
DTSTAMP:20260419T141649
CREATED:20251030T150251Z
LAST-MODIFIED:20251030T150251Z
UID:10718-1773428400-1773439200@dnesnivylet.cz
SUMMARY:Muzikály Naruby | Pardubice
DESCRIPTION:Muzikály Naruby | Pardubice se uskuteční dne 2026-03-13 v 19:00 v Pardubice\, IDEON. \n🎟️ Koupit vstupenku \n\nMUZIKÁLY NARUBY – Josef Vágner & Petr Ryšavý & Jan KopečnýKoncertní zábavná show naplněná těmi největšími hity z českých i světových muzikálů. \nMuzikály Naruby\, to je koncert živé kapely\, která hraje známe hity tak\, jak je ještě nikdy nikdo neslyšel. Přední čeští zpěváci a muzikáloví herci Josef Vágner\, Jan Kopečný a Petr Ryšavý zpívají hity nejen z tradičních muzikálů jako jsou Bídníci\, Kleopatra\, Angelika\, Tři mušketýři\, ale také z českých hit-muzikálů. \nV programu tak zní ty největší hity Waldemara Matušky\, Václava Neckáře\, kapely Lucie\, Janka Ledeckého\, Karla Gotta\, Michala Davida\, Heleny Vondráčkové\, Lucie Bílé a dalších. \nKoncert je prokládán vtipnými historkami ze zákulisí divadla a české hudební scény. Muzikály Naruby tradičně do posledního místa vyprodávají divadelní sály po celé ČR. A nesmíme zapomenout ani na jejich vyprodanou pražskou Lucernu. \nÚčinkujíJosef VágnerPetr RyšavýJan Kopečný…v doprovodu živé kapely \n\nTento tip na kulturní akci v Pardubice najdete v přehledu na Dnesnivylet.cz spolu s dalšími koncerty\, festivaly a divadelními představeními.Každý si vybere co se mu líbí. Nezapomeňte koupit vstupenky včas\, stačí kliknout a budete přesměrování na oficiálního prodejce vstupenek.
URL:https://dnesnivylet.cz/event/muzikaly-naruby-pardubice/
LOCATION:IDEON\, Pardubice\, IDEON\, Pardubice\, Česká republika
CATEGORIES:Koncert
ATTACH;FMTTYPE=image/jpeg:https://dnesnivylet.cz/wp-content/uploads/2025/10/320-7eea3ddaa6444cc98d026a3673a53b76.jpg
END:VEVENT
BEGIN:VEVENT
DTSTART;TZID=Europe/Prague:20260313T200000
DTEND;TZID=Europe/Prague:20260313T230000
DTSTAMP:20260419T141649
CREATED:20260306T173616Z
LAST-MODIFIED:20260306T173617Z
UID:19176-1773432000-1773442800@dnesnivylet.cz
SUMMARY:Slavíček - Zimní šňůra
DESCRIPTION:Slavíček – Zimní šňůra se uskuteční dne 2026-03-13 v 20:00 v Zábřeh\, Kulturní dům. \n🎟️ Koupit vstupenku \n\nZpěvák a skladatel s výrazným rukopisem na pomezí indie popu a alternativy. \nSlavíček přináší osobitou kombinaci civilnosti a energie. Ve svých skladbách propojuje křehkost s ironií\, hravost s hlubokým obsahem. Jeho hudba působí nenuceně\, ale nese jasný rukopis a postoj. Na české scéně působí jako čerstvý vítr – mladý\, přirozený\, přesvědčivý a uvěřitelný. \n  \nSupport: Beira \n\nTento tip na kulturní akci v Zábřeh najdete v přehledu na Dnesnivylet.cz spolu s dalšími koncerty\, festivaly a divadelními představeními.Každý si vybere co se mu líbí. Nezapomeňte koupit vstupenky včas\, stačí kliknout a budete přesměrování na oficiálního prodejce vstupenek.
URL:https://dnesnivylet.cz/event/slavicek-zimni-snura-5/
LOCATION:Kulturní dům\, Zábřeh\, Kulturní dům\, Zábřeh\, Česká republika
CATEGORIES:Koncert
ATTACH;FMTTYPE=image/jpeg:https://dnesnivylet.cz/wp-content/uploads/2026/03/320-612567e93395437e882d3cca2d5b43a0.jpg
END:VEVENT
BEGIN:VEVENT
DTSTART;TZID=Europe/Prague:20260313T203000
DTEND;TZID=Europe/Prague:20260313T233000
DTSTAMP:20260419T141649
CREATED:20260208T144116Z
LAST-MODIFIED:20260208T144117Z
UID:17568-1773433800-1773444600@dnesnivylet.cz
SUMMARY:Vojtaano Band Tour 2026
DESCRIPTION:Vojtaano Band Tour 2026 se uskuteční dne 2026-03-13 v 20:30 v Brno\, Metro Music Bar. \n🎟️ Koupit vstupenku \n\nPrvní samostatná tour kde Vojtaano zahraje všechny největší hity za doprovodu kapely složené ze členů Fast Food Orchestra. \n19:00 open \n20:30 Start \n\nTento tip na kulturní akci v Brno najdete v přehledu na Dnesnivylet.cz spolu s dalšími koncerty\, festivaly a divadelními představeními.Každý si vybere co se mu líbí. Nezapomeňte koupit vstupenky včas\, stačí kliknout a budete přesměrování na oficiálního prodejce vstupenek.
URL:https://dnesnivylet.cz/event/vojtaano-band-tour-2026-4/
LOCATION:Metro Music Bar\, Brno\, Metro Music Bar\, Brno\, Česká republika
CATEGORIES:Koncert
ATTACH;FMTTYPE=image/jpeg:https://dnesnivylet.cz/wp-content/uploads/2026/02/320-f92bc6ba5bf140879542ed388fae55db.jpg
END:VEVENT
END:VCALENDAR