BEGIN:VCALENDAR
VERSION:2.0
PRODID:-//www.dnesnivylet.cz                                                                                                                        Tip na výlet pro celou rodinu. - ECPv6.15.13.1//NONSGML v1.0//EN
CALSCALE:GREGORIAN
METHOD:PUBLISH
X-ORIGINAL-URL:https://dnesnivylet.cz
X-WR-CALDESC:Akce na www.dnesnivylet.cz                                                                                                                        Tip na výlet pro celou rodinu.
REFRESH-INTERVAL;VALUE=DURATION:PT1H
X-Robots-Tag:noindex
X-PUBLISHED-TTL:PT1H
BEGIN:VTIMEZONE
TZID:Europe/Prague
BEGIN:DAYLIGHT
TZOFFSETFROM:+0100
TZOFFSETTO:+0200
TZNAME:CEST
DTSTART:20250330T010000
END:DAYLIGHT
BEGIN:STANDARD
TZOFFSETFROM:+0200
TZOFFSETTO:+0100
TZNAME:CET
DTSTART:20251026T010000
END:STANDARD
BEGIN:DAYLIGHT
TZOFFSETFROM:+0100
TZOFFSETTO:+0200
TZNAME:CEST
DTSTART:20260329T010000
END:DAYLIGHT
BEGIN:STANDARD
TZOFFSETFROM:+0200
TZOFFSETTO:+0100
TZNAME:CET
DTSTART:20261025T010000
END:STANDARD
BEGIN:DAYLIGHT
TZOFFSETFROM:+0100
TZOFFSETTO:+0200
TZNAME:CEST
DTSTART:20270328T010000
END:DAYLIGHT
BEGIN:STANDARD
TZOFFSETFROM:+0200
TZOFFSETTO:+0100
TZNAME:CET
DTSTART:20271031T010000
END:STANDARD
END:VTIMEZONE
BEGIN:VEVENT
DTSTART;TZID=Europe/Prague:20260324T180000
DTEND;TZID=Europe/Prague:20260324T210000
DTSTAMP:20260419T141310
CREATED:20251215T115608Z
LAST-MODIFIED:20251215T115608Z
UID:15571-1774375200-1774386000@dnesnivylet.cz
SUMMARY:Koncert Duo Jamaha - Hit Tour 2026 - Praha
DESCRIPTION:Koncert Duo Jamaha – Hit Tour 2026 – Praha se uskuteční dne 2026-03-24 v 18:00 v Praha\, KC Novodvorská. \n🎟️ Koupit vstupenku \n\nZveme Vás na hudebně-zábavný program pro všechny generace! \nHudební skupina DUO JAMAHA přichází s HIT Tour – koncert složený z největších hitů hudební skupiny namíchaný s humorným slovem a to i záhoráckým Stand-Up vystoupením\, o které se postará právě jeden z členů hudební skupiny. \nSkupina je známá hlavně z televizních obrazovek a rádií. Získala za prodej nosiče zlaté a platinové desky\, Oscara Smago Awards\, a jiná ocenění… přichází Vás opět zabavit a připravili si nezapomenutelný zážitek plný hudby a humoru. Přijďte si zazpívat\, odreagovat se a načerpat tu správnou energii. Na koncertě zazní rytmické melodické písně\, starší a novější hity! \nTisíce lidí a fanoušků vidělo poslední turné po České a Slovenské republice. \nTěšíme se opět na Vás! Bude to skvělá jízda! \nCena vstupenky 350\,-Kč a v den konání akce na místě 390\,-Kč. \nZačátek koncertu: 18:00 hodin. \n\nTento tip na kulturní akci v Praha najdete v přehledu na Dnesnivylet.cz spolu s dalšími koncerty\, festivaly a divadelními představeními.Každý si vybere co se mu líbí. Nezapomeňte koupit vstupenky včas\, stačí kliknout a budete přesměrování na oficiálního prodejce vstupenek.
URL:https://dnesnivylet.cz/event/koncert-duo-jamaha-hit-tour-2026-praha/
LOCATION:KC Novodvorská\, Praha\, KC Novodvorská\, Praha\, Česká republika
CATEGORIES:Koncert
ATTACH;FMTTYPE=image/jpeg:https://dnesnivylet.cz/wp-content/uploads/2025/12/320-d9fd43241a7741b1afd803351bf367e2.jpg
END:VEVENT
BEGIN:VEVENT
DTSTART;TZID=Europe/Prague:20260324T183000
DTEND;TZID=Europe/Prague:20260324T213000
DTSTAMP:20260419T141310
CREATED:20260208T144001Z
LAST-MODIFIED:20260208T144002Z
UID:17552-1774377000-1774387800@dnesnivylet.cz
SUMMARY:Slavné muzikály a filmová hudba
DESCRIPTION:Slavné muzikály a filmová hudba se uskuteční dne 2026-03-24 v 18:30 v Praha\, Barokní sál Emauzského kláštera. \n🎟️ Koupit vstupenku \n\nPřijďte si vychutnat do vytápěného barokního refektáře Emauzského kláštera nový zajímavý program plný písní ze světových muzikálů doprovázený filmovou hudbou \n. \n  \nMUSICA FESTIVA \nBronislava Smržová – soprán\, Šárka Trávníčková – housle\,                           \nGabriela Plachá – hoboj\, Petr Štěpán – kytara                                            \n. \nPROGRAM: \nCATS – A. L. WEBBER: Memory \nFANTOM OPERY – A. L. WEBBER: Think of me \nWEST SIDE STORY – L. BERNSTEIN: I feel pretty \nSNÍDANĚ U TIFFANIHO –  H. MANCINI: Moon River \nMY FAIR LADY – F. LOEWE: Chci jen někde svůj plácek mít \nPORGY A BESS – G. GERSHWIN: Summer Time         \nWEST SIDE STORY – L. BERNSTEIN: Tonight \nJESUS CHRIST SUPERSTAR – A. L. WEBBER: I don´t know how to love him        \nMISE – E. MORRICONE: Gabriel´s Oboe \nJAMES BOND – M. NORMAN: James Bond Theme \nMAMMA MIA – B. ANDERSON: I do\, I do\, I do  \nFORREST GUMP – A. SILVESTRI \nKMOTR – N. ROTA: The Godfather theme \nLÁSKA NEBESKÁ – L. ARMSTRONG: Portuguese love theme \nJAMES BOND – Adele: Skyfall \n RŮŽOVÝ PANTER – H. MANCINI: Pink Panther \nPEARL HARBOUR – H. ZIMMER: Tennessee \nDélka asi 65 minut \n\nTento tip na kulturní akci v Praha najdete v přehledu na Dnesnivylet.cz spolu s dalšími koncerty\, festivaly a divadelními představeními.Každý si vybere co se mu líbí. Nezapomeňte koupit vstupenky včas\, stačí kliknout a budete přesměrování na oficiálního prodejce vstupenek.
URL:https://dnesnivylet.cz/event/slavne-muzikaly-a-filmova-hudba/
LOCATION:Barokní sál Emauzského kláštera\, Praha\, Barokní sál Emauzského kláštera\, Praha\, Česká republika
CATEGORIES:Koncert
ATTACH;FMTTYPE=image/jpeg:https://dnesnivylet.cz/wp-content/uploads/2026/02/320-1390ba2712bd40adbbb75399999e9a88.jpg
END:VEVENT
BEGIN:VEVENT
DTSTART;TZID=Europe/Prague:20260324T190000
DTEND;TZID=Europe/Prague:20260324T220000
DTSTAMP:20260419T141310
CREATED:20260310T171741Z
LAST-MODIFIED:20260310T171741Z
UID:19341-1774378800-1774389600@dnesnivylet.cz
SUMMARY:Koncert: Ivan Hlas Trio
DESCRIPTION:Koncert: Ivan Hlas Trio se uskuteční dne 2026-03-24 v 19:00 v Humpolec\, Návštěvnické centrum Bernard. \n🎟️ Koupit vstupenku \n\nJeho písničky nás provází už spoustu let a některé doslova zlidověly. \nAť si rádi poslechnete ty známé\, nebo rádi objevujete něco nového\, tento koncert plný silných melodií\, poezie a skvělých muzikantských výkonů byste si neměli nechat ujít. \nZpěvák a autor mnoha úžasných písní u nás vystoupí s podporou dvou fenomenálních instrumentalistů\, kytaristy Norbiho Kovácse a violoncellisty Jaroslava Olina Nejezchleby.  \n\nTento tip na kulturní akci v Humpolec najdete v přehledu na Dnesnivylet.cz spolu s dalšími koncerty\, festivaly a divadelními představeními.Každý si vybere co se mu líbí. Nezapomeňte koupit vstupenky včas\, stačí kliknout a budete přesměrování na oficiálního prodejce vstupenek.
URL:https://dnesnivylet.cz/event/koncert-ivan-hlas-trio/
LOCATION:Návštěvnické centrum Bernard\, Humpolec\, Návštěvnické centrum Bernard\, Humpolec\, Česká republika
CATEGORIES:Koncert
ATTACH;FMTTYPE=image/jpeg:https://dnesnivylet.cz/wp-content/uploads/2026/03/320-bd48966f34bb487885d3a69ba3ee0be0.jpg
END:VEVENT
END:VCALENDAR