BEGIN:VCALENDAR
VERSION:2.0
PRODID:-//www.dnesnivylet.cz                                                                                                                        Tip na výlet pro celou rodinu. - ECPv6.15.13.1//NONSGML v1.0//EN
CALSCALE:GREGORIAN
METHOD:PUBLISH
X-WR-CALNAME:www.dnesnivylet.cz                                                                                                                        Tip na výlet pro celou rodinu.
X-ORIGINAL-URL:https://dnesnivylet.cz
X-WR-CALDESC:Akce na www.dnesnivylet.cz                                                                                                                        Tip na výlet pro celou rodinu.
REFRESH-INTERVAL;VALUE=DURATION:PT1H
X-Robots-Tag:noindex
X-PUBLISHED-TTL:PT1H
BEGIN:VTIMEZONE
TZID:Europe/Prague
BEGIN:DAYLIGHT
TZOFFSETFROM:+0100
TZOFFSETTO:+0200
TZNAME:CEST
DTSTART:20250330T010000
END:DAYLIGHT
BEGIN:STANDARD
TZOFFSETFROM:+0200
TZOFFSETTO:+0100
TZNAME:CET
DTSTART:20251026T010000
END:STANDARD
BEGIN:DAYLIGHT
TZOFFSETFROM:+0100
TZOFFSETTO:+0200
TZNAME:CEST
DTSTART:20260329T010000
END:DAYLIGHT
BEGIN:STANDARD
TZOFFSETFROM:+0200
TZOFFSETTO:+0100
TZNAME:CET
DTSTART:20261025T010000
END:STANDARD
BEGIN:DAYLIGHT
TZOFFSETFROM:+0100
TZOFFSETTO:+0200
TZNAME:CEST
DTSTART:20270328T010000
END:DAYLIGHT
BEGIN:STANDARD
TZOFFSETFROM:+0200
TZOFFSETTO:+0100
TZNAME:CET
DTSTART:20271031T010000
END:STANDARD
END:VTIMEZONE
BEGIN:VEVENT
DTSTART;TZID=Europe/Prague:20260328T180000
DTEND;TZID=Europe/Prague:20260328T210000
DTSTAMP:20260419T141145
CREATED:20260121T194225Z
LAST-MODIFIED:20260121T194226Z
UID:16934-1774720800-1774731600@dnesnivylet.cz
SUMMARY:ABBA REVIVAL
DESCRIPTION:ABBA REVIVAL  se uskuteční dne 2026-03-28 v 18:00 v Mělčany\, Orlovna. \n🎟️ Koupit vstupenku \n\nV Orlovně Mělčany vystoupí skvělá skupina ABBA Chiquita Revival z Olomouce\, která se specializuje na živé provedení největších hitů legendární švédské skupiny ABBA. Kapela vznikla v roce 2001 a od té doby pravidelně koncertuje na domácí i zahraniční scéně. Jejich vystoupení jsou plná energie\, skvělé hudby a nezapomenutelné atmosféry.Během večera se můžete těšit na výborné jídlo\, pití a skvělou zábavu.Představení bude trvat 2× 45 minut s pauzou. \nLístky jsou pro pohodlí k sezení\, ale prostor pro tanec bude také připraven. \n\nTento tip na kulturní akci v Mělčany najdete v přehledu na Dnesnivylet.cz spolu s dalšími koncerty\, festivaly a divadelními představeními.Každý si vybere co se mu líbí. Nezapomeňte koupit vstupenky včas\, stačí kliknout a budete přesměrování na oficiálního prodejce vstupenek.
URL:https://dnesnivylet.cz/event/abba-revival/
LOCATION:Orlovna\, Mělčany\, Orlovna\, Mělčany\, Česká republika
CATEGORIES:Koncert
ATTACH;FMTTYPE=image/jpeg:https://dnesnivylet.cz/wp-content/uploads/2026/01/320-0912ccba64ef47728a5297ad26e65492.jpg
END:VEVENT
BEGIN:VEVENT
DTSTART;TZID=Europe/Prague:20260328T183000
DTEND;TZID=Europe/Prague:20260328T213000
DTSTAMP:20260419T141145
CREATED:20251211T055034Z
LAST-MODIFIED:20251211T055034Z
UID:14693-1774722600-1774733400@dnesnivylet.cz
SUMMARY:Slavné filmové melodie a ABBA
DESCRIPTION:Slavné filmové melodie a ABBA se uskuteční dne 2026-03-28 v 18:30 v Hradec Králové\, Muzeum východních Čech. \n🎟️ Koupit vstupenku \n\nsál Muzea Východních Čech (vynikající stavba arch. Kotěry) \nSlavné filmové melodie a ABBA \nKlárovo kvarteto: \nPavel Hrda – I. housle\, Tom Klár – II. housle\, Libor Kaňka – viola\, Václav Fleissig – violoncello \n  \nPROGRAM: \nhudba z filmů a muzikálů: \nSedm statečných – Titanic – Most přes řeku Kwai – Vinnetou \nForrest Gump – Tenkrát na západě – Bodyguard – Pretty Woman \nDr.Živago – James Bond (Die another Day) \nMission Imposible – Pomáda – Hello Dolly \nABBA: \nDancing Queen – Fernando – Super Trouper \nMamma mia – Money\, money\, money \n(změna programu a účinkujících vyhrazena) \n\nTento tip na kulturní akci v Hradec Králové najdete v přehledu na Dnesnivylet.cz spolu s dalšími koncerty\, festivaly a divadelními představeními.Každý si vybere co se mu líbí. Nezapomeňte koupit vstupenky včas\, stačí kliknout a budete přesměrování na oficiálního prodejce vstupenek.
URL:https://dnesnivylet.cz/event/slavne-filmove-melodie-a-abba/
LOCATION:Muzeum východních Čech\, Hradec Králové\, Muzeum východních Čech\, Hradec Králové\, Česká republika
CATEGORIES:Koncert
ATTACH;FMTTYPE=image/jpeg:https://dnesnivylet.cz/wp-content/uploads/2025/12/320-18c0fe7e4c574d12b2d3d4ca842934b2.jpg
END:VEVENT
BEGIN:VEVENT
DTSTART;TZID=Europe/Prague:20260328T190000
DTEND;TZID=Europe/Prague:20260328T220000
DTSTAMP:20260419T141145
CREATED:20251211T071733Z
LAST-MODIFIED:20251211T071734Z
UID:14778-1774724400-1774735200@dnesnivylet.cz
SUMMARY:Petr Tomeček / Motiv lásky
DESCRIPTION:Petr Tomeček / Motiv lásky se uskuteční dne 2026-03-28 v 19:00 v Olomouc\, Reduta. \n🎟️ Koupit vstupenku \n\nPetr Tomeček / Motiv lásky \nKoncert plný zamilovaných melodií\, které pohladí duši \nNechte se unést na vlnách hudby\, která vypráví příběhy srdce.Večer Motiv lásky je oslavou všech podob nejkrásnějšího citu – něhy\, vášně\, touhy i oddanosti.Program tvoří ty nejromantičtější melodie\, které se dotýkají hloubky lidských emocí a otevírají prostor pro snění. \nV jedinečné atmosféře zazní Panova flétna\, nástroj s neobyčejně křehkým i procítěným zvukem\, jehož tóny se vznášejí jako dech lásky. Doprovod klavíru a živých smyčců umocní kouzlo okamžiku a promění koncert v nezapomenutelný zážitek plný harmonie\, krásy a emocí. \nPřijďte naslouchat hudbě\, která mluví jazykem srdce.Přijďte prožít Motiv lásky. \n\nTento tip na kulturní akci v Olomouc najdete v přehledu na Dnesnivylet.cz spolu s dalšími koncerty\, festivaly a divadelními představeními.Každý si vybere co se mu líbí. Nezapomeňte koupit vstupenky včas\, stačí kliknout a budete přesměrování na oficiálního prodejce vstupenek.
URL:https://dnesnivylet.cz/event/petr-tomecek-motiv-lasky-2/
LOCATION:Reduta\, Olomouc\, Reduta\, Olomouc\, Česká republika
CATEGORIES:Koncert
ATTACH;FMTTYPE=image/jpeg:https://dnesnivylet.cz/wp-content/uploads/2025/12/320-682721312189414197a2a736ede4b502.jpg
END:VEVENT
BEGIN:VEVENT
DTSTART;TZID=Europe/Prague:20260328T190000
DTEND;TZID=Europe/Prague:20260328T220000
DTSTAMP:20260419T141145
CREATED:20260321T195124Z
LAST-MODIFIED:20260321T195125Z
UID:19663-1774724400-1774735200@dnesnivylet.cz
SUMMARY:Charitativní Retro Ples
DESCRIPTION:Charitativní Retro Ples se uskuteční dne 2026-03-28 v 19:00 v Prostějov\, Společenský dům. \n🎟️ Koupit vstupenku \n\nCharitativní Retro Ples ve stylu 80s a 90s pod záštitou primátora. \nPřijďte podpořit dobrou věc a zároveň si užít závěr plesové sezony v oblečení z této doby. \nV ceně vstupenky je příspěvek na Barču Maťovčíkovou\, místo u stolu a welcome drink. \nDresscode společenské 80tá a 90tá léta. \n\nTento tip na kulturní akci v Prostějov najdete v přehledu na Dnesnivylet.cz spolu s dalšími koncerty\, festivaly a divadelními představeními.Každý si vybere co se mu líbí. Nezapomeňte koupit vstupenky včas\, stačí kliknout a budete přesměrování na oficiálního prodejce vstupenek.
URL:https://dnesnivylet.cz/event/charitativni-retro-ples/
LOCATION:Společenský dům\, Prostějov\, Společenský dům\, Prostějov\, Česká republika
CATEGORIES:Koncert
ATTACH;FMTTYPE=image/jpeg:https://dnesnivylet.cz/wp-content/uploads/2026/03/320-eca05d0a31694e6c8232cea7eee89c16.jpg
END:VEVENT
BEGIN:VEVENT
DTSTART;TZID=Europe/Prague:20260328T200000
DTEND;TZID=Europe/Prague:20260328T230000
DTSTAMP:20260419T141145
CREATED:20260321T195546Z
LAST-MODIFIED:20260321T195546Z
UID:19728-1774728000-1774738800@dnesnivylet.cz
SUMMARY:Monkey Business - Holky proberte se Tour 2026
DESCRIPTION:Monkey Business – Holky proberte se Tour 2026 se uskuteční dne 2026-03-28 v 20:00 v Jablunkov\, Rock Café Jablunkov. \n🎟️ Koupit vstupenku \n\nHolky proberte se…Kluci\, Vy se taky proberte… Vlastně ne\, celé je to špatně. Kdo má právo někoho hodnotit nebo mu něco zařizovat? Jediná naprosto daná věc o které se nedistkutuje\, je zajít na koncert Monkey Business  v rokáči v Jablunkově 28.3.2026.Tohle nesmíš zapomenout!!! \n\nTento tip na kulturní akci v Jablunkov najdete v přehledu na Dnesnivylet.cz spolu s dalšími koncerty\, festivaly a divadelními představeními.Každý si vybere co se mu líbí. Nezapomeňte koupit vstupenky včas\, stačí kliknout a budete přesměrování na oficiálního prodejce vstupenek.
URL:https://dnesnivylet.cz/event/monkey-business-holky-proberte-se-tour-2026/
LOCATION:Rock Café Jablunkov\, Jablunkov\, Rock Café Jablunkov\, Jablunkov\, Česká republika
CATEGORIES:Koncert
ATTACH;FMTTYPE=image/jpeg:https://dnesnivylet.cz/wp-content/uploads/2026/03/320-45c0e7ee97a14d74a3f3b5c4a9f4fe60.jpg
END:VEVENT
END:VCALENDAR