BEGIN:VCALENDAR
VERSION:2.0
PRODID:-//www.dnesnivylet.cz                                                                                                                        Tip na výlet pro celou rodinu. - ECPv6.15.13.1//NONSGML v1.0//EN
CALSCALE:GREGORIAN
METHOD:PUBLISH
X-WR-CALNAME:www.dnesnivylet.cz                                                                                                                        Tip na výlet pro celou rodinu.
X-ORIGINAL-URL:https://dnesnivylet.cz
X-WR-CALDESC:Akce na www.dnesnivylet.cz                                                                                                                        Tip na výlet pro celou rodinu.
REFRESH-INTERVAL;VALUE=DURATION:PT1H
X-Robots-Tag:noindex
X-PUBLISHED-TTL:PT1H
BEGIN:VTIMEZONE
TZID:Europe/Prague
BEGIN:DAYLIGHT
TZOFFSETFROM:+0100
TZOFFSETTO:+0200
TZNAME:CEST
DTSTART:20250330T010000
END:DAYLIGHT
BEGIN:STANDARD
TZOFFSETFROM:+0200
TZOFFSETTO:+0100
TZNAME:CET
DTSTART:20251026T010000
END:STANDARD
BEGIN:DAYLIGHT
TZOFFSETFROM:+0100
TZOFFSETTO:+0200
TZNAME:CEST
DTSTART:20260329T010000
END:DAYLIGHT
BEGIN:STANDARD
TZOFFSETFROM:+0200
TZOFFSETTO:+0100
TZNAME:CET
DTSTART:20261025T010000
END:STANDARD
BEGIN:DAYLIGHT
TZOFFSETFROM:+0100
TZOFFSETTO:+0200
TZNAME:CEST
DTSTART:20270328T010000
END:DAYLIGHT
BEGIN:STANDARD
TZOFFSETFROM:+0200
TZOFFSETTO:+0100
TZNAME:CET
DTSTART:20271031T010000
END:STANDARD
END:VTIMEZONE
BEGIN:VEVENT
DTSTART;TZID=Europe/Prague:20260409T190000
DTEND;TZID=Europe/Prague:20260409T220000
DTSTAMP:20260419T125239
CREATED:20251208T193858Z
LAST-MODIFIED:20251208T193858Z
UID:14539-1775761200-1775772000@dnesnivylet.cz
SUMMARY:Hop Trop
DESCRIPTION:Hop Trop se uskuteční dne 2026-04-09 v 19:00 v Brno\, Musilka. \n🎟️ Koupit vstupenku \n\nKoncertní vystoupení skupiny HOP TROP \nV novém představení sestaveném převážně z tvorby Ladislava Kučery\, jeho syna Roberta\, Jaroslava Lenka a Jaromíra Vondry zazní například písničky Silver Hill\, Valouny a Obchodník s deštěm. Nebudou chybět ani známé hity jako je Amazonka\, Tři kříže\, Jonatán\, a také vodácké písničky\, které vznikly spoluprací souboru se známým spisovatelem Zdeňkem Šmídem. \nSkupina HOP TROP je stálicí na scéně trampské hudby už plných 40 let\, a od svého vzniku hraje stále v původním složení. \nHOP TROP byl hodnocen na festivalech Porta nejvyššími cenami za interpretaci i autorství a v roce 1988 se stal držitelem Zlaté Porty. Za album\, vydané GZ Loděnice v roce 1990 s názvem „Hop Trop II“\, byly hudebníkům předány „ZLATÉ DESKY“\, a později „PLATINOVÉ DESKY“. Skupina HOP TROP mnohokrát vystupovala v televizních pořadech a její autorské písničky jsou denně vysílány soukromými i státními rozhlasovými stanicemi. Přijali je za své trampové\, vodáci\, a romantici se vztahem k cestování a přírodě. Některé zlidověly a jsou vyučovány v základních školách. Na svých cestách do USA a Austrálie HOP TROP vystoupeními potěšil i české a slovenské krajany. \n\nTento tip na kulturní akci v Brno najdete v přehledu na Dnesnivylet.cz spolu s dalšími koncerty\, festivaly a divadelními představeními.Každý si vybere co se mu líbí. Nezapomeňte koupit vstupenky včas\, stačí kliknout a budete přesměrování na oficiálního prodejce vstupenek.
URL:https://dnesnivylet.cz/event/hop-trop-2/
LOCATION:Musilka\, Brno\, Musilka\, Brno\, Česká republika
CATEGORIES:Koncert
ATTACH;FMTTYPE=image/jpeg:https://dnesnivylet.cz/wp-content/uploads/2025/12/320-2ddbdf19a3f947838356774bd37f788f.jpg
END:VEVENT
BEGIN:VEVENT
DTSTART;TZID=Europe/Prague:20260409T190000
DTEND;TZID=Europe/Prague:20260409T220000
DTSTAMP:20260419T125239
CREATED:20251215T161141Z
LAST-MODIFIED:20251215T161155Z
UID:15597-1775761200-1775772000@dnesnivylet.cz
SUMMARY:Hudba Bridgerton při svíčkách
DESCRIPTION:Hudba Bridgerton při svíčkách se uskuteční dne 2026-04-09 v 19:00 v Humpolec\, Divadlo Za komínem. \n🎟️ Koupit vstupenku \n\nNenechte si ujít večer plný romantiky a elegance\, kde zazní ty nejznámější melodie a písně z oblíbeného seriálu Bridgerton. Světlo stovky svíček vytvoří okouzlující atmosféru koncertu. \nProgram v jedinečném provedení smyčcového kvarteta představí výběr hudebních skladeb z tohoto populárního seriálu\, inspirovaných klasickými díly i moderními popovými melodiemi\, které si získaly srdce diváků po celém světě. \nTento koncert nabídne víc než jen hudbu; stovky svíček rozzáří prostor a vytvoří atmosféru plnou noblesy\, romantiky a neodolatelného kouzla historické doby. \nAkce je přístupná od 12 let. Každý účastník musí předložit platnou vstupenku  zakoupenou výhradně v síti smsticket. \n\nTento tip na kulturní akci v Humpolec najdete v přehledu na Dnesnivylet.cz spolu s dalšími koncerty\, festivaly a divadelními představeními.Každý si vybere co se mu líbí. Nezapomeňte koupit vstupenky včas\, stačí kliknout a budete přesměrování na oficiálního prodejce vstupenek.
URL:https://dnesnivylet.cz/event/hudba-bridgerton-pri-svickach-24/
LOCATION:Divadlo Za komínem\, Humpolec\, Divadlo Za komínem\, Humpolec\, Česká republika
CATEGORIES:Koncert
ATTACH;FMTTYPE=image/jpeg:https://dnesnivylet.cz/wp-content/uploads/2025/12/320-61f065259ae34c7599fab5fbcfcc1b4b.jpg
END:VEVENT
BEGIN:VEVENT
DTSTART;TZID=Europe/Prague:20260409T190000
DTEND;TZID=Europe/Prague:20260409T220000
DTSTAMP:20260419T125239
CREATED:20260208T144659Z
LAST-MODIFIED:20260208T144659Z
UID:17657-1775761200-1775772000@dnesnivylet.cz
SUMMARY:Adam Ďurica
DESCRIPTION:Adam Ďurica se uskuteční dne 2026-04-09 v 19:00 v Šumperk\, Dům Kultury. \n🎟️ Koupit vstupenku \n\nAdam Ďurica se po svém úspěšném koncertním debutu vrací do Šumperka. A rovnou s místními fanoušky oslaví 20 let na hudební scéně. Zazpíváte si všechny zásadní hity Naše hriechy\, Neľutujem\, Vietor\, Mandolína i Zatancuj si so mnou. \nNebude to jen obyčejný koncert s kapelou\, ale oslava všech zážitků\, které jste za ty roky s Adamem doteď prožili. \n  \n\nTento tip na kulturní akci v Šumperk najdete v přehledu na Dnesnivylet.cz spolu s dalšími koncerty\, festivaly a divadelními představeními.Každý si vybere co se mu líbí. Nezapomeňte koupit vstupenky včas\, stačí kliknout a budete přesměrování na oficiálního prodejce vstupenek.
URL:https://dnesnivylet.cz/event/adam-durica/
LOCATION:Dům Kultury\, Šumperk\, Dům Kultury\, Šumperk\, Česká republika
CATEGORIES:Koncert
ATTACH;FMTTYPE=image/jpeg:https://dnesnivylet.cz/wp-content/uploads/2026/02/320-b854cc42c6634df982219d6cf091202d.jpg
END:VEVENT
BEGIN:VEVENT
DTSTART;TZID=Europe/Prague:20260409T190000
DTEND;TZID=Europe/Prague:20260409T220000
DTSTAMP:20260419T125239
CREATED:20260314T190237Z
LAST-MODIFIED:20260314T190238Z
UID:19490-1775761200-1775772000@dnesnivylet.cz
SUMMARY:Mňága a Žďorp
DESCRIPTION:Mňága a Žďorp  se uskuteční dne 2026-04-09 v 19:00 v Brno\, První Patro. \n🎟️ Koupit vstupenku \n\nKrálové chytlavých textů a houpavých melodií MŇÁGA A ŹĎORP 9. 4. 2026 v Brně. \n\nTento tip na kulturní akci v Brno najdete v přehledu na Dnesnivylet.cz spolu s dalšími koncerty\, festivaly a divadelními představeními.Každý si vybere co se mu líbí. Nezapomeňte koupit vstupenky včas\, stačí kliknout a budete přesměrování na oficiálního prodejce vstupenek.
URL:https://dnesnivylet.cz/event/mnaga-a-zdorp-4/
LOCATION:První Patro\, Brno\, První Patro\, Brno\, Česká republika
CATEGORIES:Koncert
ATTACH;FMTTYPE=image/jpeg:https://dnesnivylet.cz/wp-content/uploads/2026/03/320-d29b51f5ced54df1abb6d97126933613.jpg
END:VEVENT
BEGIN:VEVENT
DTSTART;TZID=Europe/Prague:20260409T190000
DTEND;TZID=Europe/Prague:20260409T220000
DTSTAMP:20260419T125239
CREATED:20260405T131419Z
LAST-MODIFIED:20260405T131419Z
UID:20370-1775761200-1775772000@dnesnivylet.cz
SUMMARY:Muzikálový koktejl
DESCRIPTION:Muzikálový koktejl se uskuteční dne 2026-04-09 v 19:00 v Vrchlabí\, KD Střelnice. \n🎟️ Koupit vstupenku \n\nMuzikálový koktejl \nAnotace: Muzikálový koktejl -namícháme vám to nejlepší z českých a zahraničních muzikálů\,  hudebních filmů a seriálů. \nBěhem večera zazní: hity z muzikálů\,  hudebních filmů a seriálů od interpretů: H.Vondráčková\, K.Gott\, M.David\, H.Zagorová\, Abba a  spoustu dalších. \nV PODÁNÍ ZPĚVÁKŮ Z ČESKÉ MUZIKÁLOVÉ SCÉNY! \nJedinečná show\, která vás dlouho nenechá sedět! \ndélka představení CCA 120 minut + přestávka 15 minut \n\nTento tip na kulturní akci v Vrchlabí najdete v přehledu na Dnesnivylet.cz spolu s dalšími koncerty\, festivaly a divadelními představeními.Každý si vybere co se mu líbí. Nezapomeňte koupit vstupenky včas\, stačí kliknout a budete přesměrování na oficiálního prodejce vstupenek.
URL:https://dnesnivylet.cz/event/muzikalovy-koktejl-5/
LOCATION:KD Střelnice\, Vrchlabí\, KD Střelnice\, Vrchlabí\, Česká republika
CATEGORIES:Koncert
ATTACH;FMTTYPE=image/jpeg:https://dnesnivylet.cz/wp-content/uploads/2026/04/320-e610b038cc3f42d48989d798448b6a55.jpg
END:VEVENT
BEGIN:VEVENT
DTSTART;TZID=Europe/Prague:20260409T200000
DTEND;TZID=Europe/Prague:20260409T230000
DTSTAMP:20260419T125239
CREATED:20260314T190438Z
LAST-MODIFIED:20260314T190438Z
UID:19535-1775764800-1775775600@dnesnivylet.cz
SUMMARY:Fast Food Orchestra & Heľenine oči
DESCRIPTION:Fast Food Orchestra & Heľenine oči se uskuteční dne 2026-04-09 v 20:00 v Brno\, Fléda. \n🎟️ Koupit vstupenku \n\nSpolečný koncert oblíbených ansámblů Fast Food Orchestra a Heľenine oči\, které skvěle míchají ska\, reggae\, rock i pop. \n  \nFast Food Orchestra: \nJeště než letní festivaly otevřou své brány\, vyrazíme s naším bistrem do vašich měst. Čeká nás šest zastávek pohody\, dobré nálady\, ale samozřejmě i pořádné porce energie. Chystáme našláplý program se zbrusu novým vizuálem a takovou show\, že se parket bude topit v tratolišti potu. \nMáme radost\, že se s vámi můžeme znovu potkat naživo v Brně na Flédě. Tentokrát to ale bude speciální společný koncert\, na který jsme si pozvali kamarády z energické slovenské kapely Helenine oči\, takže se rozhodně máte na co těšit. Dvě kapely\, jedna energie a večer\, který si společně užijeme naplno. \nProtože to VIDÍME RŮŽOVĚ\, nemůže to dopadnout špatně. Zahrajeme hromadu starých provařených fláků\, ale nebude chybět ani poslední singl Přidej plyn\, který startuje novou éru ještě šílenějšího kabaretu. \nVšechny smutky a strasti společně utopíme v záři neónů a radosti. Přijďte si k nám pro kalorickou porci energie a přineste nám kus té své. Ať to zase v dalším roce táhneme dál. \nTahle hostina bude legendární! \n\nTento tip na kulturní akci v Brno najdete v přehledu na Dnesnivylet.cz spolu s dalšími koncerty\, festivaly a divadelními představeními.Každý si vybere co se mu líbí. Nezapomeňte koupit vstupenky včas\, stačí kliknout a budete přesměrování na oficiálního prodejce vstupenek.
URL:https://dnesnivylet.cz/event/fast-food-orchestra-helenine-oci/
LOCATION:Fléda\, Brno\, Fléda\, Brno\, Česká republika
CATEGORIES:Koncert
ATTACH;FMTTYPE=image/jpeg:https://dnesnivylet.cz/wp-content/uploads/2026/03/320-ffccde506cd6466b9574cc25ea24ec23.jpg
END:VEVENT
END:VCALENDAR