BEGIN:VCALENDAR
VERSION:2.0
PRODID:-//www.dnesnivylet.cz                                                                                                                        Tip na výlet pro celou rodinu. - ECPv6.15.13.1//NONSGML v1.0//EN
CALSCALE:GREGORIAN
METHOD:PUBLISH
X-WR-CALNAME:www.dnesnivylet.cz                                                                                                                        Tip na výlet pro celou rodinu.
X-ORIGINAL-URL:https://dnesnivylet.cz
X-WR-CALDESC:Akce na www.dnesnivylet.cz                                                                                                                        Tip na výlet pro celou rodinu.
REFRESH-INTERVAL;VALUE=DURATION:PT1H
X-Robots-Tag:noindex
X-PUBLISHED-TTL:PT1H
BEGIN:VTIMEZONE
TZID:Europe/Prague
BEGIN:DAYLIGHT
TZOFFSETFROM:+0100
TZOFFSETTO:+0200
TZNAME:CEST
DTSTART:20250330T010000
END:DAYLIGHT
BEGIN:STANDARD
TZOFFSETFROM:+0200
TZOFFSETTO:+0100
TZNAME:CET
DTSTART:20251026T010000
END:STANDARD
BEGIN:DAYLIGHT
TZOFFSETFROM:+0100
TZOFFSETTO:+0200
TZNAME:CEST
DTSTART:20260329T010000
END:DAYLIGHT
BEGIN:STANDARD
TZOFFSETFROM:+0200
TZOFFSETTO:+0100
TZNAME:CET
DTSTART:20261025T010000
END:STANDARD
BEGIN:DAYLIGHT
TZOFFSETFROM:+0100
TZOFFSETTO:+0200
TZNAME:CEST
DTSTART:20270328T010000
END:DAYLIGHT
BEGIN:STANDARD
TZOFFSETFROM:+0200
TZOFFSETTO:+0100
TZNAME:CET
DTSTART:20271031T010000
END:STANDARD
END:VTIMEZONE
BEGIN:VEVENT
DTSTART;TZID=Europe/Prague:20260421T180000
DTEND;TZID=Europe/Prague:20260421T210000
DTSTAMP:20260419T125146
CREATED:20260405T131417Z
LAST-MODIFIED:20260405T131417Z
UID:20357-1776794400-1776805200@dnesnivylet.cz
SUMMARY:Felix Slováček a Tereza Mátlová
DESCRIPTION:Felix Slováček a Tereza Mátlová se uskuteční dne 2026-04-21 v 18:00 v Chropyně\, Městské kulturní středisko. \n🎟️ Koupit vstupenku \n\nSrdečně vás zveme na výjimečný koncert\, ve kterém se představí legendární český saxofonista\, klarinetista a dirigent Felix Slováček společně s vynikající sopranistkou Terezou Mátlovou.Těšit se můžete na nezapomenutelný hudební večer plný emocí\, krásných melodií a mimořádné atmosféry. \nBěhem koncertu zazní slavné české a světové skladby\, populární melodie i romantické písně\, které potěší milovníky kvalitní hudby všech generací. Felix Slováček přinese svůj nezaměnitelný hudební šarm a Tereza Mátlová koncert obohatí svým elegantním hlasem a osobitým projevem. \nPřijďte si užít kulturní událost\, která bude skutečným zážitkem. \n\nTento tip na kulturní akci v Chropyně najdete v přehledu na Dnesnivylet.cz spolu s dalšími koncerty\, festivaly a divadelními představeními.Každý si vybere co se mu líbí. Nezapomeňte koupit vstupenky včas\, stačí kliknout a budete přesměrování na oficiálního prodejce vstupenek.
URL:https://dnesnivylet.cz/event/felix-slovacek-a-tereza-matlova/
LOCATION:Městské kulturní středisko\, Chropyně\, Městské kulturní středisko\, Chropyně\, Česká republika
CATEGORIES:Koncert
ATTACH;FMTTYPE=image/jpeg:https://dnesnivylet.cz/wp-content/uploads/2026/04/320-3b5a53dad73843a9b66adba19ece58ae.jpg
END:VEVENT
BEGIN:VEVENT
DTSTART;TZID=Europe/Prague:20260421T190000
DTEND;TZID=Europe/Prague:20260421T220000
DTSTAMP:20260419T125146
CREATED:20260405T131152Z
LAST-MODIFIED:20260405T131153Z
UID:20325-1776798000-1776808800@dnesnivylet.cz
SUMMARY:Nezmaři
DESCRIPTION:Nezmaři se uskuteční dne 2026-04-21 v 19:00 v Šumperk\, Dům kultury. \n🎟️ Koupit vstupenku \n\nKultovní folková kapela Nezmaři je téměř 5 desetiletí stálicí na našich koncertních\, klubových a festivalových scénách. Propojení jejího vlídného písňového poselství s nezaměnitelným pódiovým humorem přináší posluchačům ojedinělý umělecko-člověčí prožitek. \nBěhem své kariéry skupina získala všechna možná ocenění\, která se v tomto žánru udělují – Porta\, Zlatá Porta\, Zlatý klíč pro nejlepší skupinu a další. Koncertem se ohlédneme do minulosti\, zazní nejen osvědčené hity (Ráno bylo stejný\, Bodláky ve vlasech\, Písek\, Musíš jít dál\, Hej člověče boží)\, ale i písničky ze současného období (Kdo si zpívá\, Růže\, Co je dobré\, Jsi všude kolem). \n\nTento tip na kulturní akci v Šumperk najdete v přehledu na Dnesnivylet.cz spolu s dalšími koncerty\, festivaly a divadelními představeními.Každý si vybere co se mu líbí. Nezapomeňte koupit vstupenky včas\, stačí kliknout a budete přesměrování na oficiálního prodejce vstupenek.
URL:https://dnesnivylet.cz/event/nezmari-5/
LOCATION:Dům Kultury\, Šumperk\, Dům Kultury\, Šumperk\, Česká republika
CATEGORIES:Koncert
ATTACH;FMTTYPE=image/jpeg:https://dnesnivylet.cz/wp-content/uploads/2026/04/320-74db45b8586f4890b65e295d3776fb7c.jpg
END:VEVENT
END:VCALENDAR