BEGIN:VCALENDAR
VERSION:2.0
PRODID:-//www.dnesnivylet.cz                                                                                                                        Tip na výlet pro celou rodinu. - ECPv6.15.13.1//NONSGML v1.0//EN
CALSCALE:GREGORIAN
METHOD:PUBLISH
X-WR-CALNAME:www.dnesnivylet.cz                                                                                                                        Tip na výlet pro celou rodinu.
X-ORIGINAL-URL:https://dnesnivylet.cz
X-WR-CALDESC:Akce na www.dnesnivylet.cz                                                                                                                        Tip na výlet pro celou rodinu.
REFRESH-INTERVAL;VALUE=DURATION:PT1H
X-Robots-Tag:noindex
X-PUBLISHED-TTL:PT1H
BEGIN:VTIMEZONE
TZID:Europe/Prague
BEGIN:DAYLIGHT
TZOFFSETFROM:+0100
TZOFFSETTO:+0200
TZNAME:CEST
DTSTART:20250330T010000
END:DAYLIGHT
BEGIN:STANDARD
TZOFFSETFROM:+0200
TZOFFSETTO:+0100
TZNAME:CET
DTSTART:20251026T010000
END:STANDARD
BEGIN:DAYLIGHT
TZOFFSETFROM:+0100
TZOFFSETTO:+0200
TZNAME:CEST
DTSTART:20260329T010000
END:DAYLIGHT
BEGIN:STANDARD
TZOFFSETFROM:+0200
TZOFFSETTO:+0100
TZNAME:CET
DTSTART:20261025T010000
END:STANDARD
BEGIN:DAYLIGHT
TZOFFSETFROM:+0100
TZOFFSETTO:+0200
TZNAME:CEST
DTSTART:20270328T010000
END:DAYLIGHT
BEGIN:STANDARD
TZOFFSETFROM:+0200
TZOFFSETTO:+0100
TZNAME:CET
DTSTART:20271031T010000
END:STANDARD
END:VTIMEZONE
BEGIN:VEVENT
DTSTART;TZID=Europe/Prague:20260501T190000
DTEND;TZID=Europe/Prague:20260501T220000
DTSTAMP:20260419T125240
CREATED:20260208T143400Z
LAST-MODIFIED:20260208T143401Z
UID:17471-1777662000-1777672800@dnesnivylet.cz
SUMMARY:Ellaboration - Dasha & Epoque Quartet
DESCRIPTION:Ellaboration – Dasha & Epoque Quartet se uskuteční dne 2026-05-01 v 19:00 v Brno\, KC Semilasso. \n🎟️ Koupit vstupenku \n\nEllaboration je název nového projektu zpěvačky Dashy a uskupení Epoque Quartet\, odkazující k americké hudební legendě Elle Fitzgerald. Právě písně proslavené touto jazzovou ikonou jsou materiálem\, který je zde rozváděn neboli elaborován do nových neotřelých poloh. Specifický a úžasně komplexní zvuk spojení smyčcového kvarteta s nejrůznějšími perkusemi (hangdrum\, vibrafon\, cajon)\, u nichž exceluje Šimon Veselý\, dává prostor naší přední zpěvačce Dashe předvést svou výjimečnost na trochu jiném poli\, než jsme zvyklí. Autorem většiny úprav je aranžérský mág Alexej Aslamas. \n\nTento tip na kulturní akci v Brno najdete v přehledu na Dnesnivylet.cz spolu s dalšími koncerty\, festivaly a divadelními představeními.Každý si vybere co se mu líbí. Nezapomeňte koupit vstupenky včas\, stačí kliknout a budete přesměrování na oficiálního prodejce vstupenek.
URL:https://dnesnivylet.cz/event/ellaboration-dasha-epoque-quartet-4/
LOCATION:KC Semilasso\, Brno\, KC Semilasso\, Brno\, Česká republika
CATEGORIES:Koncert
ATTACH;FMTTYPE=image/jpeg:https://dnesnivylet.cz/wp-content/uploads/2026/02/320-b09cfbef65b04a07a5ad6b84084b4a0e.jpg
END:VEVENT
BEGIN:VEVENT
DTSTART;TZID=Europe/Prague:20260501T203000
DTEND;TZID=Europe/Prague:20260501T233000
DTSTAMP:20260419T125240
CREATED:20260306T172607Z
LAST-MODIFIED:20260306T172607Z
UID:19055-1777667400-1777678200@dnesnivylet.cz
SUMMARY:ABA JAGA
DESCRIPTION:ABA JAGA se uskuteční dne 2026-05-01 v 20:30 v Kroměříž\, Stará masna. \n🎟️ Koupit vstupenku \n\nPrvní česká HeavyPopDiscoMetalová\, playbacková\, ale hlavně antisystémová „ZÁVADOVÁ“ a dalo by se říct „angažovaná“ kapela. \n\nTento tip na kulturní akci v Kroměříž najdete v přehledu na Dnesnivylet.cz spolu s dalšími koncerty\, festivaly a divadelními představeními.Každý si vybere co se mu líbí. Nezapomeňte koupit vstupenky včas\, stačí kliknout a budete přesměrování na oficiálního prodejce vstupenek.
URL:https://dnesnivylet.cz/event/aba-jaga/
LOCATION:Stará masna\, Kroměříž\, Stará masna\, Kroměříž\, Česká republika
CATEGORIES:Koncert
ATTACH;FMTTYPE=image/jpeg:https://dnesnivylet.cz/wp-content/uploads/2026/03/320-6a330243315347478aef2220caeb5229.jpg
END:VEVENT
END:VCALENDAR