BEGIN:VCALENDAR
VERSION:2.0
PRODID:-//www.dnesnivylet.cz                                                                                                                        Tip na výlet pro celou rodinu. - ECPv6.15.13.1//NONSGML v1.0//EN
CALSCALE:GREGORIAN
METHOD:PUBLISH
X-WR-CALNAME:www.dnesnivylet.cz                                                                                                                        Tip na výlet pro celou rodinu.
X-ORIGINAL-URL:https://dnesnivylet.cz
X-WR-CALDESC:Akce na www.dnesnivylet.cz                                                                                                                        Tip na výlet pro celou rodinu.
REFRESH-INTERVAL;VALUE=DURATION:PT1H
X-Robots-Tag:noindex
X-PUBLISHED-TTL:PT1H
BEGIN:VTIMEZONE
TZID:Europe/Prague
BEGIN:DAYLIGHT
TZOFFSETFROM:+0100
TZOFFSETTO:+0200
TZNAME:CEST
DTSTART:20250330T010000
END:DAYLIGHT
BEGIN:STANDARD
TZOFFSETFROM:+0200
TZOFFSETTO:+0100
TZNAME:CET
DTSTART:20251026T010000
END:STANDARD
BEGIN:DAYLIGHT
TZOFFSETFROM:+0100
TZOFFSETTO:+0200
TZNAME:CEST
DTSTART:20260329T010000
END:DAYLIGHT
BEGIN:STANDARD
TZOFFSETFROM:+0200
TZOFFSETTO:+0100
TZNAME:CET
DTSTART:20261025T010000
END:STANDARD
BEGIN:DAYLIGHT
TZOFFSETFROM:+0100
TZOFFSETTO:+0200
TZNAME:CEST
DTSTART:20270328T010000
END:DAYLIGHT
BEGIN:STANDARD
TZOFFSETFROM:+0200
TZOFFSETTO:+0100
TZNAME:CET
DTSTART:20271031T010000
END:STANDARD
BEGIN:DAYLIGHT
TZOFFSETFROM:+0100
TZOFFSETTO:+0200
TZNAME:CEST
DTSTART:20280326T010000
END:DAYLIGHT
BEGIN:STANDARD
TZOFFSETFROM:+0200
TZOFFSETTO:+0100
TZNAME:CET
DTSTART:20281029T010000
END:STANDARD
BEGIN:DAYLIGHT
TZOFFSETFROM:+0100
TZOFFSETTO:+0200
TZNAME:CEST
DTSTART:20290325T010000
END:DAYLIGHT
BEGIN:STANDARD
TZOFFSETFROM:+0200
TZOFFSETTO:+0100
TZNAME:CET
DTSTART:20291028T010000
END:STANDARD
BEGIN:DAYLIGHT
TZOFFSETFROM:+0100
TZOFFSETTO:+0200
TZNAME:CEST
DTSTART:20300331T010000
END:DAYLIGHT
BEGIN:STANDARD
TZOFFSETFROM:+0200
TZOFFSETTO:+0100
TZNAME:CET
DTSTART:20301027T010000
END:STANDARD
BEGIN:DAYLIGHT
TZOFFSETFROM:+0100
TZOFFSETTO:+0200
TZNAME:CEST
DTSTART:20310330T010000
END:DAYLIGHT
BEGIN:STANDARD
TZOFFSETFROM:+0200
TZOFFSETTO:+0100
TZNAME:CET
DTSTART:20311026T010000
END:STANDARD
BEGIN:DAYLIGHT
TZOFFSETFROM:+0100
TZOFFSETTO:+0200
TZNAME:CEST
DTSTART:20320328T010000
END:DAYLIGHT
BEGIN:STANDARD
TZOFFSETFROM:+0200
TZOFFSETTO:+0100
TZNAME:CET
DTSTART:20321031T010000
END:STANDARD
END:VTIMEZONE
BEGIN:VEVENT
DTSTART;TZID=Europe/Prague:20261213T180000
DTEND;TZID=Europe/Prague:20261213T210000
DTSTAMP:20260420T022554
CREATED:20260211T113553Z
LAST-MODIFIED:20260211T113553Z
UID:17967-1797184800-1797195600@dnesnivylet.cz
SUMMARY:Hvězdy Vánoc V. na Žofíně vánoční galakoncert
DESCRIPTION:Hvězdy Vánoc V. na Žofíně vánoční galakoncert se uskuteční dne 2026-12-13 v 18:00 v Praha\, Palác Žofín. \n🎟️ Koupit vstupenku \n\nVánoční galakoncert „HVĚZDY VÁNOC“ V. na ŽOFÍNĚ s hvězdným obsazením! Nadechněte se vánoční atmosféry: slavné klasické melodie\, písně\, árie a koledy v podání hvězd.  \n\nHvězdní hosté\nOrchestr Karla Vlacha\nDětský pěvecký sbor\n\nzpěvačka Bára Basikovázpěvačka Věra Martinovázpěvák Petr Kotvaldzpěvák David Deylzpěvák Jan Bendigzpěvačka Olinka Rumlovázpěvák Nikolas Put a další…. \nVečerem provedou Monika Trávníčková a Pavel Trávníček. \n  \nVIP místa u stolečků s vínem. \n  \n  \n\nTento tip na kulturní akci v Praha najdete v přehledu na Dnesnivylet.cz spolu s dalšími koncerty\, festivaly a divadelními představeními.Každý si vybere co se mu líbí. Nezapomeňte koupit vstupenky včas\, stačí kliknout a budete přesměrování na oficiálního prodejce vstupenek.
URL:https://dnesnivylet.cz/event/hvezdy-vanoc-v-na-zofine-vanocni-galakoncert/
LOCATION:Palác Žofín\, Praha\, Palác Žofín\, Praha\, Česká republika
CATEGORIES:Koncert
ATTACH;FMTTYPE=image/jpeg:https://dnesnivylet.cz/wp-content/uploads/2026/02/320-dae0da7a9ba84e16afa4a97d2756c09f.jpg
END:VEVENT
BEGIN:VEVENT
DTSTART;TZID=Europe/Prague:20261215T190000
DTEND;TZID=Europe/Prague:20261215T220000
DTSTAMP:20260420T022554
CREATED:20260419T123602Z
LAST-MODIFIED:20260419T123602Z
UID:21051-1797361200-1797372000@dnesnivylet.cz
SUMMARY:Petr Tomeček / Vánoce 2026 v Karlových Varech
DESCRIPTION:Petr Tomeček / Vánoce 2026 v Karlových Varech se uskuteční dne 2026-12-15 v 19:00 v Karlovy Vary\, Císařské lázně. \n🎟️ Koupit vstupenku \n\nDovolujeme si Vás pozvat na výjimečný vánoční večer\, který se odehraje v jednom z nejkrásnějších a nejreprezentativnějších měst Evropy. \nPetr Tomeček / Vánoce 2026 v Karlových Varech je slavnostní koncert\, jenž propojí kouzlo Vánoc s noblesou světoznámého lázeňského města\, jehož elegance\, klid a nadčasová krása vytvářejí dokonalou kulisu pro mimořádný kulturní zážitek. \nKarlovy Vary – město tradic\, umění a vytříbeného vkusu – se stanou dějištěm exkluzivní vánoční show\, která dalece přesahuje rámec běžného koncertu. Večer bude oslavou hudby\, emocí a sváteční atmosféry v té nejvyšší kvalitě. \nHlavním hudebním nástrojem koncertu bude Panova flétna – výjimečný a podmanivý nástroj s jemným\, hřejivým tónem\, který v sobě nese klid\, hloubku a duchovní rozměr. Její zvuk se v tomto programu stává symbolem Vánoc – čistým\, meditativním a zároveň silně emotivním. \nPetr Tomeček vystoupí za doprovodu živého orchestru a kapely\, čímž vznikne bohatý a slavnostní hudební celek. Program dále obohatí dětský pěvecký sbor\, jehož hlasy vnesou do večera nevinnost a kouzlo svátečních tradic\, spolu s moderními tanečníky a baletem\, kteří dodají koncertu eleganci\, lehkost a vizuální působivost. \nZazní světové i české vánoční melodie a hity\, sváteční skladby v moderních\, originálních aranžmá\, vytvořených speciálně pro tento projekt. Hudba se zde propojí s pohybem\, prostorem a atmosférou lázeňského města v harmonický celek\, který osloví všechny smysly. \nTento koncert je určen publiku\, které vyhledává výjimečné kulturní události\, vysokou uměleckou úroveň a neopakovatelný zážitek. Vyšší cena vstupenky tak reflektuje rozsah účinkujících\, špičkovou produkci i jedinečnost večera\, jenž se stane důstojnou součástí vánoční tradice Karlových Varů. \nProžijte Vánoce 2026 v duchu klidu\, elegance a hudby\, která hladí duši.V prostředí\, kde se čas zpomaluje a sváteční okamžiky získávají skutečnou hloubku. \n\nTento tip na kulturní akci v Karlovy Vary najdete v přehledu na Dnesnivylet.cz spolu s dalšími koncerty\, festivaly a divadelními představeními.Každý si vybere co se mu líbí. Nezapomeňte koupit vstupenky včas\, stačí kliknout a budete přesměrování na oficiálního prodejce vstupenek.
URL:https://dnesnivylet.cz/event/petr-tomecek-vanoce-2026-v-karlovych-varech/
LOCATION:Císařské lázně\, Karlovy Vary\, Císařské lázně\, Karlovy Vary\, Česká republika
CATEGORIES:Koncert
ATTACH;FMTTYPE=image/jpeg:https://dnesnivylet.cz/wp-content/uploads/2026/04/320-e6c24311ce804b1db5534a73ba857fcb.jpg
END:VEVENT
BEGIN:VEVENT
DTSTART;TZID=Europe/Prague:20261220T190000
DTEND;TZID=Europe/Prague:20261220T220000
DTSTAMP:20260420T022554
CREATED:20260419T123602Z
LAST-MODIFIED:20260419T123602Z
UID:21048-1797793200-1797804000@dnesnivylet.cz
SUMMARY:Petr Tomeček / Vánoce 2026 v GONGU
DESCRIPTION:Petr Tomeček / Vánoce 2026 v GONGU se uskuteční dne 2026-12-20 v 19:00 v Ostrava\, Multifunkční aula Gong. \n🎟️ Koupit vstupenku \n\nPETR TOMEČEK / VÁNOCE 2026Slavnostní vánoční koncert\, který se zapíše do paměti i srdcí \nV jediném zimním večeru\, kdy se Ostrava zahalí do svátečního ticha a světla adventu\, se multifunkční aula GONG promění v místo\, kde se potká krása\, emoce a návrat domů. \nPo úspěšné sérii vánočních koncertů se Petr Tomeček\, světově uznávaný virtuóz na výjimečný a u nás zřídka slyšený nástroj Panovu flétnu\, vrací tam\, kde jeho hudební cesta začala – do své domoviny a studentského města Ostravy. Tento návrat bude velkolepý\, slavnostní a jedinečný. A především: neopakovatelný. \nKoncert pro 1 500 diváků se stane vyvrcholením celé vánoční koncertní série a nabídne zážitek\, který dalece přesahuje běžný koncertní večer. Petr Tomeček vystoupí za doprovodu živého orchestru a kapely\, na pódiu se představí dětský sbor\, tanečníci i klasický balet. Hudba\, pohyb a obraz se spojí v harmonický celek\, který vtáhne publikum od prvního tónu až po poslední doznívající dech flétny. \nZazní světové i české vánoční melodie a hity\, sváteční skladby v moderních a citlivých aranžích i originální hudba\, která vás obejme\, zastaví čas a bude ve vás rezonovat ještě dlouho po návratu domů. Tento večer nebude jen o Vánocích — bude o vzpomínkách\, emocích a sdíleném tichu mezi tóny. \nVysoká umělecká úroveň\, mimořádné obsazení\, špičková produkce a slavnostní atmosféra činí z koncertu Petr Tomeček / Vánoce 2026 událost\, která se nestává každý rok — a pro mnohé možná ani jednou za život. Cena vstupenky není nákladem\, ale investicí do silného kulturního zážitku\, který má sílu stát se osobní vánoční tradicí. \nDovolte si darovat sobě i svým blízkým večer\, na který se bude vzpomínat s dojetím.Buďte u toho. Protože některé okamžiky se prostě musí prožít naživo. \n\nTento tip na kulturní akci v Ostrava najdete v přehledu na Dnesnivylet.cz spolu s dalšími koncerty\, festivaly a divadelními představeními.Každý si vybere co se mu líbí. Nezapomeňte koupit vstupenky včas\, stačí kliknout a budete přesměrování na oficiálního prodejce vstupenek.
URL:https://dnesnivylet.cz/event/petr-tomecek-vanoce-2026-v-gongu/
LOCATION:Multifunkční aula Gong\, Ostrava\, Multifunkční aula Gong\, Ostrava\, Česká republika
CATEGORIES:Koncert
ATTACH;FMTTYPE=image/jpeg:https://dnesnivylet.cz/wp-content/uploads/2026/04/320-9de56c88faf24aef867025ee4a868c80.jpg
END:VEVENT
BEGIN:VEVENT
DTSTART;TZID=Europe/Prague:20270515T190000
DTEND;TZID=Europe/Prague:20270515T220000
DTSTAMP:20260420T022554
CREATED:20260405T130444Z
LAST-MODIFIED:20260405T130445Z
UID:20237-1810407600-1810418400@dnesnivylet.cz
SUMMARY:RICCHI E POVERI 2027
DESCRIPTION:RICCHI E POVERI 2027 se uskuteční dne 2027-05-15 v 19:00 v Praha\, Kongresové centrum. \n🎟️ Koupit vstupenku \n\nLegenda italské popové hudby se vrací do Prahy! \nRicchi e Poveri – ikonická skupina\, která definovala éru italského popu a roztančila celý svět – se vrací do Prahy po beznadějně vyprodaném koncertu v tomto roce! \nObrovský zájem fanoušků a vyprodaný sál potvrdily\, že jejich hity mají stále neuvěřitelnou sílu. Nyní dostáváte další příležitost zažít jejich jedinečnou energii naživo. \nTěšit se můžete na nesmrtelné hity jako Sarà perché ti amo\, Mamma Maria\, Che sarà\, Felicità a mnoho dalších písní\, které spojují generace a patří k tomu nejlepšímu\, co italská hudba nabídla. \nKoncert nabídne výjimečnou atmosféru plnou radosti\, emocí a typického italského temperamentu – večer\, který vás přenese přímo do slunné Itálie. \n  \n📅 15. 05. 2027 \n📍 Kongresové centrum Praha \n\nTento tip na kulturní akci v Praha najdete v přehledu na Dnesnivylet.cz spolu s dalšími koncerty\, festivaly a divadelními představeními.Každý si vybere co se mu líbí. Nezapomeňte koupit vstupenky včas\, stačí kliknout a budete přesměrování na oficiálního prodejce vstupenek.
URL:https://dnesnivylet.cz/event/ricchi-e-poveri-2027/
LOCATION:Kongresové centrum\, Praha\, Kongresové centrum\, Praha\, Česká republika
CATEGORIES:Koncert
ATTACH;FMTTYPE=image/jpeg:https://dnesnivylet.cz/wp-content/uploads/2026/04/320-3e8f15ff12244183b0699990fec35136.jpg
END:VEVENT
BEGIN:VEVENT
DTSTART;TZID=Europe/Prague:20270618T190000
DTEND;TZID=Europe/Prague:20270618T220000
DTSTAMP:20260420T022554
CREATED:20260321T195240Z
LAST-MODIFIED:20260321T195240Z
UID:19675-1813345200-1813356000@dnesnivylet.cz
SUMMARY:Discopříběh 40 let - Plzeň se vrací do osmdesátek!
DESCRIPTION:Discopříběh 40 let – Plzeň se vrací do osmdesátek! se uskuteční dne 2027-06-18 v 19:00 v Plzeň\, Lochotínský amfiteátr Plzeň. \n🎟️ Koupit vstupenku \n\nDiscopříběh 40 let – Plzeň se vrací do osmdesátek!  \nPrvní vlna vstupenek za zvýhodněnou cenu je téměř vyprodaná. Zbývá omezený počet lístků. \nPlzeň\, 18. června 2027 – Legendární film Discopříběh oslaví v roce 2027 neuvěřitelných 40 let od své premiéry. Toto výročí připomene velkolepá show v plzeňském amfiteátru Lochotín\, kde se před čtyřmi dekádami konala i původní předpremiéra. Tehdy se přišlo podívat přes 20 000 diváků – a podobnou atmosféru má nyní šanci znovu zažít jak tehdejší\, tak i nová generace fanoušků. \nHudba\, film a setkání s legendami \nVečer nabídne speciální koncert Michala Davida & kapely Kvatro\, kteří pouze pro tuto příležitost připravili unikátní show složenou výhradně z písní filmu Discopříběh – v původních i nových aranžích\, jaké jinde neuslyšíte. \nProgram doplní projekce filmu Discopříběh pod širým nebem. \nMůžete se těšit na setkání s představiteli hlavních i vedlejších rolí a dalšími tvůrci. \nProgram začne v 19:00 a potrvá až do pozdních večerních hodin. \n„Discopříběh je srdcovou záležitostí Plzně i celé jedné generace. Chceme lidem vrátit tu neopakovatelnou atmosféru osmdesátých let – s hudbou\, která stále spojuje\,“ říká producent a režisér projektu ze společnosti JARO EVENT. \n„Budeme rádi\, když návštěvníci dorazí v oblečení ve stylu 80. let a společně vytvoříme autentickou atmosféru doby\, která Discopříběh zrodila.“ \nPlzeň jako kolébka fenoménu \nFilm Discopříběh se natáčel přímo v Plzni a okamžitě se stal fenoménem. Hudba v podání Michala Davida\, texty Eduarda Pergnera\, příběh o mladické lásce a životě na sídlišti i autentické prostředí města vytvořily kombinaci\, která si získala diváky napříč generacemi. \nDnes patří Discopříběh mezi kultovní české filmy\, jeho písně znějí na každé osmdesátkové párty a po čtyřiceti letech se znovu vrací tam\, kde všechno začalo – do Plzně. \nKultura\, nostalgie i charitativní přesah \nSoučástí projektu bude také dobročinný rozměr – část výtěžku bude věnována Nadaci Anežka.  \nVstupenky a doprovodný program \nNávštěvníci se mohou těšit na autogramiádu herců\, fotostěnu s motivy filmu\, tematický merchandising – tedy originální suvenýry a upomínkové předměty inspirované filmem\, dobové občerstvení a afterparty s DJs v centru města po skončení hlavního programu. \nTermín: 18. června 2027Místo: Amfiteátr Lochotín\, PlzeňPořadatel: JARO EVENT s.r.o.Hudba: Michal David & kapela Kvatro \nFoto: Miloš Schmiedberger \n\nTento tip na kulturní akci v Plzeň najdete v přehledu na Dnesnivylet.cz spolu s dalšími koncerty\, festivaly a divadelními představeními.Každý si vybere co se mu líbí. Nezapomeňte koupit vstupenky včas\, stačí kliknout a budete přesměrování na oficiálního prodejce vstupenek.
URL:https://dnesnivylet.cz/event/discopribeh-40-let-plzen-se-vraci-do-osmdesatek/
LOCATION:Lochotínský amfiteátr Plzeň\, Plzeň\, Lochotínský amfiteátr Plzeň\, Plzeň\, Česká republika
CATEGORIES:Koncert
ATTACH;FMTTYPE=image/jpeg:https://dnesnivylet.cz/wp-content/uploads/2026/03/320-ce16c75b1ad04a4b8fc20feb237a16b1.jpg
END:VEVENT
BEGIN:VEVENT
DTSTART;TZID=Europe/Prague:20310611T150000
DTEND;TZID=Europe/Prague:20310611T180000
DTSTAMP:20260420T022554
CREATED:20251020T062909Z
LAST-MODIFIED:20251020T062909Z
UID:7784-1938956400-1938967200@dnesnivylet.cz
SUMMARY:Festival v Parku - test
DESCRIPTION:Festival v Parku – test se uskuteční dne 2031-06-11 v 15:00 v Brno\, Park Lužánky. \n🎟️ Koupit vstupenku \n\nDen\, naplněný až po okraj hudbou\, divadlem a hrami. \nKupte si vstupenky za super cenu na největší festival v parku v historii Brna. \n  \nPořadatelé\, přátelé\, pozor prosím\, čtěte!!! \n„Festival v Parku“ je jen ukázková akce\, která je dlouhodobě nasazená v smsticketu a slouží pouze k testování nákupů vstupenek. Není jasné\, zda se festival uskuteční\, ale člověk nikdy neví 🙂 \nNa „Festivalu v Parku“ ukazujeme našim zákazníkům – pořadatelům\, jak jednoduše mohou zahájit předprodej vstupenek na své kulturní\, společenské a sportovní akce. Můžete zde otestovat\, jak snadné je u nás koupit vstupenku. Pokud si nás chcete jen vyzkoušet\, vyberte si vstupenku zdarma a nebudete nic platit. \nVstupenka vám příjde na zadaný email. Uvidíte\, že je digitálně podepsaná\, uvidíte\, že má upravený vzhled na přání pořadatele. Pokud při nákupu zakliknete i zaslání QR kódů vstupenek SMSkou\, tak sice zaplatíte pár korun\, ale uvidíte\, jak funguje i tato oblíbená služba. \nBudete-li mít jakýkoliv dotaz\, napište nám na e-mail: poradatel@smsticket.cz \n  \nPoužíváte-li smsticket\, moc vám děkujeme! \n\nTento tip na kulturní akci v Brno najdete v přehledu na Dnesnivylet.cz spolu s dalšími koncerty\, festivaly a divadelními představeními.Každý si vybere co se mu líbí. Nezapomeňte koupit vstupenky včas\, stačí kliknout a budete přesměrování na oficiálního prodejce vstupenek.
URL:https://dnesnivylet.cz/event/festival-v-parku-test/
LOCATION:Park Lužánky\, Brno\, Park Lužánky\, Brno\, Česká republika
CATEGORIES:Festival
ATTACH;FMTTYPE=image/jpeg:https://dnesnivylet.cz/wp-content/uploads/2025/10/320-e5f5fa9b2cd042bbb6f85e4fc049a290-1.jpg
END:VEVENT
END:VCALENDAR