BEGIN:VCALENDAR
VERSION:2.0
PRODID:-//www.dnesnivylet.cz                                                                                                                        Tip na výlet pro celou rodinu. - ECPv6.15.13.1//NONSGML v1.0//EN
CALSCALE:GREGORIAN
METHOD:PUBLISH
X-ORIGINAL-URL:https://dnesnivylet.cz
X-WR-CALDESC:Akce na www.dnesnivylet.cz                                                                                                                        Tip na výlet pro celou rodinu.
REFRESH-INTERVAL;VALUE=DURATION:PT1H
X-Robots-Tag:noindex
X-PUBLISHED-TTL:PT1H
BEGIN:VTIMEZONE
TZID:Europe/Prague
BEGIN:DAYLIGHT
TZOFFSETFROM:+0100
TZOFFSETTO:+0200
TZNAME:CEST
DTSTART:20250330T010000
END:DAYLIGHT
BEGIN:STANDARD
TZOFFSETFROM:+0200
TZOFFSETTO:+0100
TZNAME:CET
DTSTART:20251026T010000
END:STANDARD
BEGIN:DAYLIGHT
TZOFFSETFROM:+0100
TZOFFSETTO:+0200
TZNAME:CEST
DTSTART:20260329T010000
END:DAYLIGHT
BEGIN:STANDARD
TZOFFSETFROM:+0200
TZOFFSETTO:+0100
TZNAME:CET
DTSTART:20261025T010000
END:STANDARD
BEGIN:DAYLIGHT
TZOFFSETFROM:+0100
TZOFFSETTO:+0200
TZNAME:CEST
DTSTART:20270328T010000
END:DAYLIGHT
BEGIN:STANDARD
TZOFFSETFROM:+0200
TZOFFSETTO:+0100
TZNAME:CET
DTSTART:20271031T010000
END:STANDARD
END:VTIMEZONE
BEGIN:VEVENT
DTSTART;TZID=Europe/Prague:20260703T190000
DTEND;TZID=Europe/Prague:20260703T220000
DTSTAMP:20260419T173621
CREATED:20260111T094339Z
LAST-MODIFIED:20260111T094400Z
UID:16675-1783105200-1783116000@dnesnivylet.cz
SUMMARY:Pavel Čadek
DESCRIPTION:Pavel Čadek se uskuteční dne 2026-07-03 v 19:00 v Plumlov\, Zámek Plumlov. \n🎟️ Koupit vstupenku \n\nPavel Čadek byl na Wikipedii konečně oficiálně uznán jako zakladatel cellofolku!Hraje na violoncello a zpívá písně\, které si sám skládá. Některé jsou vtipné\, jiné vážné\, a zhruba polovina je samozřejmě o lásce. \n\nTento tip na kulturní akci v Plumlov najdete v přehledu na Dnesnivylet.cz spolu s dalšími koncerty\, festivaly a divadelními představeními.Každý si vybere co se mu líbí. Nezapomeňte koupit vstupenky včas\, stačí kliknout a budete přesměrování na oficiálního prodejce vstupenek.
URL:https://dnesnivylet.cz/event/pavel-cadek/
LOCATION:Zámek Plumlov\, Plumlov\, Zámek Plumlov\, Plumlov\, Česká republika
CATEGORIES:Koncert
ATTACH;FMTTYPE=image/jpeg:https://dnesnivylet.cz/wp-content/uploads/2026/01/320-4d48e421e3184cb4b5c750d9b4ae7b1c.jpg
END:VEVENT
BEGIN:VEVENT
DTSTART;TZID=Europe/Prague:20260704T200000
DTEND;TZID=Europe/Prague:20260704T230000
DTSTAMP:20260419T173621
CREATED:20251022T064352Z
LAST-MODIFIED:20251022T064358Z
UID:9574-1783195200-1783206000@dnesnivylet.cz
SUMMARY:QUEENSHOW Konopiště
DESCRIPTION:QUEENSHOW Konopiště se uskuteční dne 2026-07-04 v 20:00 v Benešov\, Přírodní amfiteátr Konopiště. \n🎟️ Koupit vstupenku \n\nQUEENSHOW /2025/ – Bohemian Rhapsody: Půl století legendy a oslava 40. výročí legendárního koncertu Live Aid (1985).Přijďte zažít nezapomenutelný koncert skupiny QUEENSHOW\, která vzdává hold nesmrtelné hudbě Freddieho Mercuryho a Queen!U příležitosti 40. výročí legendárního koncertu Live Aid (1985) a 50 let od vydání ikonické „Bohemian Rhapsody“\, která se stala jednou z největších písní všech dob\, vás čeká večer plný největších hitů\, jako jsou „We Will Rock You“\, „Radio Ga Ga“\, „We Are the Champions“\, či „Bohemian Rhapsody“.Připomeňte si vystoupení na Live Aid (1985)\, které změnilo hudební historii. Nechte se unést energií\, vášní a dokonalou show v duchu Queen!QUEENSHOW je jediná tribute kapela na světě\, která na svých vystoupeních používá tak rozsáhlý výběr dobových nebo dokonce stejných nástrojů\, jaké používal Queen na svých koncertech!Díky své neuvěřitelné autenticitě\, která dokonale zachycuje nejen zvuk\, ale i magii a energii původní formace\, je uznávána jako jedna z nejlepších Queen tribute kapel vůbec.Každý koncert je oslavou mistrovství Queen a jejich nadčasového odkazu\, každé vystoupení QUEENSHOW je jedinečným zážitkem\, který vás přenese do doby\, kdy Freddie Mercury ovládal pódia a hudba Queen dobývala svět.Od roku 2024 se kapele připojil italský hudebník Marco Giuseppe Di Marco\, uznávaný ve světě Queen jako brilantní kytarista\, který dokáže s precizností napodobit nezaměnitelnou techniku Briana Maye. Jeho hra přidává vystoupení další úroveň dokonalosti a autentičnosti\, což dělá z QUEENSHOW výjimečnou hudební událost\, kterou si nesmíte nechat ujít! \n\nTento tip na kulturní akci v Benešov najdete v přehledu na Dnesnivylet.cz spolu s dalšími koncerty\, festivaly a divadelními představeními.Každý si vybere co se mu líbí. Nezapomeňte koupit vstupenky včas\, stačí kliknout a budete přesměrování na oficiálního prodejce vstupenek.
URL:https://dnesnivylet.cz/event/queenshow-konopiste/
LOCATION:Přírodní amfiteátr Konopiště\, Benešov\, Přírodní amfiteátr Konopiště\, Benešov\, Česká republika
CATEGORIES:Koncert
ATTACH;FMTTYPE=image/jpeg:https://dnesnivylet.cz/wp-content/uploads/2025/10/320-6965fd39f9b64a3796d81d9adc9f29ff.jpg
END:VEVENT
BEGIN:VEVENT
DTSTART;TZID=Europe/Prague:20260708T200000
DTEND;TZID=Europe/Prague:20260708T230000
DTSTAMP:20260419T173621
CREATED:20260110T163430Z
LAST-MODIFIED:20260110T163431Z
UID:16630-1783540800-1783551600@dnesnivylet.cz
SUMMARY:Václav Noid Bárta na zámku Sychrov
DESCRIPTION:Václav Noid Bárta na zámku Sychrov se uskuteční dne 2026-07-08 v 20:00 v Sychrov\, Zámek Sychrov. \n🎟️ Koupit vstupenku \n\nVáclav NOID Bárta na zámku Sychrov! \nNa zámek Sychrov míří aktuální Zlatý slavík – Václav Noid Bárta. Jeho výrazný hlas\, přirozená energie a silné charisma budou hlavními prvky večera\, který nabídne nezapomenutelnou atmosféru v podání jednoho z nejvýraznějších interpretů současné české hudební scény. \nOd prvních kroků s kapelami Dolores Clan\, Noid Crew a Dymytry\, přes divadelní svět muzikálů až po jeho současnou sólovou tvorbu. Přijďte si projít dvacetiletou hudební cestu Václava NOIDA Bárty – charizmatického zpěváka\, autora filmové hudby a jedinečného hlasu české hudební scény. \nNa co se můžete těšit?Během večera zazní jak jeho autorské skladby\, tak i oblíbené převzaté songy\, které skvěle doplní energii a atmosféru celého koncertu. Tento výjimečný večer přinese nálož skvělé muziky\, pohody a neuvěřitelné energie\, která vás strhne! \nZažijte hudební show\, na kterou se nezapomíná! \n\nTento tip na kulturní akci v Sychrov najdete v přehledu na Dnesnivylet.cz spolu s dalšími koncerty\, festivaly a divadelními představeními.Každý si vybere co se mu líbí. Nezapomeňte koupit vstupenky včas\, stačí kliknout a budete přesměrování na oficiálního prodejce vstupenek.
URL:https://dnesnivylet.cz/event/vaclav-noid-barta-na-zamku-sychrov/
LOCATION:Zámek Sychrov\, Sychrov\, Zámek Sychrov\, Sychrov\, Česká republika
CATEGORIES:Koncert
ATTACH;FMTTYPE=image/jpeg:https://dnesnivylet.cz/wp-content/uploads/2026/01/320-fa0a882fd17c449086b54c291af38a7f.jpg
END:VEVENT
BEGIN:VEVENT
DTSTART;TZID=Europe/Prague:20260709T193000
DTEND;TZID=Europe/Prague:20260709T223000
DTSTAMP:20260419T173621
CREATED:20260419T121947Z
LAST-MODIFIED:20260419T121948Z
UID:20868-1783625400-1783636200@dnesnivylet.cz
SUMMARY:Vlna koncertů na Pryglu - písničkář Láska
DESCRIPTION:Vlna koncertů na Pryglu – písničkář Láska se uskuteční dne 2026-07-09 v 19:30 v Brno\, Brněnská přehrada. \n🎟️ Koupit vstupenku \n\nVIP plavba pro omezený\, až komorní počet fanoušků na vlnách brněnské přehrady. Dvouhodinový pobyt s vaším oblíbeným interpretem na jedné lodi a zároveň krásná vyhlídková plavba až za hrad Veveří. Brněnská přehrada jak ji neznáte\, přijďte si pro unikátní hudební i vizuální zážitek. \n\nTento tip na kulturní akci v Brno najdete v přehledu na Dnesnivylet.cz spolu s dalšími koncerty\, festivaly a divadelními představeními.Každý si vybere co se mu líbí. Nezapomeňte koupit vstupenky včas\, stačí kliknout a budete přesměrování na oficiálního prodejce vstupenek.
URL:https://dnesnivylet.cz/event/vlna-koncertu-na-pryglu-pisnickar-laska/
LOCATION:Brněnská přehrada\, Brno\, Brněnská přehrada\, Brno\, Česká republika
CATEGORIES:Koncert
ATTACH;FMTTYPE=image/jpeg:https://dnesnivylet.cz/wp-content/uploads/2026/04/320-6cd95f4dac9444cb8806ee98581aef2f.jpg
END:VEVENT
BEGIN:VEVENT
DTSTART;TZID=Europe/Prague:20260709T200000
DTEND;TZID=Europe/Prague:20260709T230000
DTSTAMP:20260419T173621
CREATED:20260321T195450Z
LAST-MODIFIED:20260321T195450Z
UID:19708-1783627200-1783638000@dnesnivylet.cz
SUMMARY:Václav Noid Bárta v amfiteátru zámeckého parku Kinských
DESCRIPTION:Václav Noid Bárta v amfiteátru zámeckého parku Kinských se uskuteční dne 2026-07-09 v 20:00 v Valašské Meziříčí\, Zámecký park Kinských. \n🎟️ Koupit vstupenku \n\nVáclav NOID Bárta na zámku Kínských! \nNa zámek Kinských míří aktuální Zlatý slavík – Václav Noid Bárta. Jeho výrazný hlas\, přirozená energie a silné charisma budou hlavními prvky večera\, který nabídne nezapomenutelnou atmosféru v podání jednoho z nejvýraznějších interpretů současné české hudební scény. \nOd prvních kroků s kapelami Dolores Clan\, Noid Crew a Dymytry\, přes divadelní svět muzikálů až po jeho současnou sólovou tvorbu. Přijďte si projít dvacetiletou hudební cestu Václava NOIDA Bárty – charizmatického zpěváka\, autora filmové hudby a jedinečného hlasu české hudební scény. \nNa co se můžete těšit?Během večera zazní jak jeho autorské skladby\, tak i oblíbené převzaté songy\, které skvěle doplní energii a atmosféru celého koncertu. Tento výjimečný večer přinese nálož skvělé muziky\, pohody a neuvěřitelné energie\, která vás strhne! \nZažijte hudební show\, na kterou se nezapomíná! \n\nTento tip na kulturní akci v Valašské Meziříčí najdete v přehledu na Dnesnivylet.cz spolu s dalšími koncerty\, festivaly a divadelními představeními.Každý si vybere co se mu líbí. Nezapomeňte koupit vstupenky včas\, stačí kliknout a budete přesměrování na oficiálního prodejce vstupenek.
URL:https://dnesnivylet.cz/event/vaclav-noid-barta-v-amfiteatru-zameckeho-parku-kinskych/
LOCATION:Zámecký park Kinských\, Valašské Meziříčí\, Zámecký park Kinských\, Valašské Meziříčí\, Česká republika
CATEGORIES:Koncert
ATTACH;FMTTYPE=image/jpeg:https://dnesnivylet.cz/wp-content/uploads/2026/03/320-c6c579546cd74f70a7221d059acc1e5b.jpg
END:VEVENT
BEGIN:VEVENT
DTSTART;TZID=Europe/Prague:20260716T193000
DTEND;TZID=Europe/Prague:20260716T223000
DTSTAMP:20260419T173621
CREATED:20260419T121833Z
LAST-MODIFIED:20260419T121833Z
UID:20859-1784230200-1784241000@dnesnivylet.cz
SUMMARY:Vlna koncertů na Pryglu - Xavier BAUMAXA
DESCRIPTION:Vlna koncertů na Pryglu – Xavier BAUMAXA se uskuteční dne 2026-07-16 v 19:30 v Brno\, Brněnská přehrada. \n🎟️ Koupit vstupenku \n\nVIP plavba pro omezený\, až komorní počet fanoušků na vlnách brněnské přehrady. Dvouhodinový pobyt s vaším oblíbeným interpretem na jedné lodi a zároveň krásná vyhlídková plavba až za hrad Veveří. Brněnská přehrada jak ji neznáte\, přijďte si pro unikátní hudební i vizuální zážitek. \n\nTento tip na kulturní akci v Brno najdete v přehledu na Dnesnivylet.cz spolu s dalšími koncerty\, festivaly a divadelními představeními.Každý si vybere co se mu líbí. Nezapomeňte koupit vstupenky včas\, stačí kliknout a budete přesměrování na oficiálního prodejce vstupenek.
URL:https://dnesnivylet.cz/event/vlna-koncertu-na-pryglu-xavier-baumaxa/
LOCATION:Brněnská přehrada\, Brno\, Brněnská přehrada\, Brno\, Česká republika
CATEGORIES:Koncert
ATTACH;FMTTYPE=image/jpeg:https://dnesnivylet.cz/wp-content/uploads/2026/04/320-c38de1b5400f4af693d77ae87731c0b3.jpg
END:VEVENT
BEGIN:VEVENT
DTSTART;TZID=Europe/Prague:20260723T193000
DTEND;TZID=Europe/Prague:20260723T223000
DTSTAMP:20260419T173621
CREATED:20260419T121832Z
LAST-MODIFIED:20260419T121832Z
UID:20850-1784835000-1784845800@dnesnivylet.cz
SUMMARY:Vlna koncertů na Pryglu - IMODIUM - akusticky
DESCRIPTION:Vlna koncertů na Pryglu – IMODIUM – akusticky se uskuteční dne 2026-07-23 v 19:30 v Brno\, Brněnská přehrada. \n🎟️ Koupit vstupenku \n\nVIP plavba pro omezený\, až komorní počet fanoušků na vlnách brněnské přehrady. Dvouhodinový pobyt s vaším oblíbeným interpretem na jedné lodi a zároveň krásná vyhlídková plavba až za hrad Veveří. Brněnská přehrada jak ji neznáte\, přijďte si pro unikátní hudební i vizuální zážitek. \n\nTento tip na kulturní akci v Brno najdete v přehledu na Dnesnivylet.cz spolu s dalšími koncerty\, festivaly a divadelními představeními.Každý si vybere co se mu líbí. Nezapomeňte koupit vstupenky včas\, stačí kliknout a budete přesměrování na oficiálního prodejce vstupenek.
URL:https://dnesnivylet.cz/event/vlna-koncertu-na-pryglu-imodium-akusticky/
LOCATION:Brněnská přehrada\, Brno\, Brněnská přehrada\, Brno\, Česká republika
CATEGORIES:Koncert
ATTACH;FMTTYPE=image/jpeg:https://dnesnivylet.cz/wp-content/uploads/2026/04/320-921d5264af0344c997df5d6a8c449108.jpg
END:VEVENT
BEGIN:VEVENT
DTSTART;TZID=Europe/Prague:20260725T180000
DTEND;TZID=Europe/Prague:20260725T210000
DTSTAMP:20260419T173621
CREATED:20260306T173841Z
LAST-MODIFIED:20260306T173842Z
UID:19210-1785002400-1785013200@dnesnivylet.cz
SUMMARY:Zdíkovské Kapelobraní
DESCRIPTION:Zdíkovské Kapelobraní  se uskuteční dne 2026-07-25 v 18:00 v Zdíkov\, Zdíkov – Ostrov. \n🎟️ Koupit vstupenku \n\nPrvní ročník ZDÍKOVSKÉHO KAPELOBRANÍ Tohle u nás ještě nebylo! Přijď se pobavit a pořádně odvázat na tuhle nezapomenutelnou akci pod širým nebem. \n25. 7. 2026 v 18:00otevíráme brány ostrova\, kde se vše odehraje. Od skvělého piva\, po něco k zakousnutí až po neskutečnou atmosféru Zdíkovského ostrova \nNa koho se můžeš těšit? \nStrakonickou energii sebou přiveze CELA PRO KLÁRKU  \nsvými texty bude plašit smrt kapelaKOHOUT PLAŠÍ SMRT \njako legendy českého punku dorazí SPS \ntrumpetu\, pozoun a harmoniku si přiveze ŽÁDNEJ STRES  \nTěšíme se na vás  \nVíce info na instagramu BaliBase akceOstroff Zdíkov \n\nTento tip na kulturní akci v Zdíkov najdete v přehledu na Dnesnivylet.cz spolu s dalšími koncerty\, festivaly a divadelními představeními.Každý si vybere co se mu líbí. Nezapomeňte koupit vstupenky včas\, stačí kliknout a budete přesměrování na oficiálního prodejce vstupenek.
URL:https://dnesnivylet.cz/event/zdikovske-kapelobrani/
LOCATION:Zdíkov – Ostrov\, Zdíkov\, Zdíkov - Ostrov\, Zdíkov\, Česká republika
CATEGORIES:Festival
ATTACH;FMTTYPE=image/jpeg:https://dnesnivylet.cz/wp-content/uploads/2026/03/320-e95f33f369634ec9954cd0e811bd5776.jpg
END:VEVENT
BEGIN:VEVENT
DTSTART;TZID=Europe/Prague:20260725T193000
DTEND;TZID=Europe/Prague:20260725T223000
DTSTAMP:20260419T173621
CREATED:20251212T185520Z
LAST-MODIFIED:20251212T185521Z
UID:14894-1785007800-1785018600@dnesnivylet.cz
SUMMARY:Tři tenoři na Moravě (The Three Tenors in Moravia)
DESCRIPTION:Tři tenoři na Moravě (The Three Tenors in Moravia) se uskuteční dne 2026-07-25 v 19:30 v Valtice\, Zámek Valtice. \n🎟️ Koupit vstupenku \n\nTHE THREE TENORS IN MORAVIA \nPředstaví se vám hvězdy světových operních scén\, tenor Paolo Lardizzone\, který září ve slavné veronské aréně v Itálii\, tenor Mickael Spadaccini\, hvězda evropských operních domů a tenor Aleš Briscein sólista Národního divadla v Praze a jeden z nejobsazovanějších tenorů současnosti.  \nPředstaví se vám ve zbrusu novém koncertním projektu The Three Tenors in Moravia. Přijďte si poslechnout ty nejkrásnější tenorové hlasy současnosti.  \nJako každoročně bude představena charitativní činnost spolku ALSA\, která pečuje o pacienty s ALS. \nVečerem vás provede moderátorka Monika Timková společně s uměleckým ředitelem festivalu Michalem Lieberzeitem. Koncert je dělen na dvě samostatné části\, každá po jedné hodině a přestávka je 30 minut. \n\nTento tip na kulturní akci v Valtice najdete v přehledu na Dnesnivylet.cz spolu s dalšími koncerty\, festivaly a divadelními představeními.Každý si vybere co se mu líbí. Nezapomeňte koupit vstupenky včas\, stačí kliknout a budete přesměrování na oficiálního prodejce vstupenek.
URL:https://dnesnivylet.cz/event/tri-tenori-na-morave-the-three-tenors-in-moravia/
LOCATION:Zámek Valtice\, Valtice\, Zámek Valtice\, Valtice\, Česká republika
CATEGORIES:Festival
ATTACH;FMTTYPE=image/jpeg:https://dnesnivylet.cz/wp-content/uploads/2025/12/320-a7237ac81d3d41b19a64a67080dc5b4f.jpg
END:VEVENT
BEGIN:VEVENT
DTSTART;TZID=Europe/Prague:20260729T200000
DTEND;TZID=Europe/Prague:20260729T230000
DTSTAMP:20260419T173621
CREATED:20260404T180156Z
LAST-MODIFIED:20260404T180157Z
UID:20083-1785355200-1785366000@dnesnivylet.cz
SUMMARY:Václav Noid Bárta na zámku Telč
DESCRIPTION:Václav Noid Bárta na zámku Telč se uskuteční dne 2026-07-29 v 20:00 v Telč\, Zámecký park. \n🎟️ Koupit vstupenku \n\nVáclav NOID Bárta na zámku v Telči! \nNa zámek v Telči míří aktuální Zlatý slavík – Václav Noid Bárta. Jeho výrazný hlas\, přirozená energie a silné charisma budou hlavními prvky večera\, který nabídne nezapomenutelnou atmosféru v podání jednoho z nejvýraznějších interpretů současné české hudební scény. \nOd prvních kroků s kapelami Dolores Clan\, Noid Crew a Dymytry\, přes divadelní svět muzikálů až po jeho současnou sólovou tvorbu. Přijďte si projít dvacetiletou hudební cestu Václava NOIDA Bárty – charizmatického zpěváka\, autora filmové hudby a jedinečného hlasu české hudební scény. \nNa co se můžete těšit?Během večera zazní jak jeho autorské skladby\, tak i oblíbené převzaté songy\, které skvěle doplní energii a atmosféru celého koncertu. Tento výjimečný večer přinese nálož skvělé muziky\, pohody a neuvěřitelné energie\, která vás strhne! \nZažijte hudební show\, na kterou se nezapomíná! \n\nTento tip na kulturní akci v Telč najdete v přehledu na Dnesnivylet.cz spolu s dalšími koncerty\, festivaly a divadelními představeními.Každý si vybere co se mu líbí. Nezapomeňte koupit vstupenky včas\, stačí kliknout a budete přesměrování na oficiálního prodejce vstupenek.
URL:https://dnesnivylet.cz/event/vaclav-noid-barta-na-zamku-telc/
LOCATION:Zámecký park\, Telč\, Zámecký park\, Telč\, Česká republika
CATEGORIES:Koncert
ATTACH;FMTTYPE=image/jpeg:https://dnesnivylet.cz/wp-content/uploads/2026/04/320-15c3e8f18d8c4fc98471646def5797a2.jpg
END:VEVENT
BEGIN:VEVENT
DTSTART;TZID=Europe/Prague:20260730T193000
DTEND;TZID=Europe/Prague:20260730T223000
DTSTAMP:20260419T173621
CREATED:20260419T121831Z
LAST-MODIFIED:20260419T121831Z
UID:20847-1785439800-1785450600@dnesnivylet.cz
SUMMARY:Vlna koncertů na Pryglu - GOLDA & DÉMA (Znouzectnost)
DESCRIPTION:Vlna koncertů na Pryglu – GOLDA & DÉMA (Znouzectnost) se uskuteční dne 2026-07-30 v 19:30 v Brno\, Brněnská přehrada. \n🎟️ Koupit vstupenku \n\nVIP plavba pro omezený\, až komorní počet fanoušků na vlnách brněnské přehrady. Dvouhodinový pobyt s vaším oblíbeným interpretem na jedné lodi a zároveň krásná vyhlídková plavba až za hrad Veveří. Brněnská přehrada jak ji neznáte\, přijďte si pro unikátní hudební i vizuální zážitek. \n\nTento tip na kulturní akci v Brno najdete v přehledu na Dnesnivylet.cz spolu s dalšími koncerty\, festivaly a divadelními představeními.Každý si vybere co se mu líbí. Nezapomeňte koupit vstupenky včas\, stačí kliknout a budete přesměrování na oficiálního prodejce vstupenek.
URL:https://dnesnivylet.cz/event/vlna-koncertu-na-pryglu-golda-dema-znouzectnost/
LOCATION:Brněnská přehrada\, Brno\, Brněnská přehrada\, Brno\, Česká republika
CATEGORIES:Koncert
ATTACH;FMTTYPE=image/jpeg:https://dnesnivylet.cz/wp-content/uploads/2026/04/320-26d198b142964a9a952690f86677218c.jpg
END:VEVENT
END:VCALENDAR