BEGIN:VCALENDAR
VERSION:2.0
PRODID:-//www.dnesnivylet.cz                                                                                                                        Tip na výlet pro celou rodinu. - ECPv6.15.13.1//NONSGML v1.0//EN
CALSCALE:GREGORIAN
METHOD:PUBLISH
X-WR-CALNAME:www.dnesnivylet.cz                                                                                                                        Tip na výlet pro celou rodinu.
X-ORIGINAL-URL:https://dnesnivylet.cz
X-WR-CALDESC:Akce na www.dnesnivylet.cz                                                                                                                        Tip na výlet pro celou rodinu.
REFRESH-INTERVAL;VALUE=DURATION:PT1H
X-Robots-Tag:noindex
X-PUBLISHED-TTL:PT1H
BEGIN:VTIMEZONE
TZID:Europe/Prague
BEGIN:DAYLIGHT
TZOFFSETFROM:+0100
TZOFFSETTO:+0200
TZNAME:CEST
DTSTART:20250330T010000
END:DAYLIGHT
BEGIN:STANDARD
TZOFFSETFROM:+0200
TZOFFSETTO:+0100
TZNAME:CET
DTSTART:20251026T010000
END:STANDARD
BEGIN:DAYLIGHT
TZOFFSETFROM:+0100
TZOFFSETTO:+0200
TZNAME:CEST
DTSTART:20260329T010000
END:DAYLIGHT
BEGIN:STANDARD
TZOFFSETFROM:+0200
TZOFFSETTO:+0100
TZNAME:CET
DTSTART:20261025T010000
END:STANDARD
BEGIN:DAYLIGHT
TZOFFSETFROM:+0100
TZOFFSETTO:+0200
TZNAME:CEST
DTSTART:20270328T010000
END:DAYLIGHT
BEGIN:STANDARD
TZOFFSETFROM:+0200
TZOFFSETTO:+0100
TZNAME:CET
DTSTART:20271031T010000
END:STANDARD
END:VTIMEZONE
BEGIN:VEVENT
DTSTART;TZID=Europe/Prague:20260325T190000
DTEND;TZID=Europe/Prague:20260325T220000
DTSTAMP:20260420T035856
CREATED:20251030T145328Z
LAST-MODIFIED:20251030T145329Z
UID:10604-1774465200-1774476000@dnesnivylet.cz
SUMMARY:ABBA SHOW 50 | Čelákovice
DESCRIPTION:ABBA SHOW 50 | Čelákovice se uskuteční dne 2026-03-25 v 19:00 v Čelákovice\, KD Čelákovice. \n🎟️ Koupit vstupenku \n\nABBA WORLD Revival je desetičlenný soubor profesionálních hudebníků\, které spojuje obdiv k tvorbě světoznámé švédské skupiny ABBA.Tato tribute show patří mezi světovou špičku a přináší 100% živé vystoupení bez playbacků a half-playbacků. \nV repertoáru mají více než 30 nejznámějších hitů skupiny ABBA\, které jsou zahrány s takovou přesností\, že jsou téměř k nerozeznání od originálů. Celou show doplňují autentické dobové kostýmy\, image a choreografie. \nDíky svému charakteristickému zvuku a preciznímu hudebnímu provedení vystupuje ABBA WORLD Revival úspěšně po celé Evropě a oslovuje posluchače všech generací. Množství odehraných koncertů a léta úspěšné existence jsou toho nejlepším důkazem. \n\nTento tip na kulturní akci v Čelákovice najdete v přehledu na Dnesnivylet.cz spolu s dalšími koncerty\, festivaly a divadelními představeními.Každý si vybere co se mu líbí. Nezapomeňte koupit vstupenky včas\, stačí kliknout a budete přesměrování na oficiálního prodejce vstupenek.
URL:https://dnesnivylet.cz/event/abba-show-50-celakovice/
LOCATION:KD Čelákovice\, Čelákovice\, KD Čelákovice\, Čelákovice\, Česká republika
CATEGORIES:Koncert
ATTACH;FMTTYPE=image/jpeg:https://dnesnivylet.cz/wp-content/uploads/2025/10/320-023dd2c3ccb24289ab92e9cbaa5ee880.jpg
END:VEVENT
BEGIN:VEVENT
DTSTART;TZID=Europe/Prague:20260325T190000
DTEND;TZID=Europe/Prague:20260325T220000
DTSTAMP:20260420T035856
CREATED:20251212T190221Z
LAST-MODIFIED:20251212T190221Z
UID:15057-1774465200-1774476000@dnesnivylet.cz
SUMMARY:Hudba Bridgerton při svíčkách
DESCRIPTION:Hudba Bridgerton při svíčkách se uskuteční dne 2026-03-25 v 19:00 v Jičín\, Masarykovo divadlo. \n🎟️ Koupit vstupenku \n\nNenechte si ujít večer plný romantiky a elegance\, kde zazní ty nejznámější melodie a písně z oblíbeného seriálu Bridgerton. Světlo stovky svíček vytvoří okouzlující atmosféru koncertu. \nProgram v jedinečném provedení smyčcového kvarteta představí výběr hudebních skladeb z tohoto populárního seriálu\, inspirovaných klasickými díly i moderními popovými melodiemi\, které si získaly srdce diváků po celém světě. \nTento koncert nabídne víc než jen hudbu; stovky svíček rozzáří prostor a vytvoří atmosféru plnou noblesy\, romantiky a neodolatelného kouzla historické doby. \nAkce je přístupná od 12 let. Každý účastník musí předložit platnou vstupenku  zakoupenou výhradně v síti smsticket. \n\nTento tip na kulturní akci v Jičín najdete v přehledu na Dnesnivylet.cz spolu s dalšími koncerty\, festivaly a divadelními představeními.Každý si vybere co se mu líbí. Nezapomeňte koupit vstupenky včas\, stačí kliknout a budete přesměrování na oficiálního prodejce vstupenek.
URL:https://dnesnivylet.cz/event/hudba-bridgerton-pri-svickach-23/
LOCATION:Masarykovo divadlo\, Jičín\, Masarykovo divadlo\, Jičín\, Česká republika
CATEGORIES:Koncert
ATTACH;FMTTYPE=image/jpeg:https://dnesnivylet.cz/wp-content/uploads/2025/12/320-6bfffb56fe6c4bf49b7125a973f056c6.jpg
END:VEVENT
BEGIN:VEVENT
DTSTART;TZID=Europe/Prague:20260325T190000
DTEND;TZID=Europe/Prague:20260325T220000
DTSTAMP:20260420T035856
CREATED:20251214T070501Z
LAST-MODIFIED:20251214T070502Z
UID:15071-1774465200-1774476000@dnesnivylet.cz
SUMMARY:Hudba Coldplay při svíčkách
DESCRIPTION:Hudba Coldplay při svíčkách se uskuteční dne 2026-03-25 v 19:00 v Sokolov\, Městský dům kultury. \n🎟️ Koupit vstupenku \n\nNenechte si ujít večer plný energie a emocí\, kde zazní ty největší hity britské kapely Coldplay. Světlo stovky svíček vytvoří nezapomenutelnou atmosféru tohoto jedinečného koncertu. \nProgram v podání smyčcového kvarteta nabídne výběr těch nejznámějších skladeb Coldplay\, včetně hitů jako „Fix You“\, „Yellow“ či „Viva La Vida“\, které si získaly srdce fanoušků po celém světě. \nTento koncert přinese víc než jen hudbu; stovky svíček rozzáří prostor a vytvoří atmosféru plnou emocí\, melancholie a nezapomenutelných melodií\, které vás vezmou na hudební cestu s Coldplay. \nAkce je přístupná od 12 let. Každý účastník musí předložit platnou vstupenku  zakoupenou výhradně v síti smsticket. \n\nTento tip na kulturní akci v Sokolov najdete v přehledu na Dnesnivylet.cz spolu s dalšími koncerty\, festivaly a divadelními představeními.Každý si vybere co se mu líbí. Nezapomeňte koupit vstupenky včas\, stačí kliknout a budete přesměrování na oficiálního prodejce vstupenek.
URL:https://dnesnivylet.cz/event/hudba-coldplay-pri-svickach-16/
LOCATION:Městský dům kultury\, Sokolov\, Městský dům kultury\, Sokolov\, Česká republika
CATEGORIES:Koncert
ATTACH;FMTTYPE=image/jpeg:https://dnesnivylet.cz/wp-content/uploads/2025/12/320-f3519862e4064406b1e5d335109e2e0c.jpg
END:VEVENT
BEGIN:VEVENT
DTSTART;TZID=Europe/Prague:20260325T193000
DTEND;TZID=Europe/Prague:20260325T223000
DTSTAMP:20260420T035856
CREATED:20260306T173210Z
LAST-MODIFIED:20260306T173210Z
UID:19147-1774467000-1774477800@dnesnivylet.cz
SUMMARY:Marie Tilšarová - Za stěnou z deště
DESCRIPTION:Marie Tilšarová – Za stěnou z deště se uskuteční dne 2026-03-25 v 19:30 v Praha\, Avati.cz. \n🎟️ Koupit vstupenku \n\nVe zvuku deštných sloupů jemné písně Marie Tilšarové.Samostatný recitál a 6 deštných sloupů (https://www.destnesloupy.cz/)Relaxace v přímém přenosu\, dotek dřeva a vody\, hlasu a radosti v krásném prostoru Avati v Praze 5. \n\nTento tip na kulturní akci v Praha najdete v přehledu na Dnesnivylet.cz spolu s dalšími koncerty\, festivaly a divadelními představeními.Každý si vybere co se mu líbí. Nezapomeňte koupit vstupenky včas\, stačí kliknout a budete přesměrování na oficiálního prodejce vstupenek.
URL:https://dnesnivylet.cz/event/marie-tilsarova-za-stenou-z-deste/
LOCATION:Avati.cz\, Praha\, Avati.cz\, Praha\, Česká republika
CATEGORIES:Koncert
ATTACH;FMTTYPE=image/jpeg:https://dnesnivylet.cz/wp-content/uploads/2026/03/320-c2ba744010504153badb2481a625dd28.jpg
END:VEVENT
BEGIN:VEVENT
DTSTART;TZID=Europe/Prague:20260325T200000
DTEND;TZID=Europe/Prague:20260325T230000
DTSTAMP:20260420T035856
CREATED:20260306T173508Z
LAST-MODIFIED:20260306T173509Z
UID:19163-1774468800-1774479600@dnesnivylet.cz
SUMMARY:Slavíček - Zimní šňůra
DESCRIPTION:Slavíček – Zimní šňůra se uskuteční dne 2026-03-25 v 20:00 v Brno\, První Patro. \n🎟️ Koupit vstupenku \n\nZpěvák a skladatel s výrazným rukopisem na pomezí indie popu a alternativy. \nSlavíček přináší osobitou kombinaci civilnosti a energie. Ve svých skladbách propojuje křehkost s ironií\, hravost s hlubokým obsahem. Jeho hudba působí nenuceně\, ale nese jasný rukopis a postoj. Na české scéně působí jako čerstvý vítr – mladý\, přirozený\, přesvědčivý a uvěřitelný. \n  \nSupport: Beira \n\nTento tip na kulturní akci v Brno najdete v přehledu na Dnesnivylet.cz spolu s dalšími koncerty\, festivaly a divadelními představeními.Každý si vybere co se mu líbí. Nezapomeňte koupit vstupenky včas\, stačí kliknout a budete přesměrování na oficiálního prodejce vstupenek.
URL:https://dnesnivylet.cz/event/slavicek-zimni-snura/
LOCATION:První Patro\, Brno\, První Patro\, Brno\, Česká republika
CATEGORIES:Koncert
ATTACH;FMTTYPE=image/jpeg:https://dnesnivylet.cz/wp-content/uploads/2026/03/320-688f120ca1de45079e94cbe1d838c197.jpg
END:VEVENT
BEGIN:VEVENT
DTSTART;TZID=Europe/Prague:20260325T210000
DTEND;TZID=Europe/Prague:20260326T000000
DTSTAMP:20260420T035856
CREATED:20260208T144117Z
LAST-MODIFIED:20260208T144117Z
UID:17571-1774472400-1774483200@dnesnivylet.cz
SUMMARY:Vojtaano Band Tour 2026
DESCRIPTION:Vojtaano Band Tour 2026 se uskuteční dne 2026-03-25 v 21:00 v Praha\, Lucerna Music Bar. \n🎟️ Koupit vstupenku \n\nPrvní samostatná tour kde Vojtaano zahraje všechny největší hity za doprovodu kapely složené ze členů Fast Food Orchestra. \n20:00 open \n21:00 Start \n\nTento tip na kulturní akci v Praha najdete v přehledu na Dnesnivylet.cz spolu s dalšími koncerty\, festivaly a divadelními představeními.Každý si vybere co se mu líbí. Nezapomeňte koupit vstupenky včas\, stačí kliknout a budete přesměrování na oficiálního prodejce vstupenek.
URL:https://dnesnivylet.cz/event/vojtaano-band-tour-2026-5/
LOCATION:Lucerna Music Bar\, Praha\, Lucerna Music Bar\, Praha\, Česká republika
CATEGORIES:Koncert
ATTACH;FMTTYPE=image/jpeg:https://dnesnivylet.cz/wp-content/uploads/2026/02/320-0d5c7761d7e14ab0bc4852e72b0fb6be.jpg
END:VEVENT
END:VCALENDAR