BEGIN:VCALENDAR
VERSION:2.0
PRODID:-//www.dnesnivylet.cz                                                                                                                        Tip na výlet pro celou rodinu. - ECPv6.15.13.1//NONSGML v1.0//EN
CALSCALE:GREGORIAN
METHOD:PUBLISH
X-WR-CALNAME:www.dnesnivylet.cz                                                                                                                        Tip na výlet pro celou rodinu.
X-ORIGINAL-URL:https://dnesnivylet.cz
X-WR-CALDESC:Akce na www.dnesnivylet.cz                                                                                                                        Tip na výlet pro celou rodinu.
REFRESH-INTERVAL;VALUE=DURATION:PT1H
X-Robots-Tag:noindex
X-PUBLISHED-TTL:PT1H
BEGIN:VTIMEZONE
TZID:Europe/Prague
BEGIN:DAYLIGHT
TZOFFSETFROM:+0100
TZOFFSETTO:+0200
TZNAME:CEST
DTSTART:20250330T010000
END:DAYLIGHT
BEGIN:STANDARD
TZOFFSETFROM:+0200
TZOFFSETTO:+0100
TZNAME:CET
DTSTART:20251026T010000
END:STANDARD
BEGIN:DAYLIGHT
TZOFFSETFROM:+0100
TZOFFSETTO:+0200
TZNAME:CEST
DTSTART:20260329T010000
END:DAYLIGHT
BEGIN:STANDARD
TZOFFSETFROM:+0200
TZOFFSETTO:+0100
TZNAME:CET
DTSTART:20261025T010000
END:STANDARD
BEGIN:DAYLIGHT
TZOFFSETFROM:+0100
TZOFFSETTO:+0200
TZNAME:CEST
DTSTART:20270328T010000
END:DAYLIGHT
BEGIN:STANDARD
TZOFFSETFROM:+0200
TZOFFSETTO:+0100
TZNAME:CET
DTSTART:20271031T010000
END:STANDARD
END:VTIMEZONE
BEGIN:VEVENT
DTSTART;TZID=Europe/Prague:20260411T180000
DTEND;TZID=Europe/Prague:20260411T210000
DTSTAMP:20260419T133427
CREATED:20260209T193959Z
LAST-MODIFIED:20260209T193959Z
UID:17852-1775930400-1775941200@dnesnivylet.cz
SUMMARY:Pocta Haně Hegerové v jeskyni Výpustek
DESCRIPTION:Pocta Haně Hegerové v jeskyni Výpustek se uskuteční dne 2026-04-11 v 18:00 v Adamov\, Jeskyně Výpustek. \n🎟️ Koupit vstupenku \n\nHudební zážitek\, na který jen tak nezapomenete. Budete plakat\, smát se\, a mít husí kůži po těle. \nLegendární dílo Hany Hegerové v podání Zuzany Němcové Šmejkalové. Zpěvačka s hlubokým\, sametovým hlasem a intenzivním hereckým projevem přináší osobitou interpretaci ikonických písní první dámy československého šansonu. \nVečer plný mistrovské klavírní hry Doubravky Linhartové a rafinovaných bubenických rytmů Jakuba Němce slibuje výjimečný umělecký zážitek\, který s úctou nahlédne do díla Hany Hegerové a zasáhne i ty nejcitlivější struny vaší duše. \nPřijďte vzdát hold legendě a prožít znovu její písně. \n„Ať žije Hegerová!“ \nAKCE SE KONÁ ZA PODPORY SPRÁVY JESKYNÍ ČESKÉ REPUBLIKY a JESKYNĚ VÝPUSTEK \nhttps://www.caves.cz/ \n\nTento tip na kulturní akci v Adamov najdete v přehledu na Dnesnivylet.cz spolu s dalšími koncerty\, festivaly a divadelními představeními.Každý si vybere co se mu líbí. Nezapomeňte koupit vstupenky včas\, stačí kliknout a budete přesměrování na oficiálního prodejce vstupenek.
URL:https://dnesnivylet.cz/event/pocta-hane-hegerove-v-jeskyni-vypustek/
LOCATION:Jeskyně Výpustek\, Adamov\, Jeskyně Výpustek\, Adamov\, Česká republika
CATEGORIES:Koncert
ATTACH;FMTTYPE=image/jpeg:https://dnesnivylet.cz/wp-content/uploads/2026/02/320-0639b8ff2b1e4f128fc28c7884562b12.jpg
END:VEVENT
BEGIN:VEVENT
DTSTART;TZID=Europe/Prague:20260411T190000
DTEND;TZID=Europe/Prague:20260411T220000
DTSTAMP:20260419T133427
CREATED:20260110T114257Z
LAST-MODIFIED:20260110T114258Z
UID:16604-1775934000-1775944800@dnesnivylet.cz
SUMMARY:ČECHOMOR Kooperativa Tour
DESCRIPTION:ČECHOMOR Kooperativa Tour se uskuteční dne 2026-04-11 v 19:00 v Valašské Klobouky\, KD Klobučan. \n🎟️ Koupit vstupenku \n\nSkupina Čechomor patří už více než tři desetiletí k nejvýraznějším českým kapelám\, které propojují lidovou hudbu s rockem. \n\nTento tip na kulturní akci v Valašské Klobouky najdete v přehledu na Dnesnivylet.cz spolu s dalšími koncerty\, festivaly a divadelními představeními.Každý si vybere co se mu líbí. Nezapomeňte koupit vstupenky včas\, stačí kliknout a budete přesměrování na oficiálního prodejce vstupenek.
URL:https://dnesnivylet.cz/event/cechomor-kooperativa-tour/
LOCATION:KD Klobučan\, Valašské Klobouky\, KD Klobučan\, Valašské Klobouky\, Česká republika
CATEGORIES:Koncert
ATTACH;FMTTYPE=image/jpeg:https://dnesnivylet.cz/wp-content/uploads/2026/01/320-7dd81a01c96c40a3bfbe4c49a68b1cda.jpg
END:VEVENT
BEGIN:VEVENT
DTSTART;TZID=Europe/Prague:20260411T200000
DTEND;TZID=Europe/Prague:20260411T230000
DTSTAMP:20260419T133427
CREATED:20260306T173723Z
LAST-MODIFIED:20260306T173725Z
UID:19183-1775937600-1775948400@dnesnivylet.cz
SUMMARY:Slavíček - Zimní šňůra
DESCRIPTION:Slavíček – Zimní šňůra se uskuteční dne 2026-04-11 v 20:00 v Pardubice\, Music Club Žlutý pes. \n🎟️ Koupit vstupenku \n\nZpěvák a skladatel s výrazným rukopisem na pomezí indie popu a alternativy. \nSlavíček přináší osobitou kombinaci civilnosti a energie. Ve svých skladbách propojuje křehkost s ironií\, hravost s hlubokým obsahem. Jeho hudba působí nenuceně\, ale nese jasný rukopis a postoj. Na české scéně působí jako čerstvý vítr – mladý\, přirozený\, přesvědčivý a uvěřitelný. \n  \nSupport: Beira \n\nTento tip na kulturní akci v Pardubice najdete v přehledu na Dnesnivylet.cz spolu s dalšími koncerty\, festivaly a divadelními představeními.Každý si vybere co se mu líbí. Nezapomeňte koupit vstupenky včas\, stačí kliknout a budete přesměrování na oficiálního prodejce vstupenek.
URL:https://dnesnivylet.cz/event/slavicek-zimni-snura-7/
LOCATION:Music Club Žlutý pes\, Pardubice\, Music Club Žlutý pes\, Pardubice\, Česká republika
CATEGORIES:Koncert
ATTACH;FMTTYPE=image/jpeg:https://dnesnivylet.cz/wp-content/uploads/2026/03/320-ada5862941424eada5c4aaa88e5bfae5.jpg
END:VEVENT
END:VCALENDAR