BEGIN:VCALENDAR
VERSION:2.0
PRODID:-//www.dnesnivylet.cz                                                                                                                        Tip na výlet pro celou rodinu. - ECPv6.15.13.1//NONSGML v1.0//EN
CALSCALE:GREGORIAN
METHOD:PUBLISH
X-WR-CALNAME:www.dnesnivylet.cz                                                                                                                        Tip na výlet pro celou rodinu.
X-ORIGINAL-URL:https://dnesnivylet.cz
X-WR-CALDESC:Akce na www.dnesnivylet.cz                                                                                                                        Tip na výlet pro celou rodinu.
REFRESH-INTERVAL;VALUE=DURATION:PT1H
X-Robots-Tag:noindex
X-PUBLISHED-TTL:PT1H
BEGIN:VTIMEZONE
TZID:Europe/Prague
BEGIN:DAYLIGHT
TZOFFSETFROM:+0100
TZOFFSETTO:+0200
TZNAME:CEST
DTSTART:20250330T010000
END:DAYLIGHT
BEGIN:STANDARD
TZOFFSETFROM:+0200
TZOFFSETTO:+0100
TZNAME:CET
DTSTART:20251026T010000
END:STANDARD
BEGIN:DAYLIGHT
TZOFFSETFROM:+0100
TZOFFSETTO:+0200
TZNAME:CEST
DTSTART:20260329T010000
END:DAYLIGHT
BEGIN:STANDARD
TZOFFSETFROM:+0200
TZOFFSETTO:+0100
TZNAME:CET
DTSTART:20261025T010000
END:STANDARD
BEGIN:DAYLIGHT
TZOFFSETFROM:+0100
TZOFFSETTO:+0200
TZNAME:CEST
DTSTART:20270328T010000
END:DAYLIGHT
BEGIN:STANDARD
TZOFFSETFROM:+0200
TZOFFSETTO:+0100
TZNAME:CET
DTSTART:20271031T010000
END:STANDARD
END:VTIMEZONE
BEGIN:VEVENT
DTSTART;TZID=Europe/Prague:20260502T190000
DTEND;TZID=Europe/Prague:20260502T220000
DTSTAMP:20260419T133427
CREATED:20251111T175539Z
LAST-MODIFIED:20251111T175540Z
UID:13236-1777748400-1777759200@dnesnivylet.cz
SUMMARY:Legendární Al Bano v Praze!
DESCRIPTION:Legendární Al Bano v Praze! se uskuteční dne 2026-05-02 v 19:00 v Praha\, Kongresové centrum. \n🎟️ Koupit vstupenku \n\nLegenda italské popové hudby v Praze! \nAl Bano – nezaměnitelný hlas a ikona italské hudební scény míří do Prahy\, aby společně s fanoušky oslavil 50 let na hudební scéně! Čeká vás výjimečný koncert plný emocí\, vášně a radosti. \nZazní slavné hity jako Felicità\, Sharazan\, Ci sarà a mnoho dalších\, které se staly nesmrtelnými a okouzlily miliony posluchačů po celém světě. \nAl Bano patří k největším legendám italské hudby – jeho kariéra trvá již půl století a jeho písně spojují generace. Tento koncert vám nabídne jedinečnou příležitost zažít atmosféru\, která vás přenese přímo do slunné Itálie. \n02. 05. 2026Kongresové centrum Praha \n\nTento tip na kulturní akci v Praha najdete v přehledu na Dnesnivylet.cz spolu s dalšími koncerty\, festivaly a divadelními představeními.Každý si vybere co se mu líbí. Nezapomeňte koupit vstupenky včas\, stačí kliknout a budete přesměrování na oficiálního prodejce vstupenek.
URL:https://dnesnivylet.cz/event/legendarni-al-bano-v-praze/
LOCATION:Kongresové centrum\, Praha\, Kongresové centrum\, Praha\, Česká republika
CATEGORIES:Koncert
ATTACH;FMTTYPE=image/jpeg:https://dnesnivylet.cz/wp-content/uploads/2025/11/320-290f46dd6b7346abb8bc233b61ff9668.jpg
END:VEVENT
BEGIN:VEVENT
DTSTART;TZID=Europe/Prague:20260502T190000
DTEND;TZID=Europe/Prague:20260502T220000
DTSTAMP:20260419T133427
CREATED:20260310T172036Z
LAST-MODIFIED:20260310T172036Z
UID:19353-1777748400-1777759200@dnesnivylet.cz
SUMMARY:ABBA SHOW | Kolín
DESCRIPTION:ABBA SHOW | Kolín se uskuteční dne 2026-05-02 v 19:00 v Kolín\, MSD. \n🎟️ Koupit vstupenku \n\nABBA WORLD Revival je desetičlenný soubor profesionálních hudebníků\, které spojuje obdiv k tvorbě světoznámé švédské skupiny ABBA.Tato tribute show patří mezi světovou špičku a přináší 100% živé vystoupení bez playbacků a half-playbacků. \nV repertoáru mají více než 30 nejznámějších hitů skupiny ABBA\, které jsou zahrány s takovou přesností\, že jsou téměř k nerozeznání od originálů. Celou show doplňují autentické dobové kostýmy\, image a choreografie. \nDíky svému charakteristickému zvuku a preciznímu hudebnímu provedení vystupuje ABBA WORLD Revival úspěšně po celé Evropě a oslovuje posluchače všech generací. Množství odehraných koncertů a léta úspěšné existence jsou toho nejlepším důkazem. \n\nTento tip na kulturní akci v Kolín najdete v přehledu na Dnesnivylet.cz spolu s dalšími koncerty\, festivaly a divadelními představeními.Každý si vybere co se mu líbí. Nezapomeňte koupit vstupenky včas\, stačí kliknout a budete přesměrování na oficiálního prodejce vstupenek.
URL:https://dnesnivylet.cz/event/abba-show-kolin/
LOCATION:MSD\, Kolín\, MSD\, Kolín\, Česká republika
CATEGORIES:Koncert
ATTACH;FMTTYPE=image/jpeg:https://dnesnivylet.cz/wp-content/uploads/2026/03/320-ec54cc98b4ea4d5192c72da7c91721a2.jpg
END:VEVENT
BEGIN:VEVENT
DTSTART;TZID=Europe/Prague:20260502T190000
DTEND;TZID=Europe/Prague:20260502T220000
DTSTAMP:20260419T133427
CREATED:20260404T175500Z
LAST-MODIFIED:20260404T175500Z
UID:20027-1777748400-1777759200@dnesnivylet.cz
SUMMARY:Hudba Coldplay při svíčkách
DESCRIPTION:Hudba Coldplay při svíčkách se uskuteční dne 2026-05-02 v 19:00 v Poděbrady\, Kongresové centrum Lázeňská kolonáda. \n🎟️ Koupit vstupenku \n\nNenechte si ujít večer plný energie a emocí\, kde zazní ty největší hity britské kapely Coldplay. Světlo stovky svíček vytvoří nezapomenutelnou atmosféru tohoto jedinečného koncertu. \nProgram v podání smyčcového kvarteta nabídne výběr těch nejznámějších skladeb Coldplay\, včetně hitů jako „Fix You“\, „Yellow“ či „Viva La Vida“\, které si získaly srdce fanoušků po celém světě. \nTento koncert přinese víc než jen hudbu; stovky svíček rozzáří prostor a vytvoří atmosféru plnou emocí\, melancholie a nezapomenutelných melodií\, které vás vezmou na hudební cestu s Coldplay. \nAkce je přístupná od 12 let. Každý účastník musí předložit platnou vstupenku  zakoupenou výhradně v síti smsticket. \n\nTento tip na kulturní akci v Poděbrady najdete v přehledu na Dnesnivylet.cz spolu s dalšími koncerty\, festivaly a divadelními představeními.Každý si vybere co se mu líbí. Nezapomeňte koupit vstupenky včas\, stačí kliknout a budete přesměrování na oficiálního prodejce vstupenek.
URL:https://dnesnivylet.cz/event/hudba-coldplay-pri-svickach-30/
LOCATION:Kongresové centrum Lázeňská kolonáda\, Poděbrady\, Kongresové centrum Lázeňská kolonáda\, Poděbrady\, Česká republika
CATEGORIES:Koncert
ATTACH;FMTTYPE=image/jpeg:https://dnesnivylet.cz/wp-content/uploads/2026/04/320-d115c64b297d4ea188c6c65dd107b759.jpg
END:VEVENT
END:VCALENDAR