BEGIN:VCALENDAR
VERSION:2.0
PRODID:-//www.dnesnivylet.cz                                                                                                                        Tip na výlet pro celou rodinu. - ECPv6.15.13.1//NONSGML v1.0//EN
CALSCALE:GREGORIAN
METHOD:PUBLISH
X-ORIGINAL-URL:https://dnesnivylet.cz
X-WR-CALDESC:Akce na www.dnesnivylet.cz                                                                                                                        Tip na výlet pro celou rodinu.
REFRESH-INTERVAL;VALUE=DURATION:PT1H
X-Robots-Tag:noindex
X-PUBLISHED-TTL:PT1H
BEGIN:VTIMEZONE
TZID:Europe/Prague
BEGIN:DAYLIGHT
TZOFFSETFROM:+0100
TZOFFSETTO:+0200
TZNAME:CEST
DTSTART:20250330T010000
END:DAYLIGHT
BEGIN:STANDARD
TZOFFSETFROM:+0200
TZOFFSETTO:+0100
TZNAME:CET
DTSTART:20251026T010000
END:STANDARD
BEGIN:DAYLIGHT
TZOFFSETFROM:+0100
TZOFFSETTO:+0200
TZNAME:CEST
DTSTART:20260329T010000
END:DAYLIGHT
BEGIN:STANDARD
TZOFFSETFROM:+0200
TZOFFSETTO:+0100
TZNAME:CET
DTSTART:20261025T010000
END:STANDARD
BEGIN:DAYLIGHT
TZOFFSETFROM:+0100
TZOFFSETTO:+0200
TZNAME:CEST
DTSTART:20270328T010000
END:DAYLIGHT
BEGIN:STANDARD
TZOFFSETFROM:+0200
TZOFFSETTO:+0100
TZNAME:CET
DTSTART:20271031T010000
END:STANDARD
END:VTIMEZONE
BEGIN:VEVENT
DTSTART;TZID=Europe/Prague:20260605T170000
DTEND;TZID=Europe/Prague:20260605T200000
DTSTAMP:20260419T190251
CREATED:20260310T171740Z
LAST-MODIFIED:20260310T171740Z
UID:19337-1780678800-1780689600@dnesnivylet.cz
SUMMARY:Benefiční koncert Králův Dvůr
DESCRIPTION:Benefiční koncert Králův Dvůr se uskuteční dne 2026-06-05 v 17:00 v Králův Dvůr\, Letní scéna na zámku v Králově Dvoře. \n🎟️ Koupit vstupenku \n\nBENEFIČNÍ KONCERT KRÁLŮV DVŮR \nPátek 5. června 2026 – Letní scéna u zámku v Králově Dvoře. \nSKP Beroun z. s.\, pod záštitou města Králův Dvůr\, pořádá Benefiční koncert na podporu neziskové organizace Sociální podnik Klubák\, z. ú.\, jehož posláním  je vytvářet trvale udržitelné pracovní příležitosti pro osoby výrazně znevýhodněné na trhu práce a k tomu jim poskytovat přiměřenou pracovní a psychosociální podporu. Těmito osobami jsou lidé se zdravotním postižením (OZP)\, pečující osoby\, dlouhodobě nezaměstnaní (50+\, absolventi bez praxe\, rodiče po mateřské dovolené) a jinak sociálně znevýhodnění občané z regionu Berounsko\, Hořovicko\, Praha – Západ a Kladno. \nZakoupením vstupenky tak přímo podpoříte Sociální podnik Klubák\, z. ú. Podporu můžete dále vyjádřit zakoupením nějaké dobroty ve stánku podniku přímo v místě konání koncertu. Na koncert dorazí i tři přední osobnosti českého sportu\, které zde budou dražit své předměty. Výtěžek z těchto dražeb bude opět věnován Sociálnímu podniku Klubák\, z. ú. \nAkce se koná za podpory města Králův Dvůr a Nadace Tipsport.  \nSkvělý hudební zážitek zajistí revivalové hudební skupiny: \nWABI DANĚK TRIBUTE \nBRONTOSAUŘI REVIVAL \nRosťa Fišer a MICHAL TUČNÝ REVIVAL BAND PLZEŇ \nELVIS CZ Vláďa Lichnovský & BAND \n\nTento tip na kulturní akci v Králův Dvůr najdete v přehledu na Dnesnivylet.cz spolu s dalšími koncerty\, festivaly a divadelními představeními.Každý si vybere co se mu líbí. Nezapomeňte koupit vstupenky včas\, stačí kliknout a budete přesměrování na oficiálního prodejce vstupenek.
URL:https://dnesnivylet.cz/event/beneficni-koncert-kraluv-dvur/
LOCATION:Letní scéna na zámku v Králově Dvoře\, Králův Dvůr\, Letní scéna na zámku v Králově Dvoře\, Králův Dvůr\, Česká republika
CATEGORIES:Koncert
ATTACH;FMTTYPE=image/jpeg:https://dnesnivylet.cz/wp-content/uploads/2026/03/320-ea93391c94224b90b04cf2f622c3da86.jpg
END:VEVENT
BEGIN:VEVENT
DTSTART;TZID=Europe/Prague:20260605T170000
DTEND;TZID=Europe/Prague:20260605T200000
DTSTAMP:20260419T190251
CREATED:20260419T123209Z
LAST-MODIFIED:20260419T123210Z
UID:20997-1780678800-1780689600@dnesnivylet.cz
SUMMARY:AMOS FEST: Divokej Bill\, Vypsaná FiXa\, Koblizc!\, The Feet
DESCRIPTION:AMOS FEST: Divokej Bill\, Vypsaná FiXa\, Koblizc!\, The Feet  se uskuteční dne 2026-06-05 v 17:00 v Dačice\, Letní scéna zámeckého parku. \n🎟️ Koupit vstupenku \n\nBlíží se oslavy 10 let AMOSE! A my jsme se rozhodli uspořádat fest\, který bude stát za to! Po třech letech se vrací do parku fenomenální kapela DIVOKEJ BILL ! \nDále se představí Vypsaná FiXa\, Koblizc! a o závěr se představí The Feet!  \nSlušný co? Tak neváhejte a kupujte vstupenky… první startovací vlna pár vstupenek bude za 750\,- Kč !  \n  \nDěti do 6 let v doprovodu rodičů ZDARMA.  \n\nTento tip na kulturní akci v Dačice najdete v přehledu na Dnesnivylet.cz spolu s dalšími koncerty\, festivaly a divadelními představeními.Každý si vybere co se mu líbí. Nezapomeňte koupit vstupenky včas\, stačí kliknout a budete přesměrování na oficiálního prodejce vstupenek.
URL:https://dnesnivylet.cz/event/amos-fest-divokej-bill-vypsana-fixa-koblizc-the-feet/
LOCATION:Letní scéna zámeckého parku\, Dačice\, Letní scéna zámeckého parku\, Dačice\, Česká republika
CATEGORIES:Festival
ATTACH;FMTTYPE=image/jpeg:https://dnesnivylet.cz/wp-content/uploads/2026/04/320-00eaf389bbd94be5ba386eff731e8d09.jpg
END:VEVENT
BEGIN:VEVENT
DTSTART;TZID=Europe/Prague:20260605T200000
DTEND;TZID=Europe/Prague:20260605T230000
DTSTAMP:20260419T190251
CREATED:20260310T171010Z
LAST-MODIFIED:20260310T171011Z
UID:19284-1780689600-1780700400@dnesnivylet.cz
SUMMARY:Mňága a Žďorp - tradiční letní koncert
DESCRIPTION:Mňága a Žďorp – tradiční letní koncert se uskuteční dne 2026-06-05 v 20:00 v Děhylov\, Děhylov – areál Loděnice. \n🎟️ Koupit vstupenku \n\nOpen Air Tradiční Letní Koncert v areálu Loděnice Děhylov proběhne v malebném prostředí přímo na břehu řeky Opavy. \nDěti do 10 let včetně zdarma. \n\nTento tip na kulturní akci v Děhylov najdete v přehledu na Dnesnivylet.cz spolu s dalšími koncerty\, festivaly a divadelními představeními.Každý si vybere co se mu líbí. Nezapomeňte koupit vstupenky včas\, stačí kliknout a budete přesměrování na oficiálního prodejce vstupenek.
URL:https://dnesnivylet.cz/event/mnaga-a-zdorp-tradicni-letni-koncert/
LOCATION:Děhylov – areál Loděnice\, Děhylov\, Děhylov - areál Loděnice\, Děhylov\, Česká republika
CATEGORIES:Koncert
ATTACH;FMTTYPE=image/jpeg:https://dnesnivylet.cz/wp-content/uploads/2026/03/320-03612e2dcf5d4d9fb234e266eea6e17e.jpg
END:VEVENT
END:VCALENDAR