BEGIN:VCALENDAR
VERSION:2.0
PRODID:-//www.dnesnivylet.cz                                                                                                                        Tip na výlet pro celou rodinu. - ECPv6.15.13.1//NONSGML v1.0//EN
CALSCALE:GREGORIAN
METHOD:PUBLISH
X-WR-CALNAME:www.dnesnivylet.cz                                                                                                                        Tip na výlet pro celou rodinu.
X-ORIGINAL-URL:https://dnesnivylet.cz
X-WR-CALDESC:Akce na www.dnesnivylet.cz                                                                                                                        Tip na výlet pro celou rodinu.
REFRESH-INTERVAL;VALUE=DURATION:PT1H
X-Robots-Tag:noindex
X-PUBLISHED-TTL:PT1H
BEGIN:VTIMEZONE
TZID:Europe/Prague
BEGIN:DAYLIGHT
TZOFFSETFROM:+0100
TZOFFSETTO:+0200
TZNAME:CEST
DTSTART:20250330T010000
END:DAYLIGHT
BEGIN:STANDARD
TZOFFSETFROM:+0200
TZOFFSETTO:+0100
TZNAME:CET
DTSTART:20251026T010000
END:STANDARD
BEGIN:DAYLIGHT
TZOFFSETFROM:+0100
TZOFFSETTO:+0200
TZNAME:CEST
DTSTART:20260329T010000
END:DAYLIGHT
BEGIN:STANDARD
TZOFFSETFROM:+0200
TZOFFSETTO:+0100
TZNAME:CET
DTSTART:20261025T010000
END:STANDARD
BEGIN:DAYLIGHT
TZOFFSETFROM:+0100
TZOFFSETTO:+0200
TZNAME:CEST
DTSTART:20270328T010000
END:DAYLIGHT
BEGIN:STANDARD
TZOFFSETFROM:+0200
TZOFFSETTO:+0100
TZNAME:CET
DTSTART:20271031T010000
END:STANDARD
END:VTIMEZONE
BEGIN:VEVENT
DTSTART;TZID=Europe/Prague:20260606T180000
DTEND;TZID=Europe/Prague:20260606T210000
DTSTAMP:20260419T215158
CREATED:20260419T120705Z
LAST-MODIFIED:20260419T120706Z
UID:20680-1780768800-1780779600@dnesnivylet.cz
SUMMARY:Šumný Šumperk - Slavnosti města Šumperka 2026
DESCRIPTION:Šumný Šumperk – Slavnosti města Šumperka 2026 se uskuteční dne 2026-06-06 v 18:00 v Šumperk\, Dům kultury – Pavlínin dvůr. \n🎟️ Koupit vstupenku \n\nKATEŘINA MARIE TICHÁ\, RENNE DANG\, STO ZVÍŘAT\, SIOUX \nZveme vás do krásného prostředí Pavlínina dvora na koncert k příležitosti slavností města Šumný Šumperk. \nVstupné:19.1. – 31.3. -> 250 Kč1.4. – 5.6. -> 300 KčV den konání 350 KčDěti do 10 let mají vstupné zdarma. \nHarmonogram:17.30 – otevření Pavlínina dvora18.00 – 18.05 úvodní slovo18.05 – 18.55 Sioux19.10 – 20.10 Renne Dang20.40 – 22.00 Kateřina Marie Tichá & Bandjeez22.40 – 00.00 Sto zvířat \n*změna programu vyhrazena \n\nTento tip na kulturní akci v Šumperk najdete v přehledu na Dnesnivylet.cz spolu s dalšími koncerty\, festivaly a divadelními představeními.Každý si vybere co se mu líbí. Nezapomeňte koupit vstupenky včas\, stačí kliknout a budete přesměrování na oficiálního prodejce vstupenek.
URL:https://dnesnivylet.cz/event/sumny-sumperk-slavnosti-mesta-sumperka-2026/
LOCATION:Dům kultury – Pavlínin dvůr\, Šumperk\, Dům kultury - Pavlínin dvůr\, Šumperk\, Česká republika
CATEGORIES:Festival
ATTACH;FMTTYPE=image/jpeg:https://dnesnivylet.cz/wp-content/uploads/2026/04/320-aadfa523e806492583bad30d11a50354.jpg
END:VEVENT
BEGIN:VEVENT
DTSTART;TZID=Europe/Prague:20260606T190000
DTEND;TZID=Europe/Prague:20260606T220000
DTSTAMP:20260419T215158
CREATED:20260306T173508Z
LAST-MODIFIED:20260306T173508Z
UID:19160-1780772400-1780783200@dnesnivylet.cz
SUMMARY:Marie Tilšarová v Neratově
DESCRIPTION:Marie Tilšarová v Neratově se uskuteční dne 2026-06-06 v 19:00 v Neratov\, Kostel Nanebevzetí Panny Marie. \n🎟️ Koupit vstupenku \n\nMarie Tilšarová s kapelou A KDO JSME MY se již potřetí vrací na toto magické místo. \n  \n\nTento tip na kulturní akci v Neratov najdete v přehledu na Dnesnivylet.cz spolu s dalšími koncerty\, festivaly a divadelními představeními.Každý si vybere co se mu líbí. Nezapomeňte koupit vstupenky včas\, stačí kliknout a budete přesměrování na oficiálního prodejce vstupenek.
URL:https://dnesnivylet.cz/event/marie-tilsarova-v-neratove/
LOCATION:Kostel Nanebevzetí Panny Marie\, Neratov\, Kostel Nanebevzetí Panny Marie\, Neratov\, Česká republika
CATEGORIES:Koncert
ATTACH;FMTTYPE=image/jpeg:https://dnesnivylet.cz/wp-content/uploads/2026/03/320-770057b1e77749deb328480f989d4668.jpg
END:VEVENT
BEGIN:VEVENT
DTSTART;TZID=Europe/Prague:20260606T200000
DTEND;TZID=Europe/Prague:20260606T230000
DTSTAMP:20260419T215158
CREATED:20251102T184849Z
LAST-MODIFIED:20251102T184850Z
UID:11263-1780776000-1780786800@dnesnivylet.cz
SUMMARY:1D Party - Bratislava
DESCRIPTION:1D Party – Bratislava se uskuteční dne 2026-06-06 v 20:00 v Bratislava\, Randal club. \n🎟️ Koupit vstupenku \n\n  \nNejvětší ONE DIRECTION Party poprvé v Bratislavě!  \nUž 6.6. si přijď zavzpomínat do Randal clubu na jednu z nejoblíbenějších kapel našeho dětství!  \nVrátíme se v čase do roku 2011\, kdy vyšel jejich debutový singl What Makes You Beautiful. Zatancujeme si společně taneček na One Way Or Another. Popláčeme si u písní jako jsou You & I\, Story Of My Life\, History nebo Night Changes. Nebudou chybět ani jejich sólové písně\, a také  zavzpomínáme na Liama. \nTěšit se můžeš na skvělou videoprojekci a boží atmosféru!  \nVIP vstupenka obsahuje přednostní vstup a originální 1D Podpisový plakát jako dáreček! \nINFO:OPEN: 20:00 ⏰START: 21:00 🏁Vek: 15+ ✅ \n\nTento tip na kulturní akci v Bratislava najdete v přehledu na Dnesnivylet.cz spolu s dalšími koncerty\, festivaly a divadelními představeními.Každý si vybere co se mu líbí. Nezapomeňte koupit vstupenky včas\, stačí kliknout a budete přesměrování na oficiálního prodejce vstupenek.
URL:https://dnesnivylet.cz/event/1d-party-bratislava/
LOCATION:Randal club\, Bratislava\, Randal club\, Bratislava\, Česká republika
CATEGORIES:Zábava
ATTACH;FMTTYPE=image/jpeg:https://dnesnivylet.cz/wp-content/uploads/2025/11/320-a4c5918190654245a84cb8fdd91bafa8.jpg
END:VEVENT
END:VCALENDAR