BEGIN:VCALENDAR
VERSION:2.0
PRODID:-//www.dnesnivylet.cz                                                                                                                        Tip na výlet pro celou rodinu. - ECPv6.15.13.1//NONSGML v1.0//EN
CALSCALE:GREGORIAN
METHOD:PUBLISH
X-WR-CALNAME:www.dnesnivylet.cz                                                                                                                        Tip na výlet pro celou rodinu.
X-ORIGINAL-URL:https://dnesnivylet.cz
X-WR-CALDESC:Akce na www.dnesnivylet.cz                                                                                                                        Tip na výlet pro celou rodinu.
REFRESH-INTERVAL;VALUE=DURATION:PT1H
X-Robots-Tag:noindex
X-PUBLISHED-TTL:PT1H
BEGIN:VTIMEZONE
TZID:Europe/Prague
BEGIN:DAYLIGHT
TZOFFSETFROM:+0100
TZOFFSETTO:+0200
TZNAME:CEST
DTSTART:20250330T010000
END:DAYLIGHT
BEGIN:STANDARD
TZOFFSETFROM:+0200
TZOFFSETTO:+0100
TZNAME:CET
DTSTART:20251026T010000
END:STANDARD
BEGIN:DAYLIGHT
TZOFFSETFROM:+0100
TZOFFSETTO:+0200
TZNAME:CEST
DTSTART:20260329T010000
END:DAYLIGHT
BEGIN:STANDARD
TZOFFSETFROM:+0200
TZOFFSETTO:+0100
TZNAME:CET
DTSTART:20261025T010000
END:STANDARD
BEGIN:DAYLIGHT
TZOFFSETFROM:+0100
TZOFFSETTO:+0200
TZNAME:CEST
DTSTART:20270328T010000
END:DAYLIGHT
BEGIN:STANDARD
TZOFFSETFROM:+0200
TZOFFSETTO:+0100
TZNAME:CET
DTSTART:20271031T010000
END:STANDARD
END:VTIMEZONE
BEGIN:VEVENT
DTSTART;TZID=Europe/Prague:20260609T190000
DTEND;TZID=Europe/Prague:20260609T220000
DTSTAMP:20260419T202550
CREATED:20251214T073657Z
LAST-MODIFIED:20251214T073657Z
UID:15222-1781031600-1781042400@dnesnivylet.cz
SUMMARY:Václav Noid Bárta a Bek Bek Clan
DESCRIPTION:Václav Noid Bárta a Bek Bek Clan se uskuteční dne 2026-06-09 v 19:00 v Vsetín\, Dům Kultury. \n🎟️ Koupit vstupenku \n\nVáclav NOID Bárta ve Vsetíně! \nDo Domu kultury ve Vsetíně míří aktuální Zlatý slavík – Václav Noid Bárta. Jeho výrazný hlas\, přirozená energie a silné charisma budou hlavními prvky večera\, který nabídne nezapomenutelnou atmosféru v podání jednoho z nejvýraznějších interpretů současné české hudební scény. \nOd prvních kroků s kapelami Dolores Clan\, Noid Crew a Dymytry\, přes divadelní svět muzikálů až po jeho současnou sólovou tvorbu. Přijďte si projít dvacetiletou hudební cestu Václava NOIDA Bárty – charizmatického zpěváka\, autora filmové hudby a jedinečného hlasu české hudební scény. \nNa co se můžete těšit?Během večera zazní jak jeho autorské skladby\, tak i oblíbené převzaté songy\, které skvěle doplní energii a atmosféru celého koncertu. Tento výjimečný večer přinese nálož skvělé muziky\, pohody a neuvěřitelné energie\, která vás strhne! \nZažijte hudební show\, na kterou se nezapomíná! \n\nTento tip na kulturní akci v Vsetín najdete v přehledu na Dnesnivylet.cz spolu s dalšími koncerty\, festivaly a divadelními představeními.Každý si vybere co se mu líbí. Nezapomeňte koupit vstupenky včas\, stačí kliknout a budete přesměrování na oficiálního prodejce vstupenek.
URL:https://dnesnivylet.cz/event/vaclav-noid-barta-a-bek-bek-clan-19/
LOCATION:Dům Kultury\, Vsetín\, Dům Kultury\, Vsetín\, Česká republika
CATEGORIES:Koncert
ATTACH;FMTTYPE=image/jpeg:https://dnesnivylet.cz/wp-content/uploads/2025/12/320-c5872db250634aa588684d49a63d1fc7.jpg
END:VEVENT
BEGIN:VEVENT
DTSTART;TZID=Europe/Prague:20260609T190000
DTEND;TZID=Europe/Prague:20260609T220000
DTSTAMP:20260419T202550
CREATED:20260208T144217Z
LAST-MODIFIED:20260208T144217Z
UID:17585-1781031600-1781042400@dnesnivylet.cz
SUMMARY:Světová hudba pro 4 saxofony a zpěv
DESCRIPTION:Světová hudba pro 4 saxofony a zpěv se uskuteční dne 2026-06-09 v 19:00 v Praha\, Jeruzalémská (Jubilejní) synagoga. \n🎟️ Koupit vstupenku \n\n  \nV nádherné Jeruzalémské (Jubilejní) synagoze zazní ty nejkrásnější světové skladby v úpravách pro saxofony a zpěv \n. \nSaxofonové kvarteto FOUR + ONE \nPetr RANDÍK – soprán saxofon\, Zdeněk ZADRAŽIL – alt saxofon\,  \nTomáš PUDIVÍTR – tenor saxofon\, Vít DĚDIČ – baryton saxofon \na Andrea KAŇKOVÁ – zpěv \n. \nPROGRAM: \nA. VIVALDI – Jaro ze Čtyř ročních období (v úpravě pro saxofony) \nA. DVOŘÁK – Largo z Novosvětské \nE. MORRICONE – Tenkrát na západě \nJ. STRAUSS – Pizzicato polka \nS. YRANDIER – La Paloma \nJ. JEŽEK – Bugatti Step \nG. GERSHWIN – I got rhytm \nBEATLES – Eleanor Rigby \nEVITA – Don´t cry for me\, Argentina \nBEATLES – Can´t buy me love \nQUEEN – Crazy Little Think Called Love \nB. STREISAND – MEMORY \nW. HOUSTON – I will always love you \nB. STREISAND – Tell Him  \nB. LISTON – Brazil \nB. Mc FERRIN – Don´t Worry Be Happy \nF. SINATRA – My way \nDélka cca 65 minut\, změna programu vyhrazena. \n\nTento tip na kulturní akci v Praha najdete v přehledu na Dnesnivylet.cz spolu s dalšími koncerty\, festivaly a divadelními představeními.Každý si vybere co se mu líbí. Nezapomeňte koupit vstupenky včas\, stačí kliknout a budete přesměrování na oficiálního prodejce vstupenek.
URL:https://dnesnivylet.cz/event/svetova-hudba-pro-4-saxofony-a-zpev-3/
LOCATION:Jeruzalémská (Jubilejní) synagoga\, Praha\, Jeruzalémská (Jubilejní) synagoga\, Praha\, Česká republika
CATEGORIES:Koncert
ATTACH;FMTTYPE=image/jpeg:https://dnesnivylet.cz/wp-content/uploads/2026/02/320-423112135bfd4bfe8d8953af163c27a9.jpg
END:VEVENT
END:VCALENDAR