BEGIN:VCALENDAR
VERSION:2.0
PRODID:-//www.dnesnivylet.cz                                                                                                                        Tip na výlet pro celou rodinu. - ECPv6.15.13.1//NONSGML v1.0//EN
CALSCALE:GREGORIAN
METHOD:PUBLISH
X-ORIGINAL-URL:https://dnesnivylet.cz
X-WR-CALDESC:Akce na www.dnesnivylet.cz                                                                                                                        Tip na výlet pro celou rodinu.
REFRESH-INTERVAL;VALUE=DURATION:PT1H
X-Robots-Tag:noindex
X-PUBLISHED-TTL:PT1H
BEGIN:VTIMEZONE
TZID:Europe/Prague
BEGIN:DAYLIGHT
TZOFFSETFROM:+0100
TZOFFSETTO:+0200
TZNAME:CEST
DTSTART:20250330T010000
END:DAYLIGHT
BEGIN:STANDARD
TZOFFSETFROM:+0200
TZOFFSETTO:+0100
TZNAME:CET
DTSTART:20251026T010000
END:STANDARD
BEGIN:DAYLIGHT
TZOFFSETFROM:+0100
TZOFFSETTO:+0200
TZNAME:CEST
DTSTART:20260329T010000
END:DAYLIGHT
BEGIN:STANDARD
TZOFFSETFROM:+0200
TZOFFSETTO:+0100
TZNAME:CET
DTSTART:20261025T010000
END:STANDARD
BEGIN:DAYLIGHT
TZOFFSETFROM:+0100
TZOFFSETTO:+0200
TZNAME:CEST
DTSTART:20270328T010000
END:DAYLIGHT
BEGIN:STANDARD
TZOFFSETFROM:+0200
TZOFFSETTO:+0100
TZNAME:CET
DTSTART:20271031T010000
END:STANDARD
END:VTIMEZONE
BEGIN:VEVENT
DTSTART;TZID=Europe/Prague:20260620T140000
DTEND;TZID=Europe/Prague:20260620T170000
DTSTAMP:20260419T190255
CREATED:20260310T171738Z
LAST-MODIFIED:20260310T171739Z
UID:19326-1781964000-1781974800@dnesnivylet.cz
SUMMARY:Back to Wembley ’85
DESCRIPTION:Back to Wembley ’85 se uskuteční dne 2026-06-20 v 14:00 v Brno\, Velodrom Brno. \n🎟️ Koupit vstupenku \n\nVelodrom Brno se stane dějištěm pocty legendárnímu koncertu Live Aid\, který se odehrál v roce 1985 na stadionu Wembley! \nUplynulo 40 let od jednoho z nejlegendárnějších koncertů v historii populární hudby\, a právě proto se zrodila naše myšlenka vzdát hold této výjimečné události v podobě mega koncertu na brněnském Velodromu s kapacitou až 15 000 návštěvníků. \nBěhem večera vystoupí 6 zkušených tribute kapel\, které vám přinesou hudbu legend\, jako jsou Queen\, David Bowie\, Elton John a další. \nA důležitá informace – stejně jako měl koncert Live Aid charitativní přesah\, i brněnský koncert Back to Wembley bude částečně věnován na charitu. O všech podrobnostech vás budeme postupně informovat. \n\nBack to Wembley ’85\nSo. 20.6.2026\nKřížkovského 22\, Brno\nOpen Door 14:00\n\nVystupující:  \n\n𝐐𝐔𝐄𝐄𝐍  // Queenways / Queen Tribute Band\n𝐃𝐚𝐯𝐢𝐝 𝐁𝐨𝐰𝐢𝐞  // Milan Devinne MR. BOWIE\n𝐄𝐥𝐭𝐨𝐧 𝐉𝐨𝐡𝐧  // Revival\n𝐔𝟐  // U2 ONE\n𝐁𝐨𝐧 𝐉𝐨𝐯𝐢  // Absolute Bon Jovi revival\n𝐒𝐓𝐈𝐍𝐆 // STINGA\n\n  \n\nTento tip na kulturní akci v Brno najdete v přehledu na Dnesnivylet.cz spolu s dalšími koncerty\, festivaly a divadelními představeními.Každý si vybere co se mu líbí. Nezapomeňte koupit vstupenky včas\, stačí kliknout a budete přesměrování na oficiálního prodejce vstupenek.
URL:https://dnesnivylet.cz/event/back-to-wembley-85/
LOCATION:Velodrom Brno\, Brno\, Velodrom Brno\, Brno\, Česká republika
CATEGORIES:Koncert
ATTACH;FMTTYPE=image/jpeg:https://dnesnivylet.cz/wp-content/uploads/2026/03/320-8ad63d0e40564b03a3d15f410f6aaa5d.jpg
END:VEVENT
END:VCALENDAR