BEGIN:VCALENDAR
VERSION:2.0
PRODID:-//www.dnesnivylet.cz                                                                                                                        Tip na výlet pro celou rodinu. - ECPv6.15.13.1//NONSGML v1.0//EN
CALSCALE:GREGORIAN
METHOD:PUBLISH
X-ORIGINAL-URL:https://dnesnivylet.cz
X-WR-CALDESC:Akce na www.dnesnivylet.cz                                                                                                                        Tip na výlet pro celou rodinu.
REFRESH-INTERVAL;VALUE=DURATION:PT1H
X-Robots-Tag:noindex
X-PUBLISHED-TTL:PT1H
BEGIN:VTIMEZONE
TZID:Europe/Prague
BEGIN:DAYLIGHT
TZOFFSETFROM:+0100
TZOFFSETTO:+0200
TZNAME:CEST
DTSTART:20250330T010000
END:DAYLIGHT
BEGIN:STANDARD
TZOFFSETFROM:+0200
TZOFFSETTO:+0100
TZNAME:CET
DTSTART:20251026T010000
END:STANDARD
BEGIN:DAYLIGHT
TZOFFSETFROM:+0100
TZOFFSETTO:+0200
TZNAME:CEST
DTSTART:20260329T010000
END:DAYLIGHT
BEGIN:STANDARD
TZOFFSETFROM:+0200
TZOFFSETTO:+0100
TZNAME:CET
DTSTART:20261025T010000
END:STANDARD
BEGIN:DAYLIGHT
TZOFFSETFROM:+0100
TZOFFSETTO:+0200
TZNAME:CEST
DTSTART:20270328T010000
END:DAYLIGHT
BEGIN:STANDARD
TZOFFSETFROM:+0200
TZOFFSETTO:+0100
TZNAME:CET
DTSTART:20271031T010000
END:STANDARD
END:VTIMEZONE
BEGIN:VEVENT
DTSTART;TZID=Europe/Prague:20260625T200000
DTEND;TZID=Europe/Prague:20260625T230000
DTSTAMP:20260419T202803
CREATED:20251215T111638Z
LAST-MODIFIED:20251215T111638Z
UID:15490-1782417600-1782428400@dnesnivylet.cz
SUMMARY:4 Tenoři - open air
DESCRIPTION:4 Tenoři – open air  se uskuteční dne 2026-06-25 v 20:00 v Šternberk\, Státní hrad Šternberk. \n🎟️ Koupit vstupenku \n\n4 Tenoři: To nejlepší! \nČtyři výjimečné pěvecké osobnosti\, Marian Vojtko\, Pavel Vítek\, Jan Kříž a Michal Bragagnolo\, spojily své hlasy v unikátním projektu\, který si během posledních let získal srdce statisíců diváků. V novém programu To nejlepší! zazní průřez jejich repertoárem – od světových a českých muzikálových melodií přes filmové a operní árie až po populární hity v originálních úpravách. \nKoncert slibuje nejen mimořádný hudební zážitek\, ale také jedinečnou atmosféru\, noblesní humor a energii\, se kterou 4 Tenoři dokážou nadchnout každé publikum.Mnohokrát oceněné seskupení 4 Tenoři zazpívá v doprovodu 6 špičkových hudebníků. \nČtyři hlasy\, jeden nezapomenutelný večer! \n\nTento tip na kulturní akci v Šternberk najdete v přehledu na Dnesnivylet.cz spolu s dalšími koncerty\, festivaly a divadelními představeními.Každý si vybere co se mu líbí. Nezapomeňte koupit vstupenky včas\, stačí kliknout a budete přesměrování na oficiálního prodejce vstupenek.
URL:https://dnesnivylet.cz/event/4-tenori-open-air/
LOCATION:Státní hrad Šternberk\, Šternberk\, Státní hrad Šternberk\, Šternberk\, Česká republika
CATEGORIES:Koncert
ATTACH;FMTTYPE=image/jpeg:https://dnesnivylet.cz/wp-content/uploads/2025/12/320-237bdd57e3784a9baee56de760f352ce.jpg
END:VEVENT
BEGIN:VEVENT
DTSTART;TZID=Europe/Prague:20260625T200000
DTEND;TZID=Europe/Prague:20260625T230000
DTSTAMP:20260419T202803
CREATED:20260110T163428Z
LAST-MODIFIED:20260110T163430Z
UID:16626-1782417600-1782428400@dnesnivylet.cz
SUMMARY:Václav Noid Bárta na zámku Nelahozeves
DESCRIPTION:Václav Noid Bárta na zámku Nelahozeves se uskuteční dne 2026-06-25 v 20:00 v Nelahozeves\, Zámek Nelahozeves. \n🎟️ Koupit vstupenku \n\nVáclav NOID Bárta na zámku v Nelahozevsi! \nNa zámek Nelahozeves míří aktuální Zlatý slavík – Václav Noid Bárta. Jeho výrazný hlas\, přirozená energie a silné charisma budou hlavními prvky večera\, který nabídne nezapomenutelnou atmosféru v podání jednoho z nejvýraznějších interpretů současné české hudební scény. \nOd prvních kroků s kapelami Dolores Clan\, Noid Crew a Dymytry\, přes divadelní svět muzikálů až po jeho současnou sólovou tvorbu. Přijďte si projít dvacetiletou hudební cestu Václava NOIDA Bárty – charizmatického zpěváka\, autora filmové hudby a jedinečného hlasu české hudební scény. \nNa co se můžete těšit?Během večera zazní jak jeho autorské skladby\, tak i oblíbené převzaté songy\, které skvěle doplní energii a atmosféru celého koncertu. Tento výjimečný večer přinese nálož skvělé muziky\, pohody a neuvěřitelné energie\, která vás strhne! \nZažijte hudební show\, na kterou se nezapomíná! \n\nTento tip na kulturní akci v Nelahozeves najdete v přehledu na Dnesnivylet.cz spolu s dalšími koncerty\, festivaly a divadelními představeními.Každý si vybere co se mu líbí. Nezapomeňte koupit vstupenky včas\, stačí kliknout a budete přesměrování na oficiálního prodejce vstupenek.
URL:https://dnesnivylet.cz/event/vaclav-noid-barta-na-zamku-nelahozeves/
LOCATION:Zámek Nelahozeves\, Nelahozeves\, Zámek Nelahozeves\, Nelahozeves\, Česká republika
CATEGORIES:Koncert
ATTACH;FMTTYPE=image/jpeg:https://dnesnivylet.cz/wp-content/uploads/2026/01/320-01da2441596f4faeacbb51e5728bbc08.jpg
END:VEVENT
END:VCALENDAR