BEGIN:VCALENDAR
VERSION:2.0
PRODID:-//www.dnesnivylet.cz                                                                                                                        Tip na výlet pro celou rodinu. - ECPv6.15.13.1//NONSGML v1.0//EN
CALSCALE:GREGORIAN
METHOD:PUBLISH
X-ORIGINAL-URL:https://dnesnivylet.cz
X-WR-CALDESC:Akce na www.dnesnivylet.cz                                                                                                                        Tip na výlet pro celou rodinu.
REFRESH-INTERVAL;VALUE=DURATION:PT1H
X-Robots-Tag:noindex
X-PUBLISHED-TTL:PT1H
BEGIN:VTIMEZONE
TZID:Europe/Prague
BEGIN:DAYLIGHT
TZOFFSETFROM:+0100
TZOFFSETTO:+0200
TZNAME:CEST
DTSTART:20250330T010000
END:DAYLIGHT
BEGIN:STANDARD
TZOFFSETFROM:+0200
TZOFFSETTO:+0100
TZNAME:CET
DTSTART:20251026T010000
END:STANDARD
BEGIN:DAYLIGHT
TZOFFSETFROM:+0100
TZOFFSETTO:+0200
TZNAME:CEST
DTSTART:20260329T010000
END:DAYLIGHT
BEGIN:STANDARD
TZOFFSETFROM:+0200
TZOFFSETTO:+0100
TZNAME:CET
DTSTART:20261025T010000
END:STANDARD
BEGIN:DAYLIGHT
TZOFFSETFROM:+0100
TZOFFSETTO:+0200
TZNAME:CEST
DTSTART:20270328T010000
END:DAYLIGHT
BEGIN:STANDARD
TZOFFSETFROM:+0200
TZOFFSETTO:+0100
TZNAME:CET
DTSTART:20271031T010000
END:STANDARD
END:VTIMEZONE
BEGIN:VEVENT
DTSTART;TZID=Europe/Prague:20260626T190000
DTEND;TZID=Europe/Prague:20260626T220000
DTSTAMP:20260419T202803
CREATED:20260124T100221Z
LAST-MODIFIED:20260124T100222Z
UID:17062-1782500400-1782511200@dnesnivylet.cz
SUMMARY:ABBA SHOW 50
DESCRIPTION:ABBA SHOW 50 se uskuteční dne 2026-06-26 v 19:00 v Opava\, kostel sv. Václava. \n🎟️ Koupit vstupenku \n\nABBA WORLD Revival je desetičlenný soubor profesionálních hudebníků\, které spojuje obdiv k tvorbě světoznámé švédské skupiny ABBA.Tato tribute show patří mezi světovou špičku a přináší 100% živé vystoupení bez playbacků a half-playbacků. \nV repertoáru mají více než 30 nejznámějších hitů skupiny ABBA\, které jsou zahrány s takovou přesností\, že jsou téměř k nerozeznání od originálů. Celou show doplňují autentické dobové kostýmy\, image a choreografie. \nDíky svému charakteristickému zvuku a preciznímu hudebnímu provedení vystupuje ABBA WORLD Revival úspěšně po celé Evropě a oslovuje posluchače všech generací. Množství odehraných koncertů a léta úspěšné existence jsou toho nejlepším důkazem. \n\nTento tip na kulturní akci v Opava najdete v přehledu na Dnesnivylet.cz spolu s dalšími koncerty\, festivaly a divadelními představeními.Každý si vybere co se mu líbí. Nezapomeňte koupit vstupenky včas\, stačí kliknout a budete přesměrování na oficiálního prodejce vstupenek.
URL:https://dnesnivylet.cz/event/abba-show-50-9/
LOCATION:kostel Sv. Václava\, Opava\, kostel Sv. Václava\, Opava\, Česká republika
CATEGORIES:Koncert
ATTACH;FMTTYPE=image/jpeg:https://dnesnivylet.cz/wp-content/uploads/2026/01/320-b4d2844d7ecb4289a9d4910bb6c3193f.jpg
END:VEVENT
BEGIN:VEVENT
DTSTART;TZID=Europe/Prague:20260626T200000
DTEND;TZID=Europe/Prague:20260626T230000
DTSTAMP:20260419T202803
CREATED:20260105T203651Z
LAST-MODIFIED:20260105T203651Z
UID:16346-1782504000-1782514800@dnesnivylet.cz
SUMMARY:Pokáč
DESCRIPTION:Pokáč se uskuteční dne 2026-06-26 v 20:00 v Kuřim\, Zámek Kuřim. \n🎟️ Koupit vstupenku \n\nPokáč – Zámek Kuřim – 26. 6. 2026 \nV rámci oslav 800 let města Kuřimí vystoupí na zámeckém nádvoří oblíbený český písničkář Pokáč!Čeká vás jedinečný open-air koncert plný humoru\, nadhledu a chytlavých melodií\, které baví všechny generace. \nPokáč je jedním z nejpopulárnějších českých písničkářů současnosti. Svými texty o běžném životě\, podanými s nadsázkou a vtipem\, si získal miliony fanoušků. Na kontě má platinová alba\, vyprodanou O2 arénu i ocenění z ankety Český slavík. Přesto zůstává skromným sympaťákem\, který má rád maminku\, jídlo a svoji kočku. \n Večer odstartuje předskokan (brzy odhalen)\, a po skončení koncertu nebude chybět ani tradiční autogramiáda. \nProgram:18:30 – Otevření areálu19:00 – Předskokan (bude zveřejněný po novém roce)20:00 – Pokáč21:30 – Autogramiáda \n\nTento tip na kulturní akci v Kuřim najdete v přehledu na Dnesnivylet.cz spolu s dalšími koncerty\, festivaly a divadelními představeními.Každý si vybere co se mu líbí. Nezapomeňte koupit vstupenky včas\, stačí kliknout a budete přesměrování na oficiálního prodejce vstupenek.
URL:https://dnesnivylet.cz/event/pokac/
LOCATION:Zámek Kuřim\, Kuřim\, Zámek Kuřim\, Kuřim\, Česká republika
CATEGORIES:Koncert
ATTACH;FMTTYPE=image/jpeg:https://dnesnivylet.cz/wp-content/uploads/2026/01/320-f9f428c747c94d83a7584cb26ad74dae.jpg
END:VEVENT
END:VCALENDAR