BEGIN:VCALENDAR
VERSION:2.0
PRODID:-//www.dnesnivylet.cz                                                                                                                        Tip na výlet pro celou rodinu. - ECPv6.15.13.1//NONSGML v1.0//EN
CALSCALE:GREGORIAN
METHOD:PUBLISH
X-ORIGINAL-URL:https://dnesnivylet.cz
X-WR-CALDESC:Akce na www.dnesnivylet.cz                                                                                                                        Tip na výlet pro celou rodinu.
REFRESH-INTERVAL;VALUE=DURATION:PT1H
X-Robots-Tag:noindex
X-PUBLISHED-TTL:PT1H
BEGIN:VTIMEZONE
TZID:Europe/Prague
BEGIN:DAYLIGHT
TZOFFSETFROM:+0100
TZOFFSETTO:+0200
TZNAME:CEST
DTSTART:20250330T010000
END:DAYLIGHT
BEGIN:STANDARD
TZOFFSETFROM:+0200
TZOFFSETTO:+0100
TZNAME:CET
DTSTART:20251026T010000
END:STANDARD
BEGIN:DAYLIGHT
TZOFFSETFROM:+0100
TZOFFSETTO:+0200
TZNAME:CEST
DTSTART:20260329T010000
END:DAYLIGHT
BEGIN:STANDARD
TZOFFSETFROM:+0200
TZOFFSETTO:+0100
TZNAME:CET
DTSTART:20261025T010000
END:STANDARD
BEGIN:DAYLIGHT
TZOFFSETFROM:+0100
TZOFFSETTO:+0200
TZNAME:CEST
DTSTART:20270328T010000
END:DAYLIGHT
BEGIN:STANDARD
TZOFFSETFROM:+0200
TZOFFSETTO:+0100
TZNAME:CET
DTSTART:20271031T010000
END:STANDARD
END:VTIMEZONE
BEGIN:VEVENT
DTSTART;TZID=Europe/Prague:20260704T200000
DTEND;TZID=Europe/Prague:20260704T230000
DTSTAMP:20260419T190125
CREATED:20251022T064352Z
LAST-MODIFIED:20251022T064358Z
UID:9574-1783195200-1783206000@dnesnivylet.cz
SUMMARY:QUEENSHOW Konopiště
DESCRIPTION:QUEENSHOW Konopiště se uskuteční dne 2026-07-04 v 20:00 v Benešov\, Přírodní amfiteátr Konopiště. \n🎟️ Koupit vstupenku \n\nQUEENSHOW /2025/ – Bohemian Rhapsody: Půl století legendy a oslava 40. výročí legendárního koncertu Live Aid (1985).Přijďte zažít nezapomenutelný koncert skupiny QUEENSHOW\, která vzdává hold nesmrtelné hudbě Freddieho Mercuryho a Queen!U příležitosti 40. výročí legendárního koncertu Live Aid (1985) a 50 let od vydání ikonické „Bohemian Rhapsody“\, která se stala jednou z největších písní všech dob\, vás čeká večer plný největších hitů\, jako jsou „We Will Rock You“\, „Radio Ga Ga“\, „We Are the Champions“\, či „Bohemian Rhapsody“.Připomeňte si vystoupení na Live Aid (1985)\, které změnilo hudební historii. Nechte se unést energií\, vášní a dokonalou show v duchu Queen!QUEENSHOW je jediná tribute kapela na světě\, která na svých vystoupeních používá tak rozsáhlý výběr dobových nebo dokonce stejných nástrojů\, jaké používal Queen na svých koncertech!Díky své neuvěřitelné autenticitě\, která dokonale zachycuje nejen zvuk\, ale i magii a energii původní formace\, je uznávána jako jedna z nejlepších Queen tribute kapel vůbec.Každý koncert je oslavou mistrovství Queen a jejich nadčasového odkazu\, každé vystoupení QUEENSHOW je jedinečným zážitkem\, který vás přenese do doby\, kdy Freddie Mercury ovládal pódia a hudba Queen dobývala svět.Od roku 2024 se kapele připojil italský hudebník Marco Giuseppe Di Marco\, uznávaný ve světě Queen jako brilantní kytarista\, který dokáže s precizností napodobit nezaměnitelnou techniku Briana Maye. Jeho hra přidává vystoupení další úroveň dokonalosti a autentičnosti\, což dělá z QUEENSHOW výjimečnou hudební událost\, kterou si nesmíte nechat ujít! \n\nTento tip na kulturní akci v Benešov najdete v přehledu na Dnesnivylet.cz spolu s dalšími koncerty\, festivaly a divadelními představeními.Každý si vybere co se mu líbí. Nezapomeňte koupit vstupenky včas\, stačí kliknout a budete přesměrování na oficiálního prodejce vstupenek.
URL:https://dnesnivylet.cz/event/queenshow-konopiste/
LOCATION:Přírodní amfiteátr Konopiště\, Benešov\, Přírodní amfiteátr Konopiště\, Benešov\, Česká republika
CATEGORIES:Koncert
ATTACH;FMTTYPE=image/jpeg:https://dnesnivylet.cz/wp-content/uploads/2025/10/320-6965fd39f9b64a3796d81d9adc9f29ff.jpg
END:VEVENT
END:VCALENDAR