BEGIN:VCALENDAR
VERSION:2.0
PRODID:-//www.dnesnivylet.cz                                                                                                                        Tip na výlet pro celou rodinu. - ECPv6.15.13.1//NONSGML v1.0//EN
CALSCALE:GREGORIAN
METHOD:PUBLISH
X-WR-CALNAME:www.dnesnivylet.cz                                                                                                                        Tip na výlet pro celou rodinu.
X-ORIGINAL-URL:https://dnesnivylet.cz
X-WR-CALDESC:Akce na www.dnesnivylet.cz                                                                                                                        Tip na výlet pro celou rodinu.
REFRESH-INTERVAL;VALUE=DURATION:PT1H
X-Robots-Tag:noindex
X-PUBLISHED-TTL:PT1H
BEGIN:VTIMEZONE
TZID:Europe/Prague
BEGIN:DAYLIGHT
TZOFFSETFROM:+0100
TZOFFSETTO:+0200
TZNAME:CEST
DTSTART:20250330T010000
END:DAYLIGHT
BEGIN:STANDARD
TZOFFSETFROM:+0200
TZOFFSETTO:+0100
TZNAME:CET
DTSTART:20251026T010000
END:STANDARD
BEGIN:DAYLIGHT
TZOFFSETFROM:+0100
TZOFFSETTO:+0200
TZNAME:CEST
DTSTART:20260329T010000
END:DAYLIGHT
BEGIN:STANDARD
TZOFFSETFROM:+0200
TZOFFSETTO:+0100
TZNAME:CET
DTSTART:20261025T010000
END:STANDARD
BEGIN:DAYLIGHT
TZOFFSETFROM:+0100
TZOFFSETTO:+0200
TZNAME:CEST
DTSTART:20270328T010000
END:DAYLIGHT
BEGIN:STANDARD
TZOFFSETFROM:+0200
TZOFFSETTO:+0100
TZNAME:CET
DTSTART:20271031T010000
END:STANDARD
END:VTIMEZONE
BEGIN:VEVENT
DTSTART;TZID=Europe/Prague:20260815T180000
DTEND;TZID=Europe/Prague:20260815T210000
DTSTAMP:20260419T202558
CREATED:20260321T195124Z
LAST-MODIFIED:20260321T195124Z
UID:19659-1786816800-1786827600@dnesnivylet.cz
SUMMARY:Noc v Kaštanech 2026: BEN CRISTOVAO & hosté ....
DESCRIPTION:Noc v Kaštanech 2026: BEN CRISTOVAO & hosté ….  se uskuteční dne 2026-08-15 v 18:00 v Dačice\, Letní scéna zámeckého parku. \n🎟️ Koupit vstupenku \n\nSpouštíme předprodej na 3. ročník letního festivalu NOC V KAŠTANECH – 15.8. 2026\, který se opět uskuteční na letní scéně v Dačicích. \nHlavní hvězdou letošního ročníku bude BEN CRISTOVAO – umělec\, který vyprodal Eden\, a teď přiveze svou energickou show přímo do Dačic! Máte se rozhodně na co těšit. \nVstupenky jsou nyní v prodeji za zvýhodněnou cenu\, platnou do konce roku nebo do vyprodání kapacity. \nA to zdaleka není vše – brzy odhalíme další hosty festivalu\, kteří rozhodně budou stát za to. Čekají vás další zvučná jména české hudební scény. \nNenechte si ujít noc plnou hudby\, atmosféry a letní energie.NOC V KAŠTANECH 2026 – buďte u toho od začátku!  \n\nTento tip na kulturní akci v Dačice najdete v přehledu na Dnesnivylet.cz spolu s dalšími koncerty\, festivaly a divadelními představeními.Každý si vybere co se mu líbí. Nezapomeňte koupit vstupenky včas\, stačí kliknout a budete přesměrování na oficiálního prodejce vstupenek.
URL:https://dnesnivylet.cz/event/noc-v-kastanech-2026-ben-cristovao-hoste/
LOCATION:Letní scéna zámeckého parku\, Dačice\, Letní scéna zámeckého parku\, Dačice\, Česká republika
CATEGORIES:Festival
ATTACH;FMTTYPE=image/jpeg:https://dnesnivylet.cz/wp-content/uploads/2026/03/320-e0317edd65ef4787818b6a08caffe086.jpg
END:VEVENT
BEGIN:VEVENT
DTSTART;TZID=Europe/Prague:20260815T200000
DTEND;TZID=Europe/Prague:20260815T230000
DTSTAMP:20260419T202558
CREATED:20260310T171011Z
LAST-MODIFIED:20260310T171011Z
UID:19287-1786824000-1786834800@dnesnivylet.cz
SUMMARY:David Koller - Best of - velký letní koncert
DESCRIPTION:David Koller – Best of – velký letní koncert se uskuteční dne 2026-08-15 v 20:00 v Děhylov\, Děhylov – areál Loděnice. \n🎟️ Koupit vstupenku \n\nOpen Air Velký Letní Koncert pro Ostravu a okolí proběhne v malebném prostředí s neopakovatelnou atmosférou – v  areálu Loděnice Děhylov. \nDavid Koller vystoupí na jediném samostatném  koncertě v Ostravě. Návštěvníci se mohou těšit na výjimečný večer v krásném prostředí\, který stejně jako v roce 2025 dodá jeho hudbě jedinečnou atmosféru.  \nNa pódiu zazní převážně největší hity kapely Lucie\, jejichž je David Koller nezaměnitelným hlasem\, tak i jeho bohatá sólová tvorba\, která během let získala pevné místo v srdcích fanoušků. Můžete se těšit na energické skladby\, emotivní balady i naprosto charakteristický zvuk\, který dělá z každého Kollerova koncertu mimořádnou událost. \n\nTento tip na kulturní akci v Děhylov najdete v přehledu na Dnesnivylet.cz spolu s dalšími koncerty\, festivaly a divadelními představeními.Každý si vybere co se mu líbí. Nezapomeňte koupit vstupenky včas\, stačí kliknout a budete přesměrování na oficiálního prodejce vstupenek.
URL:https://dnesnivylet.cz/event/david-koller-best-of-velky-letni-koncert/
LOCATION:Děhylov – areál Loděnice\, Děhylov\, Děhylov - areál Loděnice\, Děhylov\, Česká republika
CATEGORIES:Koncert
ATTACH;FMTTYPE=image/jpeg:https://dnesnivylet.cz/wp-content/uploads/2026/03/320-3b331098c2324adf87c49a2f97b45e0a.jpg
END:VEVENT
BEGIN:VEVENT
DTSTART;TZID=Europe/Prague:20260815T200000
DTEND;TZID=Europe/Prague:20260815T230000
DTSTAMP:20260419T202558
CREATED:20260419T123422Z
LAST-MODIFIED:20260419T123423Z
UID:21038-1786824000-1786834800@dnesnivylet.cz
SUMMARY:SLAM ARÉNA - Janek Ledecký akusticky
DESCRIPTION:SLAM ARÉNA – Janek Ledecký akusticky se uskuteční dne 2026-08-15 v 20:00 v Šternberk\, SLAM ARÉNA. \n🎟️ Koupit vstupenku \n\nJanek Ledecký – akustický koncert ve SLAM ARÉNĚ! \nPočet vstupenek omezen! \nPřijďte si užít výjimečný akustický koncert Janka Ledeckého – jednoho z nejuznávanějších českých zpěváků a skladatelů. Čeká vás večer plný emotivních melodií\, známých hitů a autentické atmosféry\, která je pro Janka typická. \nJanek Ledecký si získal srdce fanoušků díky svým písním\, které kombinují silné melodie\, poetické texty a osobní projev. Akustický formát koncertu nabídne intimní zážitek a jedinečný hudební večer v unikátním venkovním prostředí SLAM ARÉNY. \nDoporučujeme zajistit si vstupenky včas! \n\nTento tip na kulturní akci v Šternberk najdete v přehledu na Dnesnivylet.cz spolu s dalšími koncerty\, festivaly a divadelními představeními.Každý si vybere co se mu líbí. Nezapomeňte koupit vstupenky včas\, stačí kliknout a budete přesměrování na oficiálního prodejce vstupenek.
URL:https://dnesnivylet.cz/event/slam-arena-janek-ledecky-akusticky/
LOCATION:SLAM ARÉNA\, Šternberk\, SLAM ARÉNA\, Šternberk\, Česká republika
CATEGORIES:Koncert
ATTACH;FMTTYPE=image/jpeg:https://dnesnivylet.cz/wp-content/uploads/2026/04/320-cd8f4d01788345dd968b73575aa0f628.jpg
END:VEVENT
END:VCALENDAR