BEGIN:VCALENDAR
VERSION:2.0
PRODID:-//www.dnesnivylet.cz                                                                                                                        Tip na výlet pro celou rodinu. - ECPv6.15.13.1//NONSGML v1.0//EN
CALSCALE:GREGORIAN
METHOD:PUBLISH
X-ORIGINAL-URL:https://dnesnivylet.cz
X-WR-CALDESC:Akce na www.dnesnivylet.cz                                                                                                                        Tip na výlet pro celou rodinu.
REFRESH-INTERVAL;VALUE=DURATION:PT1H
X-Robots-Tag:noindex
X-PUBLISHED-TTL:PT1H
BEGIN:VTIMEZONE
TZID:Europe/Prague
BEGIN:DAYLIGHT
TZOFFSETFROM:+0100
TZOFFSETTO:+0200
TZNAME:CEST
DTSTART:20250330T010000
END:DAYLIGHT
BEGIN:STANDARD
TZOFFSETFROM:+0200
TZOFFSETTO:+0100
TZNAME:CET
DTSTART:20251026T010000
END:STANDARD
BEGIN:DAYLIGHT
TZOFFSETFROM:+0100
TZOFFSETTO:+0200
TZNAME:CEST
DTSTART:20260329T010000
END:DAYLIGHT
BEGIN:STANDARD
TZOFFSETFROM:+0200
TZOFFSETTO:+0100
TZNAME:CET
DTSTART:20261025T010000
END:STANDARD
BEGIN:DAYLIGHT
TZOFFSETFROM:+0100
TZOFFSETTO:+0200
TZNAME:CEST
DTSTART:20270328T010000
END:DAYLIGHT
BEGIN:STANDARD
TZOFFSETFROM:+0200
TZOFFSETTO:+0100
TZNAME:CET
DTSTART:20271031T010000
END:STANDARD
END:VTIMEZONE
BEGIN:VEVENT
DTSTART;TZID=Europe/Prague:20260820T193000
DTEND;TZID=Europe/Prague:20260820T223000
DTSTAMP:20260419T202806
CREATED:20260419T121946Z
LAST-MODIFIED:20260419T121947Z
UID:20862-1787254200-1787265000@dnesnivylet.cz
SUMMARY:Vlna koncertů na Pryglu - MUCHA + PYJANO
DESCRIPTION:Vlna koncertů na Pryglu – MUCHA + PYJANO se uskuteční dne 2026-08-20 v 19:30 v Brno\, Brněnská přehrada. \n🎟️ Koupit vstupenku \n\nVIP plavba pro omezený\, až komorní počet fanoušků na vlnách brněnské přehrady. Dvouhodinový pobyt s vaším oblíbeným interpretem na jedné lodi a zároveň krásná vyhlídková plavba až za hrad Veveří. Brněnská přehrada jak ji neznáte\, přijďte si pro unikátní hudební i vizuální zážitek. \n\nTento tip na kulturní akci v Brno najdete v přehledu na Dnesnivylet.cz spolu s dalšími koncerty\, festivaly a divadelními představeními.Každý si vybere co se mu líbí. Nezapomeňte koupit vstupenky včas\, stačí kliknout a budete přesměrování na oficiálního prodejce vstupenek.
URL:https://dnesnivylet.cz/event/vlna-koncertu-na-pryglu-mucha-pyjano/
LOCATION:Brněnská přehrada\, Brno\, Brněnská přehrada\, Brno\, Česká republika
CATEGORIES:Koncert
ATTACH;FMTTYPE=image/jpeg:https://dnesnivylet.cz/wp-content/uploads/2026/04/320-23b8c7d536354cb482361641e73e0987.jpg
END:VEVENT
BEGIN:VEVENT
DTSTART;TZID=Europe/Prague:20260820T200000
DTEND;TZID=Europe/Prague:20260820T230000
DTSTAMP:20260419T202806
CREATED:20260419T121619Z
LAST-MODIFIED:20260419T121620Z
UID:20816-1787256000-1787266800@dnesnivylet.cz
SUMMARY:SLAM ARÉNA - O5 a Radeček akustické trio
DESCRIPTION:SLAM ARÉNA – O5 a Radeček akustické trio se uskuteční dne 2026-08-20 v 20:00 v Šternberk\, SLAM ARÉNA. \n🎟️ Koupit vstupenku \n\nO5 a Radeček – akustické trio ve SLAM ARÉNĚ! \nPočet vstupenek omezen! \nPřijďte si užít výjimečný koncert kapely O5 a Radeček v akustickém triu! Oblíbená česká kapela vám nabídne své největší hity v komornější\, intimní podobě\, kde naplno vyniknou emoce\, melodie a texty. \nO5 a Radeček patří dlouhodobě mezi nejúspěšnější české kapely. Jejich písně pravidelně zní v rádiích\, sbírají miliony přehrání a fanoušci je milují pro jejich upřímnost\, energii a silné refrény. Akustické trio přináší jedinečný hudební zážitek\, který vás vtáhne a nenechá chladnými. \nČeká vás večer plný skvělé hudby\, emocí a neopakovatelné atmosféry v unikátním prostředí SLAM ARÉNY. Přijďte si zazpívat\, zaposlouchat se a užít si koncert trochu jinak. \n  \nDoporučujeme zajistit si vstupenky včas! \n\nTento tip na kulturní akci v Šternberk najdete v přehledu na Dnesnivylet.cz spolu s dalšími koncerty\, festivaly a divadelními představeními.Každý si vybere co se mu líbí. Nezapomeňte koupit vstupenky včas\, stačí kliknout a budete přesměrování na oficiálního prodejce vstupenek.
URL:https://dnesnivylet.cz/event/slam-arena-o5-a-radecek-akusticke-trio/
LOCATION:SLAM ARÉNA\, Šternberk\, SLAM ARÉNA\, Šternberk\, Česká republika
CATEGORIES:Koncert
ATTACH;FMTTYPE=image/jpeg:https://dnesnivylet.cz/wp-content/uploads/2026/04/320-bb0e42e948c24f1da55beccf440a750f.jpg
END:VEVENT
END:VCALENDAR