BEGIN:VCALENDAR
VERSION:2.0
PRODID:-//www.dnesnivylet.cz                                                                                                                        Tip na výlet pro celou rodinu. - ECPv6.15.13.1//NONSGML v1.0//EN
CALSCALE:GREGORIAN
METHOD:PUBLISH
X-ORIGINAL-URL:https://dnesnivylet.cz
X-WR-CALDESC:Akce na www.dnesnivylet.cz                                                                                                                        Tip na výlet pro celou rodinu.
REFRESH-INTERVAL;VALUE=DURATION:PT1H
X-Robots-Tag:noindex
X-PUBLISHED-TTL:PT1H
BEGIN:VTIMEZONE
TZID:Europe/Prague
BEGIN:DAYLIGHT
TZOFFSETFROM:+0100
TZOFFSETTO:+0200
TZNAME:CEST
DTSTART:20250330T010000
END:DAYLIGHT
BEGIN:STANDARD
TZOFFSETFROM:+0200
TZOFFSETTO:+0100
TZNAME:CET
DTSTART:20251026T010000
END:STANDARD
BEGIN:DAYLIGHT
TZOFFSETFROM:+0100
TZOFFSETTO:+0200
TZNAME:CEST
DTSTART:20260329T010000
END:DAYLIGHT
BEGIN:STANDARD
TZOFFSETFROM:+0200
TZOFFSETTO:+0100
TZNAME:CET
DTSTART:20261025T010000
END:STANDARD
BEGIN:DAYLIGHT
TZOFFSETFROM:+0100
TZOFFSETTO:+0200
TZNAME:CEST
DTSTART:20270328T010000
END:DAYLIGHT
BEGIN:STANDARD
TZOFFSETFROM:+0200
TZOFFSETTO:+0100
TZNAME:CET
DTSTART:20271031T010000
END:STANDARD
END:VTIMEZONE
BEGIN:VEVENT
DTSTART;TZID=Europe/Prague:20261007T190000
DTEND;TZID=Europe/Prague:20261007T220000
DTSTAMP:20260419T233226
CREATED:20251020T074540Z
LAST-MODIFIED:20251020T074541Z
UID:8803-1791399600-1791410400@dnesnivylet.cz
SUMMARY:ABBA SYMPHONIC SHOW 2026 | Kladno
DESCRIPTION:ABBA SYMPHONIC SHOW 2026 | Kladno se uskuteční dne 2026-10-07 v 19:00 v Kladno\, Dům kultury. \n🎟️ Koupit vstupenku \n\nABBA WORLD REVIVAL – 100% Live in Symphonic Show!!! \nKdyž se hudebníci z ABBA WORLD Revival setkají na jednom pódiu se špičkovými filharmonickými instrumentalisty\, výsledkem je nezapomenutelná hudební i vizuální show nazvaná „ABBA WORLD Revival meets Classic“. \nZazní všechny legendární hity fenomenální švédské skupiny ABBA jako: Waterloo\, Dancing Queen\, Fernando\, Chiquitita\, Mamma Mia nebo Gimme! Gimme! Gimme! a další. Písně zahrané téměř k nerozeznání od originálu a exkluzivně doplněné o unikátní symfonické aranžmá. \nZvuk je 100% živý\, bez playbacků či half-playbacků. Můžete se těšit na repliky originálních kostýmů a choreografií. Pojďte proti proudu hudebního času do světa fenoménu jménem ABBA a užijte si nezapomenutelnou show! \n\nTento tip na kulturní akci v Kladno najdete v přehledu na Dnesnivylet.cz spolu s dalšími koncerty\, festivaly a divadelními představeními.Každý si vybere co se mu líbí. Nezapomeňte koupit vstupenky včas\, stačí kliknout a budete přesměrování na oficiálního prodejce vstupenek.
URL:https://dnesnivylet.cz/event/abba-symphonic-show-2026-kladno/
LOCATION:Dům kultury\, Kladno\, Dům kultury\, Kladno\, Česká republika
CATEGORIES:Koncert
ATTACH;FMTTYPE=image/jpeg:https://dnesnivylet.cz/wp-content/uploads/2025/10/320-c36cb0296455491295d38f269e65995d.jpg
END:VEVENT
END:VCALENDAR