BEGIN:VCALENDAR
VERSION:2.0
PRODID:-//www.dnesnivylet.cz                                                                                                                        Tip na výlet pro celou rodinu. - ECPv6.15.13.1//NONSGML v1.0//EN
CALSCALE:GREGORIAN
METHOD:PUBLISH
X-ORIGINAL-URL:https://dnesnivylet.cz
X-WR-CALDESC:Akce na www.dnesnivylet.cz                                                                                                                        Tip na výlet pro celou rodinu.
REFRESH-INTERVAL;VALUE=DURATION:PT1H
X-Robots-Tag:noindex
X-PUBLISHED-TTL:PT1H
BEGIN:VTIMEZONE
TZID:Europe/Prague
BEGIN:DAYLIGHT
TZOFFSETFROM:+0100
TZOFFSETTO:+0200
TZNAME:CEST
DTSTART:20250330T010000
END:DAYLIGHT
BEGIN:STANDARD
TZOFFSETFROM:+0200
TZOFFSETTO:+0100
TZNAME:CET
DTSTART:20251026T010000
END:STANDARD
BEGIN:DAYLIGHT
TZOFFSETFROM:+0100
TZOFFSETTO:+0200
TZNAME:CEST
DTSTART:20260329T010000
END:DAYLIGHT
BEGIN:STANDARD
TZOFFSETFROM:+0200
TZOFFSETTO:+0100
TZNAME:CET
DTSTART:20261025T010000
END:STANDARD
BEGIN:DAYLIGHT
TZOFFSETFROM:+0100
TZOFFSETTO:+0200
TZNAME:CEST
DTSTART:20270328T010000
END:DAYLIGHT
BEGIN:STANDARD
TZOFFSETFROM:+0200
TZOFFSETTO:+0100
TZNAME:CET
DTSTART:20271031T010000
END:STANDARD
END:VTIMEZONE
BEGIN:VEVENT
DTSTART;TZID=Europe/Prague:20261118T190000
DTEND;TZID=Europe/Prague:20261118T220000
DTSTAMP:20260420T021110
CREATED:20260419T121046Z
LAST-MODIFIED:20260419T121047Z
UID:20757-1795028400-1795039200@dnesnivylet.cz
SUMMARY:Václav Noid Bárta - Vánoční koncert
DESCRIPTION:Václav Noid Bárta – Vánoční koncert se uskuteční dne 2026-11-18 v 19:00 v Ostrava\, Multifunkční aula Gong. \n🎟️ Koupit vstupenku \n\nDo Ostravy míří aktuální držitel  Zlatého slavíka – Václav Noid Bárta. Jeho výrazný hlas\, přirozená energie a silné charisma budou hlavními prvky večera\, který nabídne vánoční atmosféru v podání jednoho z nejvýraznějších interpretů současné české hudební scény. \nNa poli populární a rockové hudby v průběhu let spolupracoval jako skladatel\, aranžér a zpěvák například s Lucií Bílou\, Bárou Basikovou\, Helenou Vondráčkovou\, Kamilem Střihavkou\, Lucií Vondráčkovou a dalšími. \nJe předním sólistou Hudebního divadla Karlín\, kde exceloval v muzikálech Carmen\, Aida\, Lucie\, The Addams Family\, Bonnie and Clyde\, Jesus Christ Superstar a Sestra v akci. \nVstupenky jsou právě v prodeji\, ale neváhejte dlouho – rychle mizí a brzy nebudou k dispozici.  \n\nTento tip na kulturní akci v Ostrava najdete v přehledu na Dnesnivylet.cz spolu s dalšími koncerty\, festivaly a divadelními představeními.Každý si vybere co se mu líbí. Nezapomeňte koupit vstupenky včas\, stačí kliknout a budete přesměrování na oficiálního prodejce vstupenek.
URL:https://dnesnivylet.cz/event/vaclav-noid-barta-vanocni-koncert-15/
LOCATION:Multifunkční aula Gong\, Ostrava\, Multifunkční aula Gong\, Ostrava\, Česká republika
CATEGORIES:Koncert
ATTACH;FMTTYPE=image/jpeg:https://dnesnivylet.cz/wp-content/uploads/2026/04/320-31201fd9e63b4de6848f44105e7197e4.jpg
END:VEVENT
END:VCALENDAR