BEGIN:VCALENDAR
VERSION:2.0
PRODID:-//www.dnesnivylet.cz                                                                                                                        Tip na výlet pro celou rodinu. - ECPv6.15.13.1//NONSGML v1.0//EN
CALSCALE:GREGORIAN
METHOD:PUBLISH
X-ORIGINAL-URL:https://dnesnivylet.cz
X-WR-CALDESC:Akce na www.dnesnivylet.cz                                                                                                                        Tip na výlet pro celou rodinu.
REFRESH-INTERVAL;VALUE=DURATION:PT1H
X-Robots-Tag:noindex
X-PUBLISHED-TTL:PT1H
BEGIN:VTIMEZONE
TZID:Europe/Prague
BEGIN:DAYLIGHT
TZOFFSETFROM:+0100
TZOFFSETTO:+0200
TZNAME:CEST
DTSTART:20250330T010000
END:DAYLIGHT
BEGIN:STANDARD
TZOFFSETFROM:+0200
TZOFFSETTO:+0100
TZNAME:CET
DTSTART:20251026T010000
END:STANDARD
BEGIN:DAYLIGHT
TZOFFSETFROM:+0100
TZOFFSETTO:+0200
TZNAME:CEST
DTSTART:20260329T010000
END:DAYLIGHT
BEGIN:STANDARD
TZOFFSETFROM:+0200
TZOFFSETTO:+0100
TZNAME:CET
DTSTART:20261025T010000
END:STANDARD
BEGIN:DAYLIGHT
TZOFFSETFROM:+0100
TZOFFSETTO:+0200
TZNAME:CEST
DTSTART:20270328T010000
END:DAYLIGHT
BEGIN:STANDARD
TZOFFSETFROM:+0200
TZOFFSETTO:+0100
TZNAME:CET
DTSTART:20271031T010000
END:STANDARD
END:VTIMEZONE
BEGIN:VEVENT
DTSTART;TZID=Europe/Prague:20261211T190000
DTEND;TZID=Europe/Prague:20261211T220000
DTSTAMP:20260420T021110
CREATED:20260306T172348Z
LAST-MODIFIED:20260306T172348Z
UID:19022-1797015600-1797026400@dnesnivylet.cz
SUMMARY:Bílé Vánoce Lucie Bílé s kapelou Petra Maláska a Bílý sbor
DESCRIPTION:Bílé Vánoce Lucie Bílé s kapelou Petra Maláska a Bílý sbor se uskuteční dne 2026-12-11 v 19:00 v Rájec-Jestřebí\, Kulturní centrum – sokolovna. \n🎟️ Koupit vstupenku \n\nMěsto Rájec-Jestřebí Vás srdečně zve na Vánoční koncert – Bílé Vánoce Lucie Bílé. \n\nTento tip na kulturní akci v Rájec-Jestřebí najdete v přehledu na Dnesnivylet.cz spolu s dalšími koncerty\, festivaly a divadelními představeními.Každý si vybere co se mu líbí. Nezapomeňte koupit vstupenky včas\, stačí kliknout a budete přesměrování na oficiálního prodejce vstupenek.
URL:https://dnesnivylet.cz/event/bile-vanoce-lucie-bile-s-kapelou-petra-malaska-a-bily-sbor/
LOCATION:Kulturní centrum – sokolovna\, Rájec-Jestřebí\, Kulturní centrum - sokolovna\, Rájec-Jestřebí\, Česká republika
CATEGORIES:Koncert
ATTACH;FMTTYPE=image/jpeg:https://dnesnivylet.cz/wp-content/uploads/2026/03/320-224a22c13ac84e3a87996524e658cd2f.jpg
END:VEVENT
BEGIN:VEVENT
DTSTART;TZID=Europe/Prague:20261211T210000
DTEND;TZID=Europe/Prague:20261212T000000
DTSTAMP:20260420T021110
CREATED:20260419T122320Z
LAST-MODIFIED:20260419T122321Z
UID:20912-1797022800-1797033600@dnesnivylet.cz
SUMMARY:Timudej | Litomyšl
DESCRIPTION:Timudej | Litomyšl se uskuteční dne 2026-12-11 v 21:00 v Litomyšl\, MC Kotelna. \n🎟️ Koupit vstupenku \nTento tip na kulturní akci v Litomyšl najdete v přehledu na Dnesnivylet.cz spolu s dalšími koncerty\, festivaly a divadelními představeními.Každý si vybere co se mu líbí. Nezapomeňte koupit vstupenky včas\, stačí kliknout a budete přesměrování na oficiálního prodejce vstupenek.
URL:https://dnesnivylet.cz/event/timudej-litomysl/
LOCATION:MC Kotelna\, Litomyšl\, MC Kotelna\, Litomyšl\, Česká republika
CATEGORIES:Koncert
ATTACH;FMTTYPE=image/jpeg:https://dnesnivylet.cz/wp-content/uploads/2026/04/320-fb7162cc614449c78c90a0c5c1e67001.jpg
END:VEVENT
END:VCALENDAR