BEGIN:VCALENDAR
VERSION:2.0
PRODID:-//www.dnesnivylet.cz                                                                                                                        Tip na výlet pro celou rodinu. - ECPv6.15.13.1//NONSGML v1.0//EN
CALSCALE:GREGORIAN
METHOD:PUBLISH
X-WR-CALNAME:www.dnesnivylet.cz                                                                                                                        Tip na výlet pro celou rodinu.
X-ORIGINAL-URL:https://dnesnivylet.cz
X-WR-CALDESC:Akce na www.dnesnivylet.cz                                                                                                                        Tip na výlet pro celou rodinu.
REFRESH-INTERVAL;VALUE=DURATION:PT1H
X-Robots-Tag:noindex
X-PUBLISHED-TTL:PT1H
BEGIN:VTIMEZONE
TZID:Europe/Prague
BEGIN:DAYLIGHT
TZOFFSETFROM:+0100
TZOFFSETTO:+0200
TZNAME:CEST
DTSTART:20240331T010000
END:DAYLIGHT
BEGIN:STANDARD
TZOFFSETFROM:+0200
TZOFFSETTO:+0100
TZNAME:CET
DTSTART:20241027T010000
END:STANDARD
BEGIN:DAYLIGHT
TZOFFSETFROM:+0100
TZOFFSETTO:+0200
TZNAME:CEST
DTSTART:20250330T010000
END:DAYLIGHT
BEGIN:STANDARD
TZOFFSETFROM:+0200
TZOFFSETTO:+0100
TZNAME:CET
DTSTART:20251026T010000
END:STANDARD
BEGIN:DAYLIGHT
TZOFFSETFROM:+0100
TZOFFSETTO:+0200
TZNAME:CEST
DTSTART:20260329T010000
END:DAYLIGHT
BEGIN:STANDARD
TZOFFSETFROM:+0200
TZOFFSETTO:+0100
TZNAME:CET
DTSTART:20261025T010000
END:STANDARD
END:VTIMEZONE
BEGIN:VEVENT
DTSTART;TZID=Europe/Prague:20251111T190000
DTEND;TZID=Europe/Prague:20251111T220000
DTSTAMP:20260420T035123
CREATED:20251020T065407Z
LAST-MODIFIED:20251020T065407Z
UID:8357-1762887600-1762898400@dnesnivylet.cz
SUMMARY:Zdeněk Izer - Vyndavací zas tam dací
DESCRIPTION:Zdeněk Izer – Vyndavací zas tam dací se uskuteční dne 2025-11-11 v 19:00 v Postoloprty\, Kino Postoloprty. \n🎟️ Koupit vstupenku \n\nTěžký útok na vaši bránici! Do Postoloprt se chystá jeden z našich nejpopulárnějších bavičů Zdeněk Izer. Jeho nová show „Vyndavací zas tam dací“ je opět plná zábavných scének\, parodií\, skvělých vtipů a imitování celé řady populárních českých i zahraničních zpěváků a zpěvaček. Vystoupení je navíc obohacené videoprojekcemi\, zábavnými kostýmy\, převleky a světelnými efekty. \n\nTento tip na kulturní akci v Postoloprty najdete v přehledu na Dnesnivylet.cz spolu s dalšími koncerty\, festivaly a divadelními představeními.Každý si vybere co se mu líbí. Nezapomeňte koupit vstupenky včas\, stačí kliknout a budete přesměrování na oficiálního prodejce vstupenek.
URL:https://dnesnivylet.cz/event/zdenek-izer-vyndavaci-zas-tam-daci-2/
LOCATION:Kino Postoloprty\, Postoloprty\, Kino Postoloprty\, Postoloprty\, Česká republika
CATEGORIES:Zábava
ATTACH;FMTTYPE=image/jpeg:https://dnesnivylet.cz/wp-content/uploads/2025/10/320-f97292b52df846cdac645cd724c359bc-1.jpg
END:VEVENT
END:VCALENDAR