BEGIN:VCALENDAR
VERSION:2.0
PRODID:-//www.dnesnivylet.cz                                                                                                                        Tip na výlet pro celou rodinu. - ECPv6.15.13.1//NONSGML v1.0//EN
CALSCALE:GREGORIAN
METHOD:PUBLISH
X-WR-CALNAME:www.dnesnivylet.cz                                                                                                                        Tip na výlet pro celou rodinu.
X-ORIGINAL-URL:https://dnesnivylet.cz
X-WR-CALDESC:Akce na www.dnesnivylet.cz                                                                                                                        Tip na výlet pro celou rodinu.
REFRESH-INTERVAL;VALUE=DURATION:PT1H
X-Robots-Tag:noindex
X-PUBLISHED-TTL:PT1H
BEGIN:VTIMEZONE
TZID:Europe/Prague
BEGIN:DAYLIGHT
TZOFFSETFROM:+0100
TZOFFSETTO:+0200
TZNAME:CEST
DTSTART:20250330T010000
END:DAYLIGHT
BEGIN:STANDARD
TZOFFSETFROM:+0200
TZOFFSETTO:+0100
TZNAME:CET
DTSTART:20251026T010000
END:STANDARD
BEGIN:DAYLIGHT
TZOFFSETFROM:+0100
TZOFFSETTO:+0200
TZNAME:CEST
DTSTART:20260329T010000
END:DAYLIGHT
BEGIN:STANDARD
TZOFFSETFROM:+0200
TZOFFSETTO:+0100
TZNAME:CET
DTSTART:20261025T010000
END:STANDARD
BEGIN:DAYLIGHT
TZOFFSETFROM:+0100
TZOFFSETTO:+0200
TZNAME:CEST
DTSTART:20270328T010000
END:DAYLIGHT
BEGIN:STANDARD
TZOFFSETFROM:+0200
TZOFFSETTO:+0100
TZNAME:CET
DTSTART:20271031T010000
END:STANDARD
END:VTIMEZONE
BEGIN:VEVENT
DTSTART;TZID=Europe/Prague:20260326T193000
DTEND;TZID=Europe/Prague:20260326T223000
DTSTAMP:20260420T034734
CREATED:20260121T194226Z
LAST-MODIFIED:20260121T194227Z
UID:16940-1774553400-1774564200@dnesnivylet.cz
SUMMARY:S láskou v notách
DESCRIPTION:S láskou v notách se uskuteční dne 2026-03-26 v 19:30 v Praha\, Pražská křižovatka. \n🎟️ Koupit vstupenku \n\n2. ročník benefičního koncertu pro dětskou radost s názvem „S láskou v notách“. \nKoncert proběhne dne 26.3 2026 ve výjimečných prostorách bývalého kostela \nsv. Anny\, dnes Pražská křižovatka. \nTento večer bude opět věnován mateřské a základní škole speciální Diakonie\, která pomáhá dětem s různým druhem mentálního postižení a autismem. \nVýtěžek z tohoto večera půjde na podporu tohoto zařízení. \nRádi bychom tento večer pojali nejenom jako koncert\, ale zároveň jako přátelské setkání s vámi se všemi. Dveře tohoto výjimečného kostela se pro vás otevřou už hodinu před koncertem\, abychom si mohli společně popovídat při sklence dobrého vína\, dobré kávy a organických šťáv BUMBEJ. Zároveň budete mít i dostatečný čas na to si v klidu tento jedinečný prostor prohlédnout. \n  \n\nTento tip na kulturní akci v Praha najdete v přehledu na Dnesnivylet.cz spolu s dalšími koncerty\, festivaly a divadelními představeními.Každý si vybere co se mu líbí. Nezapomeňte koupit vstupenky včas\, stačí kliknout a budete přesměrování na oficiálního prodejce vstupenek.
URL:https://dnesnivylet.cz/event/s-laskou-v-notach/
LOCATION:Pražská křižovatka\, Praha\, Pražská křižovatka\, Praha\, Česká republika
CATEGORIES:Koncert
ATTACH;FMTTYPE=image/jpeg:https://dnesnivylet.cz/wp-content/uploads/2026/01/320-86758570f59849c8a371e5436fc00d3b.jpg
END:VEVENT
END:VCALENDAR