BEGIN:VCALENDAR
VERSION:2.0
PRODID:-//www.dnesnivylet.cz                                                                                                                        Tip na výlet pro celou rodinu. - ECPv6.15.13.1//NONSGML v1.0//EN
CALSCALE:GREGORIAN
METHOD:PUBLISH
X-ORIGINAL-URL:https://dnesnivylet.cz
X-WR-CALDESC:Akce na www.dnesnivylet.cz                                                                                                                        Tip na výlet pro celou rodinu.
REFRESH-INTERVAL;VALUE=DURATION:PT1H
X-Robots-Tag:noindex
X-PUBLISHED-TTL:PT1H
BEGIN:VTIMEZONE
TZID:Europe/Prague
BEGIN:DAYLIGHT
TZOFFSETFROM:+0100
TZOFFSETTO:+0200
TZNAME:CEST
DTSTART:20250330T010000
END:DAYLIGHT
BEGIN:STANDARD
TZOFFSETFROM:+0200
TZOFFSETTO:+0100
TZNAME:CET
DTSTART:20251026T010000
END:STANDARD
BEGIN:DAYLIGHT
TZOFFSETFROM:+0100
TZOFFSETTO:+0200
TZNAME:CEST
DTSTART:20260329T010000
END:DAYLIGHT
BEGIN:STANDARD
TZOFFSETFROM:+0200
TZOFFSETTO:+0100
TZNAME:CET
DTSTART:20261025T010000
END:STANDARD
BEGIN:DAYLIGHT
TZOFFSETFROM:+0100
TZOFFSETTO:+0200
TZNAME:CEST
DTSTART:20270328T010000
END:DAYLIGHT
BEGIN:STANDARD
TZOFFSETFROM:+0200
TZOFFSETTO:+0100
TZNAME:CET
DTSTART:20271031T010000
END:STANDARD
END:VTIMEZONE
BEGIN:VEVENT
DTSTART;TZID=Europe/Prague:20260328T170000
DTEND;TZID=Europe/Prague:20260328T200000
DTSTAMP:20260419T215449
CREATED:20260211T131501Z
LAST-MODIFIED:20260211T131501Z
UID:18173-1774717200-1774728000@dnesnivylet.cz
SUMMARY:Furry disco
DESCRIPTION:Furry disco se uskuteční dne 2026-03-28 v 17:00 v Praha\, Klub Kotelna. \n🎟️ Koupit vstupenku \n\nAlexi? Márty? Glórie? Melmene? \nAno\, uhodli jste dalším tématem našeho FurryDisco je Madagaskar! Co Vás čeká? Spousta hudby\, zábavy a dokonce i nějaké soutěže! \nV prostorách klubu si budete moci zatančit na chladném sále a následně se osvěžit v krásně vybaveném klubu! \nPárty na Madagaskaru Vás už čeká\, tak dorazte\, taktéž i custom visačky\, bude stačit vyplnit nám tento formulář: Custom visačky \n18+ only – žádné kompromisy\, žádná tabulka povolených mazlíčků \n\nTento tip na kulturní akci v Praha najdete v přehledu na Dnesnivylet.cz spolu s dalšími koncerty\, festivaly a divadelními představeními.Každý si vybere co se mu líbí. Nezapomeňte koupit vstupenky včas\, stačí kliknout a budete přesměrování na oficiálního prodejce vstupenek.
URL:https://dnesnivylet.cz/event/furry-disco-2/
LOCATION:Klub Kotelna\, Praha\, Klub Kotelna\, Praha\, Česká republika
CATEGORIES:Zábava
ATTACH;FMTTYPE=image/jpeg:https://dnesnivylet.cz/wp-content/uploads/2026/02/320-3d84600777bb4ad08abc1c7369c23213.jpg
END:VEVENT
BEGIN:VEVENT
DTSTART;TZID=Europe/Prague:20260328T190000
DTEND;TZID=Europe/Prague:20260328T220000
DTSTAMP:20260419T215449
CREATED:20260211T130855Z
LAST-MODIFIED:20260211T130856Z
UID:18071-1774724400-1774735200@dnesnivylet.cz
SUMMARY:Dream of the Sun: Live debut
DESCRIPTION:Dream of the Sun: Live debut se uskuteční dne 2026-03-28 v 19:00 v Praha\, Kamina boat. \n🎟️ Koupit vstupenku \n\nDlouho očekávaný live debut Dream of the Sun. Ať už jste fanouškem Dreamer od samého začátku\, anebo o alt-rockové kapele z Prahy slyšíte prvně\, neváhejte a buďte součástí této významné události! Pozor\, kapacita omezena. Follow the Sun. \n  \nKoncert je VYPRODANÝ. Všem\, co stihli zakoupit vstupenku\, děkujeme za projevenou důvěru\, těšíme se na vás. \n\nTento tip na kulturní akci v Praha najdete v přehledu na Dnesnivylet.cz spolu s dalšími koncerty\, festivaly a divadelními představeními.Každý si vybere co se mu líbí. Nezapomeňte koupit vstupenky včas\, stačí kliknout a budete přesměrování na oficiálního prodejce vstupenek.
URL:https://dnesnivylet.cz/event/dream-of-the-sun-live-debut/
LOCATION:Kamina boat\, Praha\, Kamina boat\, Praha\, Česká republika
CATEGORIES:Koncert
ATTACH;FMTTYPE=image/jpeg:https://dnesnivylet.cz/wp-content/uploads/2026/02/320-cf330363ac5a4d5eb708fef891768315.jpg
END:VEVENT
BEGIN:VEVENT
DTSTART;TZID=Europe/Prague:20260328T200000
DTEND;TZID=Europe/Prague:20260328T230000
DTSTAMP:20260419T215449
CREATED:20260124T195036Z
LAST-MODIFIED:20260124T195037Z
UID:17160-1774728000-1774738800@dnesnivylet.cz
SUMMARY:Mistr filmové hudby Hans Zimmer
DESCRIPTION:Mistr filmové hudby Hans Zimmer se uskuteční dne 2026-03-28 v 20:00 v Praha\, Kostel U Salvátora. \n🎟️ Koupit vstupenku \n\n  \nKoncert při svíčkách: Mistr Filmové hudby Hans Zimmer \nNechte se unést výjimečnou atmosférou večera\, kdy světlo tisíce svíček rozzáří prostory a smyčcové kvarteto Krása Quartet vás provede těmi nejpůsobivějšími filmovými melodiemi. \nBěhem 65 minut zazní ikonická hudba z velkofilmů a seriálů\, které uchvátily diváky po celém světě! Těšit se můžete na emotivní\, dramatické i dobrodružné skladby – od hrdinských tónů Piráti z Karibiku či Top Gun\, přes hluboké emoce z Gladiátora a Pearl Harbor\, až po magické melodie z Interstellar\, Da Vinciho kódu nebo Koruny. \nProgram večera zahrnuje mimo jiné: \n\n\nPiráti z Karibiku – On je pirát \n\n\nGladiátor – Teď jsme svobodní \n\n\nTop Gun – Maverick Anthem \n\n\nŠifra mistra Leonarda – Dies Mercurii I Martius \n\n\nInterstellar – Cornfield Chase \n\n\nStallion – Nothing I’ve Ever Known \n\n\nBatman vs. Superman – Let \n\n\nPrázdniny – Maestro \n\n\nThe Pacific – Hlavní téma \n\n\nOnce Upon a Time in Africa \n\n\nLví Král – Král smečky \n\n\nPiráti z Karibiku – Davy Jones \n\n\nPearl Harbor – And Then I Kissed Him \n\n\nAndělé a Démoni – 503 \n\n\nKoruna – Hlavní téma \n\n\nPearl Harbor – Tennessee \n\n\nA mnoho dalšího! \nPřijďte si užít jedinečný večer\, kde se spojí síla filmové hudby\, živý výkon smyčcového kvarteta a nezaměnitelná atmosféra kostela osvětleného stovkami svíček. \n  \n\nTento tip na kulturní akci v Praha najdete v přehledu na Dnesnivylet.cz spolu s dalšími koncerty\, festivaly a divadelními představeními.Každý si vybere co se mu líbí. Nezapomeňte koupit vstupenky včas\, stačí kliknout a budete přesměrování na oficiálního prodejce vstupenek.
URL:https://dnesnivylet.cz/event/mistr-filmove-hudby-hans-zimmer-2/
LOCATION:Kostel U Salvátora\, Praha\, Kostel U Salvátora\, Praha\, Česká republika
CATEGORIES:Koncert
ATTACH;FMTTYPE=image/jpeg:https://dnesnivylet.cz/wp-content/uploads/2026/01/320-0009d45923ab43e99c793bc6e8214d24.jpg
END:VEVENT
END:VCALENDAR