BEGIN:VCALENDAR
VERSION:2.0
PRODID:-//www.dnesnivylet.cz                                                                                                                        Tip na výlet pro celou rodinu. - ECPv6.15.13.1//NONSGML v1.0//EN
CALSCALE:GREGORIAN
METHOD:PUBLISH
X-ORIGINAL-URL:https://dnesnivylet.cz
X-WR-CALDESC:Akce na www.dnesnivylet.cz                                                                                                                        Tip na výlet pro celou rodinu.
REFRESH-INTERVAL;VALUE=DURATION:PT1H
X-Robots-Tag:noindex
X-PUBLISHED-TTL:PT1H
BEGIN:VTIMEZONE
TZID:Europe/Prague
BEGIN:DAYLIGHT
TZOFFSETFROM:+0100
TZOFFSETTO:+0200
TZNAME:CEST
DTSTART:20250330T010000
END:DAYLIGHT
BEGIN:STANDARD
TZOFFSETFROM:+0200
TZOFFSETTO:+0100
TZNAME:CET
DTSTART:20251026T010000
END:STANDARD
BEGIN:DAYLIGHT
TZOFFSETFROM:+0100
TZOFFSETTO:+0200
TZNAME:CEST
DTSTART:20260329T010000
END:DAYLIGHT
BEGIN:STANDARD
TZOFFSETFROM:+0200
TZOFFSETTO:+0100
TZNAME:CET
DTSTART:20261025T010000
END:STANDARD
BEGIN:DAYLIGHT
TZOFFSETFROM:+0100
TZOFFSETTO:+0200
TZNAME:CEST
DTSTART:20270328T010000
END:DAYLIGHT
BEGIN:STANDARD
TZOFFSETFROM:+0200
TZOFFSETTO:+0100
TZNAME:CET
DTSTART:20271031T010000
END:STANDARD
END:VTIMEZONE
BEGIN:VEVENT
DTSTART;TZID=Europe/Prague:20260418T110000
DTEND;TZID=Europe/Prague:20260418T140000
DTSTAMP:20260419T131910
CREATED:20260321T195741Z
LAST-MODIFIED:20260321T195742Z
UID:19761-1776510000-1776520800@dnesnivylet.cz
SUMMARY:K-POP MANIA CONTEST
DESCRIPTION:K-POP MANIA CONTEST  se uskuteční dne 2026-04-18 v 11:00 v Praha\, Akademie řemesel Praha. \n🎟️ Koupit vstupenku \n\nK-POP DANCE MANIA CONTEST – 18. 4. 2026 \nZatanči\, zazáři\, ovládni stage! \nPřiprav se na jedinečnou K-pop taneční soutěž\, která rozzáří pódium energií\, vášní a ikonickými choreografiemi! K-POP DANCE MANIA CONTEST je místem\, kde se potkává talent\, rytmus a láska ke K-popu. \n🎶 K-pop rytmus v srdci\, energie na pódiu!Ať už tančíš sólo nebo ve skupině\, máš jedinečnou příležitost ukázat svůj styl\, výraz a techniku před publikem\, které žije K-popem stejně jako ty. Čeká tě dynamická show\, silná atmosféra a nezapomenutelné momenty. \n🏆 Tvůj talent\, tvůj moment\, tvé vítězství!Soutěž\, skvělá hudba\, nadšení diváci a výkony\, které berou dech. Přijď soutěžit\, zazářit nebo fandit těm nejlepším tanečníkům a tanečnicím K-pop scény. \n💜 Nezáleží\, jestli jsi na pódiu nebo v publiku – tenhle den bude patřit K-popu!Jsi ready ovládnout stage? \n\nTento tip na kulturní akci v Praha najdete v přehledu na Dnesnivylet.cz spolu s dalšími koncerty\, festivaly a divadelními představeními.Každý si vybere co se mu líbí. Nezapomeňte koupit vstupenky včas\, stačí kliknout a budete přesměrování na oficiálního prodejce vstupenek.
URL:https://dnesnivylet.cz/event/k-pop-mania-contest/
LOCATION:Akademie řemesel Praha\, Praha\, Akademie řemesel Praha\, Praha\, Česká republika
CATEGORIES:Zábava
ATTACH;FMTTYPE=image/jpeg:https://dnesnivylet.cz/wp-content/uploads/2026/03/320-65efba7ce19c46449630b6ad5b04d6a0.jpg
END:VEVENT
BEGIN:VEVENT
DTSTART;TZID=Europe/Prague:20260418T163000
DTEND;TZID=Europe/Prague:20260418T193000
DTSTAMP:20260419T131910
CREATED:20260321T195241Z
LAST-MODIFIED:20260321T195241Z
UID:19682-1776529800-1776540600@dnesnivylet.cz
SUMMARY:Malý Karel z velkého města
DESCRIPTION:Malý Karel z velkého města  se uskuteční dne 2026-04-18 v 16:30 v Praha\, MusicClub Modrá Vopice. \n🎟️ Koupit vstupenku \n\nFestivalový svéráz KAREL se po roce vrací do Prahy. Konkrétně Malý Karel z velkého města — klubová podoba letního festivalu KAREL. \nPřišlo vám to loni šílené? Nám taky — a právě proto v tom hodláme pokračovat! \nČeká vás pestrý výběr kapel české (a pardubické zvlášť) hudební scény\, okořeněný správnou dávkou punkového ducha a studentské energie. Jeden večer\, spousta hudby a atmosféra\, kvůli které má smysl se sejít znovu. \nPotvrzená uskupení: \nVasilův Rubáš / Sour Bitch / Špičková kultura / Není zač! / Gorale originale Pardubicensis / Kalkata band / Blue Dawn \nPředprodej už od 290 Kč  \nSobota 18. dubna \n📍 Modrá Vopice\, Praha \n\nTento tip na kulturní akci v Praha najdete v přehledu na Dnesnivylet.cz spolu s dalšími koncerty\, festivaly a divadelními představeními.Každý si vybere co se mu líbí. Nezapomeňte koupit vstupenky včas\, stačí kliknout a budete přesměrování na oficiálního prodejce vstupenek.
URL:https://dnesnivylet.cz/event/maly-karel-z-velkeho-mesta/
LOCATION:MusicClub Modrá Vopice\, Praha\, MusicClub Modrá Vopice\, Praha\, Česká republika
CATEGORIES:Festival
ATTACH;FMTTYPE=image/jpeg:https://dnesnivylet.cz/wp-content/uploads/2026/03/320-bdf420ff3a91446cba78d0561d95b1c6.jpg
END:VEVENT
BEGIN:VEVENT
DTSTART;TZID=Europe/Prague:20260418T183000
DTEND;TZID=Europe/Prague:20260418T213000
DTSTAMP:20260419T131910
CREATED:20260405T131153Z
LAST-MODIFIED:20260405T131153Z
UID:20328-1776537000-1776547800@dnesnivylet.cz
SUMMARY:Kabaret Punklesque - Úplně 8. narozeniny
DESCRIPTION:Kabaret Punklesque – Úplně 8. narozeniny se uskuteční dne 2026-04-18 v 18:30 v Praha\, Divadlo Troníček. \n🎟️ Koupit vstupenku \n\nOsm nádherných let se máme\, máme vás a vy máte nás. Osm let trávíme společné chvíle v prostoru\, kde může být každý sám sebou a cítí se bezpečně. Osm let se bavíme tím nejhezčím uměním…burleskou. \nJe potřeba to pořádně oslavit. Přijďte se povelebit společně s námi a užít si již osmé narozeniny Kabaretu Punklesque. \nDorty\, dary\, zábava\, tradiční i netradiční čísla\, hosté a hlavně vy\, tvůrci té nejlepší atmosféry na týhle krásný planetě. To vše v podání Chantilly Noire\, Violet de Valor\, Lady AnnaHell\, Natálie Mooshabrové a #principálabezejména. \nVidíme se v Divadle Troníček\, dveře se otevřou v 18:30\, show začne v 19:30. Hotovost sebou. \n\nTento tip na kulturní akci v Praha najdete v přehledu na Dnesnivylet.cz spolu s dalšími koncerty\, festivaly a divadelními představeními.Každý si vybere co se mu líbí. Nezapomeňte koupit vstupenky včas\, stačí kliknout a budete přesměrování na oficiálního prodejce vstupenek.
URL:https://dnesnivylet.cz/event/kabaret-punklesque-uplne-8-narozeniny/
LOCATION:Divadlo Troníček\, Praha\, Divadlo Troníček\, Praha\, Česká republika
CATEGORIES:Divadlo
ATTACH;FMTTYPE=image/jpeg:https://dnesnivylet.cz/wp-content/uploads/2026/04/320-8844544d15a545278666fd7d4f7c7f34.jpg
END:VEVENT
END:VCALENDAR