BEGIN:VCALENDAR
VERSION:2.0
PRODID:-//www.dnesnivylet.cz                                                                                                                        Tip na výlet pro celou rodinu. - ECPv6.15.13.1//NONSGML v1.0//EN
CALSCALE:GREGORIAN
METHOD:PUBLISH
X-ORIGINAL-URL:https://dnesnivylet.cz
X-WR-CALDESC:Akce na www.dnesnivylet.cz                                                                                                                        Tip na výlet pro celou rodinu.
REFRESH-INTERVAL;VALUE=DURATION:PT1H
X-Robots-Tag:noindex
X-PUBLISHED-TTL:PT1H
BEGIN:VTIMEZONE
TZID:Europe/Prague
BEGIN:DAYLIGHT
TZOFFSETFROM:+0100
TZOFFSETTO:+0200
TZNAME:CEST
DTSTART:20250330T010000
END:DAYLIGHT
BEGIN:STANDARD
TZOFFSETFROM:+0200
TZOFFSETTO:+0100
TZNAME:CET
DTSTART:20251026T010000
END:STANDARD
BEGIN:DAYLIGHT
TZOFFSETFROM:+0100
TZOFFSETTO:+0200
TZNAME:CEST
DTSTART:20260329T010000
END:DAYLIGHT
BEGIN:STANDARD
TZOFFSETFROM:+0200
TZOFFSETTO:+0100
TZNAME:CET
DTSTART:20261025T010000
END:STANDARD
BEGIN:DAYLIGHT
TZOFFSETFROM:+0100
TZOFFSETTO:+0200
TZNAME:CEST
DTSTART:20270328T010000
END:DAYLIGHT
BEGIN:STANDARD
TZOFFSETFROM:+0200
TZOFFSETTO:+0100
TZNAME:CET
DTSTART:20271031T010000
END:STANDARD
END:VTIMEZONE
BEGIN:VEVENT
DTSTART;TZID=Europe/Prague:20260514T183000
DTEND;TZID=Europe/Prague:20260514T213000
DTSTAMP:20260419T143957
CREATED:20260208T144216Z
LAST-MODIFIED:20260208T144217Z
UID:17581-1778783400-1778794200@dnesnivylet.cz
SUMMARY:Květnový varhanní koncert
DESCRIPTION:Květnový varhanní koncert se uskuteční dne 2026-05-14 v 18:30 v Praha\, Kostel sv. Klimenta. \n🎟️ Koupit vstupenku \n\nPřijdťe si poslechnout nádherný koncert v původně románsko-gotickém běžně nepřístupném kostele Sv. Klimenta (nyní evangelický) v Klimentské ulici nedaleko OC Palladium – u Revoluční ulice \n  \núčinkující: \nMichal Hanzal – varhany  \nŠtěpánka Heřmánková  – soprán\,   Miroslav Laštovka – trubka \n. \nPROGRAM: \nM. – A. CHARPENTIER –  Te Deum – preludium \nW. A. MOZART  – FIGAROVA SVATBA: \nW. A. MOZART – Overture \nW. A. MOZART – Aria: „Non piu andrai“ \nW. A. MOZART – Aria: „Deh vieni non tardar o gioia bella“ \nA. VIVALDI  – Concerto a moll (v úpravě J. S. Bacha) \nJ. HAYDN – Hymnus „Gott erhalte Franz und Kaiser“ \nG. F. HAENDEL  – Aria: He shall feed his flock“ \nG. F. HAENDEL – Aria: Hallelujah“ \nG. F. HAENDEL – Aria: „Rejoice greatly“ \nJ. S. BACH – Preludium a fuga G-dur \nG. F. TELEMANN – Allegro Spiritiuoso \nG. F. HAENDEL – Hornpipe \nF. SCHUBERT – AVE MARIA \nW. A. MOZART – ALLELUJA! – z kantáty Exultate\, Jubilate \nzměna programu vyhrazena\, cca 60 minut \n\nTento tip na kulturní akci v Praha najdete v přehledu na Dnesnivylet.cz spolu s dalšími koncerty\, festivaly a divadelními představeními.Každý si vybere co se mu líbí. Nezapomeňte koupit vstupenky včas\, stačí kliknout a budete přesměrování na oficiálního prodejce vstupenek.
URL:https://dnesnivylet.cz/event/kvetnovy-varhanni-koncert/
LOCATION:Kostel sv. Klimenta\, Praha\, Kostel sv. Klimenta\, Praha\, Česká republika
CATEGORIES:Koncert
ATTACH;FMTTYPE=image/jpeg:https://dnesnivylet.cz/wp-content/uploads/2026/02/320-43dfa83f3b554041bcfec475ca91c32a.jpg
END:VEVENT
BEGIN:VEVENT
DTSTART;TZID=Europe/Prague:20260514T190000
DTEND;TZID=Europe/Prague:20260514T220000
DTSTAMP:20260419T143957
CREATED:20251214T070501Z
LAST-MODIFIED:20251214T070501Z
UID:15068-1778785200-1778796000@dnesnivylet.cz
SUMMARY:Adele - The show from London 2026
DESCRIPTION:Adele – The show from London 2026 se uskuteční dne 2026-05-14 v 19:00 v Praha\, Divadlo Broadway. \n🎟️ Koupit vstupenku \n\nZažijte výjimečný večer věnovaný jedné z největších hudebních ikon současnosti! Připravte se na strhující show v podání světově uznávané tribute kapely Adele Hometown Glory\, která vás uchvátí svou autentičností a hudební dokonalostí! \n‚Adele Tribute Hometown Glory‘ je dokonalou poctou světově proslulé a milované soulové zpěvačce Adele. Během strhujícího hodinového a půl koncertu uslyšíte nejznámější hity této šestnáctinásobné držitelky Grammy\, vítězky Zlatého glóbu a Oscara za ikonickou titulní píseň k bondovskému filmu „Skyfall“. Tato show vás přenese do světa nezapomenutelných melodií a emocí! \nShow Hometown Glory Tribute již uchvátila publikum po celém světě a nadále sbírá vynikající recenze. Nenechte si ujít jedinečnou příležitost zažít toto velkolepé hudební představení na vlastní kůži. Za doprovodu živé kapely\, která využívá nejmodernější technologie zvuku\, osvětlení a efekty\, vám přinášíme nádherně zpracovanou poctu jedné z nejvýznamnějších zpěvaček naší generace. Tato show je nezapomenutelným zážitkem\, který prostě musíte vidět! \n\nTento tip na kulturní akci v Praha najdete v přehledu na Dnesnivylet.cz spolu s dalšími koncerty\, festivaly a divadelními představeními.Každý si vybere co se mu líbí. Nezapomeňte koupit vstupenky včas\, stačí kliknout a budete přesměrování na oficiálního prodejce vstupenek.
URL:https://dnesnivylet.cz/event/adele-the-show-from-london-2026-2/
LOCATION:Divadlo Broadway\, Praha\, Divadlo Broadway\, Praha\, Česká republika
CATEGORIES:Koncert
ATTACH;FMTTYPE=image/jpeg:https://dnesnivylet.cz/wp-content/uploads/2025/12/320-74ee3525594544689599336614a5679d.jpg
END:VEVENT
END:VCALENDAR