BEGIN:VCALENDAR
VERSION:2.0
PRODID:-//www.dnesnivylet.cz                                                                                                                        Tip na výlet pro celou rodinu. - ECPv6.15.13.1//NONSGML v1.0//EN
CALSCALE:GREGORIAN
METHOD:PUBLISH
X-WR-CALNAME:www.dnesnivylet.cz                                                                                                                        Tip na výlet pro celou rodinu.
X-ORIGINAL-URL:https://dnesnivylet.cz
X-WR-CALDESC:Akce na www.dnesnivylet.cz                                                                                                                        Tip na výlet pro celou rodinu.
REFRESH-INTERVAL;VALUE=DURATION:PT1H
X-Robots-Tag:noindex
X-PUBLISHED-TTL:PT1H
BEGIN:VTIMEZONE
TZID:Europe/Prague
BEGIN:DAYLIGHT
TZOFFSETFROM:+0100
TZOFFSETTO:+0200
TZNAME:CEST
DTSTART:20250330T010000
END:DAYLIGHT
BEGIN:STANDARD
TZOFFSETFROM:+0200
TZOFFSETTO:+0100
TZNAME:CET
DTSTART:20251026T010000
END:STANDARD
BEGIN:DAYLIGHT
TZOFFSETFROM:+0100
TZOFFSETTO:+0200
TZNAME:CEST
DTSTART:20260329T010000
END:DAYLIGHT
BEGIN:STANDARD
TZOFFSETFROM:+0200
TZOFFSETTO:+0100
TZNAME:CET
DTSTART:20261025T010000
END:STANDARD
BEGIN:DAYLIGHT
TZOFFSETFROM:+0100
TZOFFSETTO:+0200
TZNAME:CEST
DTSTART:20270328T010000
END:DAYLIGHT
BEGIN:STANDARD
TZOFFSETFROM:+0200
TZOFFSETTO:+0100
TZNAME:CET
DTSTART:20271031T010000
END:STANDARD
END:VTIMEZONE
BEGIN:VEVENT
DTSTART;TZID=Europe/Prague:20260528T190000
DTEND;TZID=Europe/Prague:20260528T220000
DTSTAMP:20260419T143909
CREATED:20260321T195841Z
LAST-MODIFIED:20260321T195841Z
UID:19780-1779994800-1780005600@dnesnivylet.cz
SUMMARY:RAZAM a Iva Marešová
DESCRIPTION:RAZAM a Iva Marešová se uskuteční dne 2026-05-28 v 19:00 v Praha\, Letní scéna Vyšehrad. \n🎟️ Koupit vstupenku \n\nMilí přátelé\, \ndovolte mi Vás pozvat na jarně provoněný a výjimečný koncert skupiny RAZAM a IVY MAREŠOVÉ\, který proběhne dne 28. 5. 2026 od 19:00 v prostorách letní scény na pražském Vyšehradě.  \nOd tohoto seskupení můžete očekávat mimořádný hudební zážitek\, styl Worldmusic\, který je inspirován silnými slovanskými kořeny. Hudebníci RAZAM se vrací k lidským hodnotám\, které se z naší společnosti rychle vytrácejí. Dalo by se říci\, že se ve své tvorbě snaží co nejvíce přiblížit sami k sobě\, bez ohledu na to\, co si hudební trh žádá. Pokud bychom pro jejich vystoupení měli najít jedno určující slovo\, je to autenticita.  \nRádi bychom tento večer pojali nejen jako koncert\, ale i jako přátelské setkání s Vámi se všemi. Prostory letní scény se pro Vás otevřou už hodinu před koncertem\, abychom si mohli popovídat při sklence dobrého vína.   \nPřípadné dotazy směřujte na Jitka Bláhová\, tel. 737 256 811. \n  \nNa setkání s Vámi se těší \n Jitka & skupina Razam a Iva Marešová \n  \n  \n  \n  \n  \n  \n\nTento tip na kulturní akci v Praha najdete v přehledu na Dnesnivylet.cz spolu s dalšími koncerty\, festivaly a divadelními představeními.Každý si vybere co se mu líbí. Nezapomeňte koupit vstupenky včas\, stačí kliknout a budete přesměrování na oficiálního prodejce vstupenek.
URL:https://dnesnivylet.cz/event/razam-a-iva-maresova/
LOCATION:Letní scéna Vyšehrad\, Praha\, Letní scéna Vyšehrad\, Praha\, Česká republika
CATEGORIES:Koncert
ATTACH;FMTTYPE=image/jpeg:https://dnesnivylet.cz/wp-content/uploads/2026/03/320-b887533c11be40f7bf294997a08f81e6.jpg
END:VEVENT
END:VCALENDAR