BEGIN:VCALENDAR
VERSION:2.0
PRODID:-//www.dnesnivylet.cz                                                                                                                        Tip na výlet pro celou rodinu. - ECPv6.15.13.1//NONSGML v1.0//EN
CALSCALE:GREGORIAN
METHOD:PUBLISH
X-ORIGINAL-URL:https://dnesnivylet.cz
X-WR-CALDESC:Akce na www.dnesnivylet.cz                                                                                                                        Tip na výlet pro celou rodinu.
REFRESH-INTERVAL;VALUE=DURATION:PT1H
X-Robots-Tag:noindex
X-PUBLISHED-TTL:PT1H
BEGIN:VTIMEZONE
TZID:Europe/Prague
BEGIN:DAYLIGHT
TZOFFSETFROM:+0100
TZOFFSETTO:+0200
TZNAME:CEST
DTSTART:20250330T010000
END:DAYLIGHT
BEGIN:STANDARD
TZOFFSETFROM:+0200
TZOFFSETTO:+0100
TZNAME:CET
DTSTART:20251026T010000
END:STANDARD
BEGIN:DAYLIGHT
TZOFFSETFROM:+0100
TZOFFSETTO:+0200
TZNAME:CEST
DTSTART:20260329T010000
END:DAYLIGHT
BEGIN:STANDARD
TZOFFSETFROM:+0200
TZOFFSETTO:+0100
TZNAME:CET
DTSTART:20261025T010000
END:STANDARD
BEGIN:DAYLIGHT
TZOFFSETFROM:+0100
TZOFFSETTO:+0200
TZNAME:CEST
DTSTART:20270328T010000
END:DAYLIGHT
BEGIN:STANDARD
TZOFFSETFROM:+0200
TZOFFSETTO:+0100
TZNAME:CET
DTSTART:20271031T010000
END:STANDARD
END:VTIMEZONE
BEGIN:VEVENT
DTSTART;TZID=Europe/Prague:20260821T190000
DTEND;TZID=Europe/Prague:20260821T220000
DTSTAMP:20260419T220515
CREATED:20260306T172345Z
LAST-MODIFIED:20260306T172348Z
UID:19018-1787338800-1787349600@dnesnivylet.cz
SUMMARY:Velká letní show Ratíškovice
DESCRIPTION:Velká letní show Ratíškovice  se uskuteční dne 2026-08-21 v 19:00 v Ratíškovice\, Letní parket Baník Ratíškovice. \n🎟️ Koupit vstupenku \n\nVelká letní show v Ratíškovicích\, plná humoru\, písniček a dobré nálady. \n21.8.2026 v 19:00 hodin\, letní scéna Spolkového domu Ratíškovice. \n  \n\nTento tip na kulturní akci v Ratíškovice najdete v přehledu na Dnesnivylet.cz spolu s dalšími koncerty\, festivaly a divadelními představeními.Každý si vybere co se mu líbí. Nezapomeňte koupit vstupenky včas\, stačí kliknout a budete přesměrování na oficiálního prodejce vstupenek.
URL:https://dnesnivylet.cz/event/velka-letni-show-ratiskovice/
LOCATION:Letní parket Baník Ratíškovice\, Ratíškovice\, Letní parket Baník Ratíškovice\, Ratíškovice\, Česká republika
CATEGORIES:Zábava
ATTACH;FMTTYPE=image/jpeg:https://dnesnivylet.cz/wp-content/uploads/2026/03/320-718a505a400642fb9791353689dc0817.jpg
END:VEVENT
END:VCALENDAR